{"text_format":"1","workbook":"xlsx","n_sheets":42,"sheets":["Stavba","100 3236100 KL","100 3236100 Rek","100 3236100 Pol","101 3236101 KL","101 3236101 Rek","101 3236101 Pol","102 3236102 KL","102 3236102 Rek","102 3236102 Pol","301 3236301 KL","301 3236301 Rek","301 3236301 Pol","302 3236302 KL","302 3236302 Rek","302 3236302 Pol","303 3236303 KL","303 3236303 Rek","303 3236303 Pol","304 3236304.1 KL","304 3236304.1 Rek","304 3236304.1 Pol","304 3236304.2 KL","304 3236304.2 Rek","304 3236304.2 Pol","305 3236305 KL","305 3236305 Rek","305 3236305 Pol","306 3236306.1 KL","306 3236306.1 Rek","306 3236306.1 Pol","306 3236306.2 KL","306 3236306.2 Rek","306 3236306.2 Pol","401 3236401 KL","401 3236401 Rek","401 3236401 Pol","401 326401_ Elektro VO","501 3236501 KL","501 3236501 Rek","501 3236501 Pol","ONS"],"not_rendered":{"charts":0,"images":0,"macros":0,"external_links":0,"defined_names":153,"comments":0,"pivot_tables":0},"unopened":[],"bounds":{"document_bytes":16777216,"sheet_cells":100000,"rows_first":2000,"rows_last":500,"rows_between":2000,"halvings":0,"cell_chars":16384,"cell_head_chars":4096},"cells_cut":0,"cells_raw":0,"read":"whole","date_system":"1900"}

{"sheet":"Stavba","index":0,"n_rows":59,"n_cols":10,"rows_kept":59,"cut":false,"hidden":false,"merged":[[18,8,18,9],[19,8,19,9],[20,8,20,9],[21,8,21,9],[22,8,22,9]]}
[]
[null,null,"Položkový rozpočet stavby cenové nabídky",null,null,null,null,"Datum: "]
[null,null,null," "]
[]
[null,null,"Stavba :","3236","Bytová zóna Hruštice - Károvsko - Etapa VII."]
[]
[null,null,"Objednatel : ","Město TURNOV",null,null,null,"IČO :","00276227"]
[null,null,null,"Antonína Dvořáka 335",null,null,null,"DIČ :","CZ00276227"]
[null,null,"51122","Turnov"]
[]
[null,null,"Zhotovitel : ",".",null,null,null,"IČO :"]
[null,null,null,null,null,null,null,"DIČ :"]
[]
[null,null,"Za zhotovitele :",null,null,null,null,"Za objednatele :"]
[]
[null,null,"_______________",null,null,null,null,"_______________"]
[]
[null,null,null,null,null,null,null,null,null,"Rozpočtové náklady"]
[null,"Základ pro DPH",null,15,"%",null,null,null,{"$f":"ROUND(G41,0)","v":0}]
[null,"DPH ",null,{"$f":"SazbaDPH1","v":15},"%",null,null,null,{"$f":"ROUND(I19*D20/100,0)","v":0}]
[null,"Základ pro DPH",null,21,"%",null,null,null,{"$f":"ROUND(H41,0)","v":150000}]
[null,"DPH ",null,{"$f":"SazbaDPH2","v":21},"%",null,null,null,{"$f":"ROUND(I21*D21/100,0)","v":31500}]
[null,"Cena celkem za stavbu",null,null,null,null,null,null,{"$f":"SUM(I19:I22)","v":181500}]
[]
[null,"Rekapitulace stavebních objektů a provozních souborů"]
[]
[null,"Číslo a název objektu / provozního souboru",null,null,null,"Cena celkem",{"$f":"CONCATENATE(\"Základ DPH \",SazbaDPH1,\" %\")","v":"Základ DPH 15 %"},{"$f":"CONCATENATE(\"Základ DPH \",SazbaDPH2,\" %\")","v":"Základ DPH 21 %"},"DPH celkem","%"]
[null,"100","Příprava území",null,null,{"$f":"G28+H28+I28","v":0},0,{"$f":"SUM(H46)","v":0},{"$f":"(G28*SazbaDPH1)/100+(H28*SazbaDPH2)/100","v":0},{"$f":"IF(CelkemObjekty=0,\"\",F28/CelkemObjekty*100)","v":0}]
[null,"101","Komunikace č.1",null,null,{"$f":"G29+H29+I29","v":0},0,0,0,0]
[null,"102","Komunikace č.2",null,null,0,0,0,0,0]
[null,"301","Přeložka jednotné kanalizace",null,null,0,0,0,0,0]
[null,"302","Přeložka vodovodu TLT DN250",null,null,0,0,0,0,0]
[null,"303","Přeložka vodovodu TLT DN100",null,null,0,0,0,0,0]
[null,"304","Jednotná kanalizace, přípojky",null,null,0,0,{"$f":"SUM(H52:H53)","v":0},0,0]
[null,"305","Odvodnění komunikace",null,null,0,0,{"$f":"SUM(H54)","v":0},0,0]
[null,"306","Prodloužení vodovodu, přípojky",null,null,0,0,{"$f":"SUM(H55:H56)","v":0},0,0]
[null,"401","Veřejné osvětlení",null,null,0,0,{"$f":"SUM(H57)","v":0},0,0]
[null,"501","Prodloužení STL plynovodu, přípojky",null,null,0,0,{"$f":"SUM(H58)","v":0},0,0]
[null,"ONS","Ostatní náklady stavby",null,null,0,0,{"$f":"SUM(ONS!G25)","v":0},0,0]
[null,"PV","Povinná rezerva pro 301 až 304 a 306",null,null,181500,0,150000,31500,100]
[null,"Celkem za stavbu",null,null,null,{"$f":"SUM(F28:F40)","v":181500},{"$f":"SUM(G28:G40)","v":0},{"$f":"SUM(H28:H40)","v":150000},{"$f":"SUM(I28:I40)","v":31500},{"$f":"IF(CelkemObjekty=0,\"\",F41/CelkemObjekty*100)","v":100}]
[]
[null,"Rekapitulace stavebních rozpočtů"]
[]
[null,"Číslo objektu","Číslo a název rozpočtu",null,null,"Cena celkem",{"$f":"CONCATENATE(\"Základ DPH \",SazbaDPH1,\" %\")","v":"Základ DPH 15 %"},{"$f":"CONCATENATE(\"Základ DPH \",SazbaDPH2,\" %\")","v":"Základ DPH 21 %"},"DPH celkem","%"]
[null,"100","3236/100 Příprava území",null,null,{"$f":"G46+H46+I46","v":0},0,{"$f":"SUM('100 3236100 KL'!C23)","v":0},{"$f":"(G46*SazbaDPH1)/100+(H46*SazbaDPH2)/100","v":0},{"$f":"IF(CelkemObjekty=0,\"\",F46/CelkemObjekty*100)","v":0}]
[null,"101","3236/101 Komunikace č.1 - 1.etapa",null,null,{"$f":"G47+H47+I47","v":0},0,{"$f":"SUM('101 3236101 KL'!C23)","v":0},0,0]
[null,"102","3236/102 Komunikace č.2 - 1.etapa",null,null,0,0,{"$f":"SUM('102 3236102 KL'!C23)","v":0},0,0]
[null,"301","3236/301 Přeložka jednotné kanalizace",null,null,0,0,{"$f":"SUM('301 3236301 KL'!C23)","v":0},0,0]
[null,"302","3236/302 Přeložka vodovodu TLT DN250",null,null,0,0,{"$f":"SUM('302 3236302 KL'!C23)","v":0},0,0]
[null,"303","3236/303 Přeložka vodovodu TLT DN100",null,null,0,0,{"$f":"SUM('303 3236303 KL'!C23)","v":0},0,0]
[null,"304","3236/304.1 Jednotná kanalizace",null,null,0,0,{"$f":"SUM('304 3236304.1 KL'!C23)","v":0},0,0]
[null,"304","3236/304.2  Jednotná kanalizace - přípojky",null,null,0,0,{"$f":"SUM('304 3236304.2 KL'!C23)","v":0},0,0]
[null,"305","3236/305 Odvodnění komunikace",null,null,0,0,{"$f":"SUM('305 3236305 KL'!C23)","v":0},0,0]
[null,"306","3236/306.1 Prodloužení vodovodu",null,null,0,0,{"$f":"SUM('306 3236306.1 KL'!C23)","v":0},0,0]
[null,"306","3236/306.2 Prodloužení vodovodu - přípojky",null,null,0,0,{"$f":"SUM('306 3236306.2 KL'!C23)","v":0},0,0]
[null,"401","3236/401 Veřejné osvětlení",null,null,0,0,{"$f":"SUM('401 3236401 KL'!C23)","v":0},0,0]
[null,"501","3236/501 Prodloužení STL plynovodu, přípojky",null,null,0,0,{"$f":"SUM('501 3236501 KL'!C23)","v":0},0,0]
[null,"Celkem za stavbu",null,null,null,{"$f":"SUM(F46:F58)","v":0},{"$f":"SUM(G46:G58)","v":0},{"$f":"SUM(H46:H58)","v":0},{"$f":"SUM(I46:I58)","v":0},{"$f":"IF(CelkemObjekty=0,\"\",F59/CelkemObjekty*100)","v":0}]

{"sheet":"100 3236100 KL","index":1,"n_rows":45,"n_cols":8,"rows_kept":45,"cut":false,"hidden":false,"merged":[[22,0,22,1],[7,2,7,4],[8,2,8,4],[9,2,9,4],[10,2,10,4],[11,2,11,4],[50,1,50,6],[29,5,29,6],[30,5,30,6],[31,5,31,6],[32,5,32,6],[33,5,33,6],[36,1,44,6],[45,1,45,6],[46,1,46,6],[47,1,47,6],[48,1,48,6],[49,1,49,6]]}
["POLOŽKOVÝ ROZPOČET"]
["Rozpočet",null,"3236/100","Příprava území",null,"JKSO ","823"]
[]
["Objekt",null,null,null,null,"SKP "]
["100",null,"Příprava území",null,null,"Měrná jednotka","m2"]
["Stavba",null,null,null,null,"Počet jednotek",0]
["3236",null,"Bytová zóna Hruštice - Károvsko - Etapa VII.",null,null,"Náklady na m.j.",{"$f":"IF(G6=0,,ROUND((F30+F32)/G6,1))","v":0}]
["Projektant",null,"PROFES PROJEKT spol.s r.o.",null,null,"Typ rozpočtu"]
["Zpracovatel projektu"]
["Objednatel",null,"Město TURNOV"]
["Dodavatel",null,".",null,null,"Zakázkové číslo "]
["Rozpočtoval",null,null,null,null,"Počet listů"]
["ROZPOČTOVÉ NÁKLADY"]
["Základní rozpočtové náklady"]
[null,"HSV celkem",{"$f":"'100 3236100 Rek'!E8","v":0}]
["Z","PSV celkem",{"$f":"'100 3236100 Rek'!F8","v":0}]
["R","M práce celkem",{"$f":"'100 3236100 Rek'!H8","v":0}]
["N","M dodávky celkem",{"$f":"'100 3236100 Rek'!G8","v":0}]
["ZRN celkem",null,{"$f":"SUM(C15:C18)","v":0}]
[]
["HZS",null,{"$f":"'100 3236100 Rek'!I8","v":0}]
["ZRN+HZS",null,{"$f":"C19+C21","v":0}]
["ZRN+ost.náklady+HZS",null,{"$f":"C22+G23","v":0}]
["Vypracoval",null,null,"Za zhotovitele",null,"Za objednatele"]
["Jméno :",null,null,"Jméno :",null,"Jméno :"]
["Datum :",null,null,"Datum :",null,"Datum :"]
[]
["Podpis :",null,null,"Podpis:",null,"Podpis:"]
[]
["Základ pro DPH",null,21,"%  ",null,{"$f":"C23-F32","v":0}]
["DPH",null,{"$f":"C30","v":21},"% ",null,{"$f":"ROUND(PRODUCT(F30,C31/100),0)","v":0}]
["Základ pro DPH",null,0,"% ",null,0]
["DPH",null,{"$f":"C32","v":0},"% ",null,{"$f":"ROUND(PRODUCT(F32,C33/100),0)","v":0}]
["CENA ZA OBJEKT CELKEM",null,null,null,null,{"$f":"ROUND(SUM(F30:F33),0)","v":0}]
[]
["Poznámka :",null,null,null,null,null,null," "]
[null,null,null,null,null,null,null," "]
[null,null,null,null,null,null,null," "]
[null,null,null,null,null,null,null," "]
[null,null,null,null,null,null,null," "]
[null,null,null,null,null,null,null," "]
[null,null,null,null,null,null,null," "]
[null,null,null,null,null,null,null," "]
[null,null,null,null,null,null,null," "]
[null,null,null,null,null,null,null," "]

{"sheet":"100 3236100 Rek","index":2,"n_rows":8,"n_cols":9,"rows_kept":8,"cut":false,"hidden":false,"merged":[[0,0,0,1],[1,0,1,1],[1,6,1,8]]}
["Stavba :",null,"3236 Bytová zóna Hruštice - Károvsko - Etapa VII.",null,null,null,"Rozpočet :","3236/100"]
["Objekt :",null,"100 Příprava území",null,null,null,"Příprava území"]
[]
["REKAPITULACE  STAVEBNÍCH  DÍLŮ"]
[]
[null,"Stavební díl",null,null,"HSV","PSV","Dodávka","Montáž","HZS"]
[{"$f":"'100 3236100 Pol'!B7","v":"1"},{"$f":"'100 3236100 Pol'!C7","v":"Zemní práce"},null,null,{"$f":"'100 3236100 Pol'!BA34","v":0},{"$f":"'100 3236100 Pol'!BB34","v":0},{"$f":"'100 3236100 Pol'!BC34","v":0},{"$f":"'100 3236100 Pol'!BD34","v":0},{"$f":"'100 3236100 Pol'!BE34","v":0}]
[null,"CELKEM  OBJEKT",null,null,{"$f":"SUM(E7:E7)","v":0},{"$f":"SUM(F7:F7)","v":0},{"$f":"SUM(G7:G7)","v":0},{"$f":"SUM(H7:H7)","v":0},{"$f":"SUM(I7:I7)","v":0}]

{"sheet":"100 3236100 Pol","index":3,"n_rows":34,"n_cols":80,"rows_kept":34,"cut":false,"hidden":false,"merged":[[19,2,19,3],[0,0,0,6],[2,0,2,1],[3,0,3,1],[3,4,3,6],[8,2,8,6],[9,2,9,3],[10,2,10,3],[11,2,11,3],[13,2,13,3],[14,2,14,3],[15,2,15,3],[16,2,16,3],[18,2,18,3],[28,2,28,3],[30,2,30,3],[31,2,31,3],[32,2,32,3],[20,2,20,3],[22,2,22,3],[23,2,23,3],[24,2,24,3],[26,2,26,3],[27,2,27,3]]}
["Položkový rozpočet "]
[]
["Stavba :",null,"3236 Bytová zóna Hruštice - Károvsko - Etapa VII.",null,"Rozpočet:",{"$f":"'100 3236100 Rek'!H1","v":"3236/100"}]
["Objekt :",null,"100 Příprava území",null,{"$f":"'100 3236100 Rek'!G2","v":"Příprava území"}]
[]
["P.č.","Číslo položky","Název položky","MJ","množství","cena / MJ","celkem (Kč)","Jednotková hmotnost","Celková hmotnost","Jednotková dem.hmot.","Celková dem.hmot."]
["Díl:","1","Zemní práce",null,null,null,null,null,null,null,null,null,null,null,1]
[1,"121100001RAB","Sejmutí ornice, naložení, odvoz a uložení odvoz do 5 km","m3",356.7,null,{"$f":"E8*F8","v":0},0,{"$f":"E8*H8","v":0},0,{"$f":"E8*J8","v":0},null,null,null,2,null,null,null,null,null,null,null,null,null,null,null,1,1,1,null,null,null,null,null,null,null,null,null,null,null,null,null,null,null,null,null,null,null,null,null,null,1,{"$f":"IF(AZ8=1,G8,0)","v":0},{"$f":"IF(AZ8=2,G8,0)","v":0},{"$f":"IF(AZ8=3,G8,0)","v":0},{"$f":"IF(AZ8=4,G8,0)","v":0},{"$f":"IF(AZ8=5,G8,0)","v":0},null,null,null,null,null,null,null,null,null,null,null,null,null,null,null,null,null,null,null,null,null,1,1]
[null,null,"Odvoz na skládku investora",null,null,null,null,null,null,null,null,"Odvoz na skládku investora",null,null,3]
[null,null,"Pro SO 101 Komunikace č.1 - 1. část:229,50",null,229.5,null,null,null,null,null,null,null,"Pro SO 101 Komunikace č.1 - 1. část:229,50"]
[null,null,"Pro SO 101 Komunikace č.1 - 2.část:88,20",null,88.2,null,null,null,null,null,null,null,"Pro SO 101 Komunikace č.1 - 2.část:88,20"]
[null,null,"Pro SO 102 Komunikace č.2:39,00",null,39,null,null,null,null,null,null,null,"Pro SO 102 Komunikace č.2:39,00"]
[2,"122202202R00","Odkopávky pro silnice v hor. 3 do 1000 m3 ","m3",713.3,null,{"$f":"E13*F13","v":0},0,{"$f":"E13*H13","v":0},0,{"$f":"E13*J13","v":0},null,null,null,2,null,null,null,null,null,null,null,null,null,null,null,1,1,1,null,null,null,null,null,null,null,null,null,null,null,null,null,null,null,null,null,null,null,null,null,null,1,{"$f":"IF(AZ13=1,G13,0)","v":0},{"$f":"IF(AZ13=2,G13,0)","v":0},{"$f":"IF(AZ13=3,G13,0)","v":0},{"$f":"IF(AZ13=4,G13,0)","v":0},{"$f":"IF(AZ13=5,G13,0)","v":0},null,null,null,null,null,null,null,null,null,null,null,null,null,null,null,null,null,null,null,null,null,1,1]
[null,null,"Odkopávky na úroveň pláně komunikací:",null,0,null,null,null,null,null,null,null,"Odkopávky na úroveň pláně komunikací:"]
[null,null,"Pro SO 101 Komunikace č.1 - 1. část:434,60",null,434.6,null,null,null,null,null,null,null,"Pro SO 101 Komunikace č.1 - 1. část:434,60"]
[null,null,"Pro SO 101 Komunikace č.1 - 2.část:203,10",null,203.1,null,null,null,null,null,null,null,"Pro SO 101 Komunikace č.1 - 2.část:203,10"]
[null,null,"Pro SO 102 Komunikace č.2:75,60",null,75.599999999999994,null,null,null,null,null,null,null,"Pro SO 102 Komunikace č.2:75,60"]
[3,"122202209R00","Příplatek za lepivost - odkop. pro silnice v hor.3 ","m3",356.65,null,{"$f":"E18*F18","v":0},0,{"$f":"E18*H18","v":0},0,{"$f":"E18*J18","v":0},null,null,null,2,null,null,null,null,null,null,null,null,null,null,null,1,1,1,null,null,null,null,null,null,null,null,null,null,null,null,null,null,null,null,null,null,null,null,null,null,1,{"$f":"IF(AZ18=1,G18,0)","v":0},{"$f":"IF(AZ18=2,G18,0)","v":0},{"$f":"IF(AZ18=3,G18,0)","v":0},{"$f":"IF(AZ18=4,G18,0)","v":0},{"$f":"IF(AZ18=5,G18,0)","v":0},null,null,null,null,null,null,null,null,null,null,null,null,null,null,null,null,null,null,null,null,null,1,1]
[null,null,"Pro SO 101 Komunikace č.1 - 1. část:434,60*0,5",null,217.3,null,null,null,null,null,null,null,"Pro SO 101 Komunikace č.1 - 1. část:434,60*0,5"]
[null,null,"Pro SO 101 Komunikace č.1 - 2.část:203,10*0,5",null,101.55,null,null,null,null,null,null,null,"Pro SO 101 Komunikace č.1 - 2.část:203,10*0,5"]
[null,null,"Pro SO 102 Komunikace č.2:75,60*0,5",null,37.799999999999997,null,null,null,null,null,null,null,"Pro SO 102 Komunikace č.2:75,60*0,5"]
[4,"162701105RSZ","Vodorovné přemístění výkopku z hor.1-7 na skládku zhotovitele","m3",713.3,null,{"$f":"E22*F22","v":0},0,{"$f":"E22*H22","v":0},0,{"$f":"E22*J22","v":0},null,null,null,2,null,null,null,null,null,null,null,null,null,null,null,1,1,1,null,null,null,null,null,null,null,null,null,null,null,null,null,null,null,null,null,null,null,null,null,null,1,{"$f":"IF(AZ22=1,G22,0)","v":0},{"$f":"IF(AZ22=2,G22,0)","v":0},{"$f":"IF(AZ22=3,G22,0)","v":0},{"$f":"IF(AZ22=4,G22,0)","v":0},{"$f":"IF(AZ22=5,G22,0)","v":0},null,null,null,null,null,null,null,null,null,null,null,null,null,null,null,null,null,null,null,null,null,1,1]
[null,null,"Pro SO 101 Komunikace č.1 - 1. část:434,60",null,434.6,null,null,null,null,null,null,null,"Pro SO 101 Komunikace č.1 - 1. část:434,60"]
[null,null,"Pro SO 101 Komunikace č.1 - 2.část:203,10",null,203.1,null,null,null,null,null,null,null,"Pro SO 101 Komunikace č.1 - 2.část:203,10"]
[null,null,"Pro SO 102 Komunikace č.2:75,60",null,75.599999999999994,null,null,null,null,null,null,null,"Pro SO 102 Komunikace č.2:75,60"]
[5,"181101102R00","Úprava pláně v zářezech v hor. 1-4, se zhutněním ","m2",2263,null,{"$f":"E26*F26","v":0},0,{"$f":"E26*H26","v":0},0,{"$f":"E26*J26","v":0},null,null,null,2,null,null,null,null,null,null,null,null,null,null,null,1,1,1,null,null,null,null,null,null,null,null,null,null,null,null,null,null,null,null,null,null,null,null,null,null,1,{"$f":"IF(AZ26=1,G26,0)","v":0},{"$f":"IF(AZ26=2,G26,0)","v":0},{"$f":"IF(AZ26=3,G26,0)","v":0},{"$f":"IF(AZ26=4,G26,0)","v":0},{"$f":"IF(AZ26=5,G26,0)","v":0},null,null,null,null,null,null,null,null,null,null,null,null,null,null,null,null,null,null,null,null,null,1,1]
[null,null,"Pro SO 101 Komunikace č.1 - 1. část:1445,00",null,1445,null,null,null,null,null,null,null,"Pro SO 101 Komunikace č.1 - 1. část:1445,00"]
[null,null,"Pro SO 101 Komunikace č.1 - 2.část:558,00",null,558,null,null,null,null,null,null,null,"Pro SO 101 Komunikace č.1 - 2.část:558,00"]
[null,null,"Pro SO 102 Komunikace č.2:260,00",null,260,null,null,null,null,null,null,null,"Pro SO 102 Komunikace č.2:260,00"]
[6,"199000002R00","Poplatek za skládku horniny 1- 7 ","m3",356.65,null,{"$f":"E30*F30","v":0},0,{"$f":"E30*H30","v":0},0,{"$f":"E30*J30","v":0},null,null,null,2,null,null,null,null,null,null,null,null,null,null,null,1,1,1,null,null,null,null,null,null,null,null,null,null,null,null,null,null,null,null,null,null,null,null,null,null,1,{"$f":"IF(AZ30=1,G30,0)","v":0},{"$f":"IF(AZ30=2,G30,0)","v":0},{"$f":"IF(AZ30=3,G30,0)","v":0},{"$f":"IF(AZ30=4,G30,0)","v":0},{"$f":"IF(AZ30=5,G30,0)","v":0},null,null,null,null,null,null,null,null,null,null,null,null,null,null,null,null,null,null,null,null,null,1,1]
[null,null,"Pro SO 101 Komunikace č.1 - 1. část:434,60*0,5",null,217.3,null,null,null,null,null,null,null,"Pro SO 101 Komunikace č.1 - 1. část:434,60*0,5"]
[null,null,"Pro SO 101 Komunikace č.1 - 2.část:203,10*0,5",null,101.55,null,null,null,null,null,null,null,"Pro SO 101 Komunikace č.1 - 2.část:203,10*0,5"]
[null,null,"Pro SO 102 Komunikace č.2:75,60*0,5",null,37.799999999999997,null,null,null,null,null,null,null,"Pro SO 102 Komunikace č.2:75,60*0,5"]
[null,"Celkem za","1 Zemní práce",null,null,null,{"$f":"SUM(G7:G33)","v":0},null,{"$f":"SUM(I7:I33)","v":0},null,{"$f":"SUM(K7:K33)","v":0},null,null,null,4,null,null,null,null,null,null,null,null,null,null,null,null,null,null,null,null,null,null,null,null,null,null,null,null,null,null,null,null,null,null,null,null,null,null,null,null,null,{"$f":"SUM(BA7:BA33)","v":0},{"$f":"SUM(BB7:BB33)","v":0},{"$f":"SUM(BC7:BC33)","v":0},{"$f":"SUM(BD7:BD33)","v":0},{"$f":"SUM(BE7:BE33)","v":0}]

{"sheet":"101 3236101 KL","index":4,"n_rows":45,"n_cols":8,"rows_kept":45,"cut":false,"hidden":false,"merged":[[22,0,22,1],[7,2,7,4],[8,2,8,4],[9,2,9,4],[10,2,10,4],[11,2,11,4],[50,1,50,6],[29,5,29,6],[30,5,30,6],[31,5,31,6],[32,5,32,6],[33,5,33,6],[36,1,44,6],[45,1,45,6],[46,1,46,6],[47,1,47,6],[48,1,48,6],[49,1,49,6]]}
["POLOŽKOVÝ ROZPOČET"]
["Rozpočet",null,"3236/101","Komunikace č.1 - 1.etapa",null,"JKSO ","822.27"]
[]
["Objekt",null,null,null,null,"SKP "]
["101",null,"Komunikace č.1",null,null,"Měrná jednotka","m2"]
["Stavba",null,null,null,null,"Počet jednotek",0]
["3236",null,"Bytová zóna Hruštice - Károvsko - Etapa VII.",null,null,"Náklady na m.j.",{"$f":"IF(G6=0,,ROUND((F30+F32)/G6,1))","v":0}]
["Projektant",null,"PROFES PROJEKT spol.s r.o.",null,null,"Typ rozpočtu"]
["Zpracovatel projektu"]
["Objednatel",null,"Město TURNOV"]
["Dodavatel",null,".",null,null,"Zakázkové číslo "]
["Rozpočtoval",null,null,null,null,"Počet listů"]
["ROZPOČTOVÉ NÁKLADY"]
["Základní rozpočtové náklady"]
[null,"HSV celkem",{"$f":"'101 3236101 Rek'!E11","v":0}]
["Z","PSV celkem",{"$f":"'101 3236101 Rek'!F11","v":0}]
["R","M práce celkem",{"$f":"'101 3236101 Rek'!H11","v":0}]
["N","M dodávky celkem",{"$f":"'101 3236101 Rek'!G11","v":0}]
["ZRN celkem",null,{"$f":"SUM(C15:C18)","v":0}]
[]
["HZS",null,{"$f":"'101 3236101 Rek'!I11","v":0}]
["ZRN+HZS",null,{"$f":"C19+C21","v":0}]
["ZRN+ost.náklady+HZS",null,{"$f":"C22+G23","v":0}]
["Vypracoval",null,null,"Za zhotovitele",null,"Za objednatele"]
["Jméno :",null,null,"Jméno :",null,"Jméno :"]
["Datum :",null,null,"Datum :",null,"Datum :"]
[]
["Podpis :",null,null,"Podpis:",null,"Podpis:"]
[]
["Základ pro DPH",null,21,"%  ",null,{"$f":"C23-F32","v":0}]
["DPH",null,{"$f":"C30","v":21},"% ",null,{"$f":"ROUND(PRODUCT(F30,C31/100),0)","v":0}]
["Základ pro DPH",null,0,"% ",null,0]
["DPH",null,{"$f":"C32","v":0},"% ",null,{"$f":"ROUND(PRODUCT(F32,C33/100),0)","v":0}]
["CENA ZA OBJEKT CELKEM",null,null,null,null,{"$f":"ROUND(SUM(F30:F33),0)","v":0}]
[]
["Poznámka :",null,null,null,null,null,null," "]
[null,null,null,null,null,null,null," "]
[null,null,null,null,null,null,null," "]
[null,null,null,null,null,null,null," "]
[null,null,null,null,null,null,null," "]
[null,null,null,null,null,null,null," "]
[null,null,null,null,null,null,null," "]
[null,null,null,null,null,null,null," "]
[null,null,null,null,null,null,null," "]
[null,null,null,null,null,null,null," "]

{"sheet":"101 3236101 Rek","index":5,"n_rows":11,"n_cols":9,"rows_kept":11,"cut":false,"hidden":false,"merged":[[0,0,0,1],[1,0,1,1],[1,6,1,8]]}
["Stavba :",null,"3236 Bytová zóna Hruštice - Károvsko - Etapa VII.",null,null,null,"Rozpočet :","3236/101"]
["Objekt :",null,"101 Komunikace č.1",null,null,null,"Komunikace č.1 - 1.etapa"]
[]
["REKAPITULACE  STAVEBNÍCH  DÍLŮ"]
[]
[null,"Stavební díl",null,null,"HSV","PSV","Dodávka","Montáž","HZS"]
[{"$f":"'101 3236101 Pol'!B7","v":"1"},{"$f":"'101 3236101 Pol'!C7","v":"Zemní práce"},null,null,{"$f":"'101 3236101 Pol'!BA54","v":0},{"$f":"'101 3236101 Pol'!BB54","v":0},{"$f":"'101 3236101 Pol'!BC54","v":0},{"$f":"'101 3236101 Pol'!BD54","v":0},{"$f":"'101 3236101 Pol'!BE54","v":0}]
[{"$f":"'101 3236101 Pol'!B55","v":"2"},{"$f":"'101 3236101 Pol'!C55","v":"Základy a zvláštní zakládání"},null,null,{"$f":"'101 3236101 Pol'!BA60","v":0},{"$f":"'101 3236101 Pol'!BB60","v":0},{"$f":"'101 3236101 Pol'!BC60","v":0},{"$f":"'101 3236101 Pol'!BD60","v":0},{"$f":"'101 3236101 Pol'!BE60","v":0}]
[{"$f":"'101 3236101 Pol'!B61","v":"5"},{"$f":"'101 3236101 Pol'!C61","v":"Komunikace"},null,null,{"$f":"'101 3236101 Pol'!BA91","v":0},{"$f":"'101 3236101 Pol'!BB91","v":0},{"$f":"'101 3236101 Pol'!BC91","v":0},{"$f":"'101 3236101 Pol'!BD91","v":0},{"$f":"'101 3236101 Pol'!BE91","v":0}]
[{"$f":"'101 3236101 Pol'!B92","v":"99"},{"$f":"'101 3236101 Pol'!C92","v":"Staveništní přesun hmot"},null,null,{"$f":"'101 3236101 Pol'!BA94","v":0},{"$f":"'101 3236101 Pol'!BB94","v":0},{"$f":"'101 3236101 Pol'!BC94","v":0},{"$f":"'101 3236101 Pol'!BD94","v":0},{"$f":"'101 3236101 Pol'!BE94","v":0}]
[null,"CELKEM  OBJEKT",null,null,{"$f":"SUM(E7:E10)","v":0},{"$f":"SUM(F7:F10)","v":0},{"$f":"SUM(G7:G10)","v":0},{"$f":"SUM(H7:H10)","v":0},{"$f":"SUM(I7:I10)","v":0}]

{"sheet":"101 3236101 Pol","index":6,"n_rows":94,"n_cols":80,"rows_kept":94,"cut":false,"hidden":false,"merged":[[18,2,18,3],[0,0,0,6],[2,0,2,1],[3,0,3,1],[3,4,3,6],[8,2,8,3],[9,2,9,3],[10,2,10,3],[11,2,11,3],[12,2,12,3],[13,2,13,3],[15,2,15,3],[16,2,16,3],[17,2,17,3],[32,2,32,3],[19,2,19,3],[20,2,20,3],[22,2,22,3],[23,2,23,3],[24,2,24,3],[25,2,25,3],[26,2,26,3],[27,2,27,3],[29,2,29,3],[30,2,30,3],[31,2,31,3],[47,2,47,3],[33,2,33,3],[34,2,34,3],[36,2,36,3],[37,2,37,3],[38,2,38,3],[39,2,39,3],[40,2,40,3],[41,2,41,3],[43,2,43,3],[44,2,44,3],[45,2,45,3],[48,2,48,3],[49,2,49,3],[50,2,50,3],[51,2,51,3],[52,2,52,3],[74,2,74,3],[56,2,56,6],[57,2,57,3],[58,2,58,3],[62,2,62,3],[63,2,63,3],[64,2,64,3],[66,2,66,3],[67,2,67,3],[68,2,68,3],[70,2,70,3],[71,2,71,3],[72,2,72,3],[89,2,89,3],[75,2,75,3],[77,2,77,3],[78,2,78,3],[79,2,79,3],[80,2,80,3],[82,2,82,3],[83,2,83,3],[84,2,84,3],[86,2,86,3],[87,2,87,3],[88,2,88,3]]}
["Položkový rozpočet "]
[]
["Stavba :",null,"3236 Bytová zóna Hruštice - Károvsko - Etapa VII.",null,"Rozpočet:",{"$f":"'101 3236101 Rek'!H1","v":"3236/101"}]
["Objekt :",null,"101 Komunikace č.1",null,{"$f":"'101 3236101 Rek'!G2","v":"Komunikace č.1 - 1.etapa"}]
[]
["P.č.","Číslo položky","Název položky","MJ","množství","cena / MJ","celkem (Kč)","Jednotková hmotnost","Celková hmotnost","Jednotková dem.hmot.","Celková dem.hmot."]
["Díl:","1","Zemní práce",null,null,null,null,null,null,null,null,null,null,null,1]
[1,"122202202R00","Odkopávky pro silnice v hor. 3 do 1000 m3 ","m3",413.8,null,{"$f":"E8*F8","v":0},0,{"$f":"E8*H8","v":0},0,{"$f":"E8*J8","v":0},null,null,null,2,null,null,null,null,null,null,null,null,null,null,null,1,1,1,null,null,null,null,null,null,null,null,null,null,null,null,null,null,null,null,null,null,null,null,null,null,1,{"$f":"IF(AZ8=1,G8,0)","v":0},{"$f":"IF(AZ8=2,G8,0)","v":0},{"$f":"IF(AZ8=3,G8,0)","v":0},{"$f":"IF(AZ8=4,G8,0)","v":0},{"$f":"IF(AZ8=5,G8,0)","v":0},null,null,null,null,null,null,null,null,null,null,null,null,null,null,null,null,null,null,null,null,null,1,1]
[null,null,"Od úrovně páně pro realizaci sanace:",null,0,null,null,null,null,null,null,null,"Od úrovně páně pro realizaci sanace:"]
[null,null,"Začátek provozního součtu",null,0,null,null,null,null,null,null,null,"Začátek provozního součtu"]
[null,null,"Komunikace č.1 - 1.část:170,00*8,80*0,40",null,598.4,null,null,null,null,null,null,null,"Komunikace č.1 - 1.část:170,00*8,80*0,40"]
[null,null,"Komunikace č.1 - 2.část:(60,00*8,80+10,00*4,50)*0,40",null,229.2,null,null,null,null,null,null,null,"Komunikace č.1 - 2.část:(60,00*8,80+10,00*4,50)*0,40"]
[null,null,"Konec provozního součtu",null,827.59999999999991,null,null,null,null,null,null,null,"Konec provozního součtu"]
[null,null,"V hornině tř. 3 - 50%:827,6000*0,5",null,413.8,null,null,null,null,null,null,null,"V hornině tř. 3 - 50%:827,6000*0,5"]
[2,"122202209R00","Příplatek za lepivost - odkop. pro silnice v hor.3 ","m3",206.9,null,{"$f":"E15*F15","v":0},0,{"$f":"E15*H15","v":0},0,{"$f":"E15*J15","v":0},null,null,null,2,null,null,null,null,null,null,null,null,null,null,null,1,1,1,null,null,null,null,null,null,null,null,null,null,null,null,null,null,null,null,null,null,null,null,null,null,1,{"$f":"IF(AZ15=1,G15,0)","v":0},{"$f":"IF(AZ15=2,G15,0)","v":0},{"$f":"IF(AZ15=3,G15,0)","v":0},{"$f":"IF(AZ15=4,G15,0)","v":0},{"$f":"IF(AZ15=5,G15,0)","v":0},null,null,null,null,null,null,null,null,null,null,null,null,null,null,null,null,null,null,null,null,null,1,1]
[null,null,"Od úrovně páně pro realizaci sanace:",null,0,null,null,null,null,null,null,null,"Od úrovně páně pro realizaci sanace:"]
[null,null,"Začátek provozního součtu",null,0,null,null,null,null,null,null,null,"Začátek provozního součtu"]
[null,null,"Komunikace č.1 - 1.část:170,00*8,80*0,40",null,598.4,null,null,null,null,null,null,null,"Komunikace č.1 - 1.část:170,00*8,80*0,40"]
[null,null,"Komunikace č.1 - 2.část:(60,00*8,80+10,00*4,50)*0,40",null,229.2,null,null,null,null,null,null,null,"Komunikace č.1 - 2.část:(60,00*8,80+10,00*4,50)*0,40"]
[null,null,"Konec provozního součtu",null,827.59999999999991,null,null,null,null,null,null,null,"Konec provozního součtu"]
[null,null,"V hornině tř. 3 - 50%:827,6000*0,5*0,5",null,206.9,null,null,null,null,null,null,null,"V hornině tř. 3 - 50%:827,6000*0,5*0,5"]
[3,"122302202R00","Odkopávky pro silnice v hor. 4 do 1000 m3 ","m3",413.8,null,{"$f":"E22*F22","v":0},0,{"$f":"E22*H22","v":0},0,{"$f":"E22*J22","v":0},null,null,null,2,null,null,null,null,null,null,null,null,null,null,null,1,1,1,null,null,null,null,null,null,null,null,null,null,null,null,null,null,null,null,null,null,null,null,null,null,1,{"$f":"IF(AZ22=1,G22,0)","v":0},{"$f":"IF(AZ22=2,G22,0)","v":0},{"$f":"IF(AZ22=3,G22,0)","v":0},{"$f":"IF(AZ22=4,G22,0)","v":0},{"$f":"IF(AZ22=5,G22,0)","v":0},null,null,null,null,null,null,null,null,null,null,null,null,null,null,null,null,null,null,null,null,null,1,1]
[null,null,"Od úrovně páně pro realizaci sanace:",null,0,null,null,null,null,null,null,null,"Od úrovně páně pro realizaci sanace:"]
[null,null,"Začátek provozního součtu",null,0,null,null,null,null,null,null,null,"Začátek provozního součtu"]
[null,null,"Komunikace č.1 - 1.část:170,00*8,80*0,40",null,598.4,null,null,null,null,null,null,null,"Komunikace č.1 - 1.část:170,00*8,80*0,40"]
[null,null,"Komunikace č.1 - 2.část:(60,00*8,80+10,00*4,50)*0,40",null,229.2,null,null,null,null,null,null,null,"Komunikace č.1 - 2.část:(60,00*8,80+10,00*4,50)*0,40"]
[null,null,"Konec provozního součtu",null,827.59999999999991,null,null,null,null,null,null,null,"Konec provozního součtu"]
[null,null,"V hornině tř. 4 - 50%:827,6000*0,5",null,413.8,null,null,null,null,null,null,null,"V hornině tř. 4 - 50%:827,6000*0,5"]
[4,"122302209R00","Příplatek za lepivost - odkop pro silnice v hor. 4 ","m3",206.9,null,{"$f":"E29*F29","v":0},0,{"$f":"E29*H29","v":0},0,{"$f":"E29*J29","v":0},null,null,null,2,null,null,null,null,null,null,null,null,null,null,null,1,1,1,null,null,null,null,null,null,null,null,null,null,null,null,null,null,null,null,null,null,null,null,null,null,1,{"$f":"IF(AZ29=1,G29,0)","v":0},{"$f":"IF(AZ29=2,G29,0)","v":0},{"$f":"IF(AZ29=3,G29,0)","v":0},{"$f":"IF(AZ29=4,G29,0)","v":0},{"$f":"IF(AZ29=5,G29,0)","v":0},null,null,null,null,null,null,null,null,null,null,null,null,null,null,null,null,null,null,null,null,null,1,1]
[null,null,"Od úrovně páně pro realizaci sanace:",null,0,null,null,null,null,null,null,null,"Od úrovně páně pro realizaci sanace:"]
[null,null,"Začátek provozního součtu",null,0,null,null,null,null,null,null,null,"Začátek provozního součtu"]
[null,null,"Komunikace č.1 - 1.část:170,00*8,80*0,40",null,598.4,null,null,null,null,null,null,null,"Komunikace č.1 - 1.část:170,00*8,80*0,40"]
[null,null,"Komunikace č.1 - 2.část:(60,00*8,80+10,00*4,50)*0,40",null,229.2,null,null,null,null,null,null,null,"Komunikace č.1 - 2.část:(60,00*8,80+10,00*4,50)*0,40"]
[null,null,"Konec provozního součtu",null,827.59999999999991,null,null,null,null,null,null,null,"Konec provozního součtu"]
[null,null,"V hornině tř. 4 - 50%:827,6000*0,5*0,5",null,206.9,null,null,null,null,null,null,null,"V hornině tř. 4 - 50%:827,6000*0,5*0,5"]
[5,"162701105RSZ","Vodorovné přemístění výkopku z hor.1-7 na skládku zhotovitele","m3",827.6,null,{"$f":"E36*F36","v":0},0,{"$f":"E36*H36","v":0},0,{"$f":"E36*J36","v":0},null,null,null,2,null,null,null,null,null,null,null,null,null,null,null,1,1,1,null,null,null,null,null,null,null,null,null,null,null,null,null,null,null,null,null,null,null,null,null,null,1,{"$f":"IF(AZ36=1,G36,0)","v":0},{"$f":"IF(AZ36=2,G36,0)","v":0},{"$f":"IF(AZ36=3,G36,0)","v":0},{"$f":"IF(AZ36=4,G36,0)","v":0},{"$f":"IF(AZ36=5,G36,0)","v":0},null,null,null,null,null,null,null,null,null,null,null,null,null,null,null,null,null,null,null,null,null,1,1]
[null,null,"Od úrovně páně pro realizaci sanace:",null,0,null,null,null,null,null,null,null,"Od úrovně páně pro realizaci sanace:"]
[null,null,"Začátek provozního součtu",null,0,null,null,null,null,null,null,null,"Začátek provozního součtu"]
[null,null,"Komunikace č.1 - 1.část:170,00*8,80*0,40",null,598.4,null,null,null,null,null,null,null,"Komunikace č.1 - 1.část:170,00*8,80*0,40"]
[null,null,"Komunikace č.1 - 2.část:(60,00*8,80+10,00*4,50)*0,40",null,229.2,null,null,null,null,null,null,null,"Komunikace č.1 - 2.část:(60,00*8,80+10,00*4,50)*0,40"]
[null,null,"Konec provozního součtu",null,827.59999999999991,null,null,null,null,null,null,null,"Konec provozního součtu"]
[null,null,"V hornině tř. 3 - 4:827,6000",null,827.6,null,null,null,null,null,null,null,"V hornině tř. 3 - 4:827,6000"]
[6,"181101102R00","Úprava pláně v zářezech v hor. 1-4, se zhutněním ","m2",2069,null,{"$f":"E43*F43","v":0},0,{"$f":"E43*H43","v":0},0,{"$f":"E43*J43","v":0},null,null,null,2,null,null,null,null,null,null,null,null,null,null,null,1,1,1,null,null,null,null,null,null,null,null,null,null,null,null,null,null,null,null,null,null,null,null,null,null,1,{"$f":"IF(AZ43=1,G43,0)","v":0},{"$f":"IF(AZ43=2,G43,0)","v":0},{"$f":"IF(AZ43=3,G43,0)","v":0},{"$f":"IF(AZ43=4,G43,0)","v":0},{"$f":"IF(AZ43=5,G43,0)","v":0},null,null,null,null,null,null,null,null,null,null,null,null,null,null,null,null,null,null,null,null,null,1,1]
[null,null,"Od úrovně páně pro realizaci sanace:",null,0,null,null,null,null,null,null,null,"Od úrovně páně pro realizaci sanace:"]
[null,null,"Komunikace č.1 - 1.část:170,00*8,80",null,1496,null,null,null,null,null,null,null,"Komunikace č.1 - 1.část:170,00*8,80"]
[null,null,"Komunikace č.1 - 2.část:60,00*8,80+10,00*4,50",null,573,null,null,null,null,null,null,null,"Komunikace č.1 - 2.část:60,00*8,80+10,00*4,50"]
[7,"199000002R00","Poplatek za skládku horniny 1- 7 ","m3",827.6,null,{"$f":"E47*F47","v":0},0,{"$f":"E47*H47","v":0},0,{"$f":"E47*J47","v":0},null,null,null,2,null,null,null,null,null,null,null,null,null,null,null,1,1,1,null,null,null,null,null,null,null,null,null,null,null,null,null,null,null,null,null,null,null,null,null,null,1,{"$f":"IF(AZ47=1,G47,0)","v":0},{"$f":"IF(AZ47=2,G47,0)","v":0},{"$f":"IF(AZ47=3,G47,0)","v":0},{"$f":"IF(AZ47=4,G47,0)","v":0},{"$f":"IF(AZ47=5,G47,0)","v":0},null,null,null,null,null,null,null,null,null,null,null,null,null,null,null,null,null,null,null,null,null,1,1]
[null,null,"Od úrovně páně pro realizaci sanace:",null,0,null,null,null,null,null,null,null,"Od úrovně páně pro realizaci sanace:"]
[null,null,"Začátek provozního součtu",null,0,null,null,null,null,null,null,null,"Začátek provozního součtu"]
[null,null,"Komunikace č.1 - 1.část:170,00*8,80*0,40",null,598.4,null,null,null,null,null,null,null,"Komunikace č.1 - 1.část:170,00*8,80*0,40"]
[null,null,"Komunikace č.1 - 2.část:(60,00*8,80+10,00*4,50)*0,40",null,229.2,null,null,null,null,null,null,null,"Komunikace č.1 - 2.část:(60,00*8,80+10,00*4,50)*0,40"]
[null,null,"Konec provozního součtu",null,827.59999999999991,null,null,null,null,null,null,null,"Konec provozního součtu"]
[null,null,"V hornině tř. 3 - 4:827,6000",null,827.6,null,null,null,null,null,null,null,"V hornině tř. 3 - 4:827,6000"]
[null,"Celkem za","1 Zemní práce",null,null,null,{"$f":"SUM(G7:G53)","v":0},null,{"$f":"SUM(I7:I53)","v":0},null,{"$f":"SUM(K7:K53)","v":0},null,null,null,4,null,null,null,null,null,null,null,null,null,null,null,null,null,null,null,null,null,null,null,null,null,null,null,null,null,null,null,null,null,null,null,null,null,null,null,null,null,{"$f":"SUM(BA7:BA53)","v":0},{"$f":"SUM(BB7:BB53)","v":0},{"$f":"SUM(BC7:BC53)","v":0},{"$f":"SUM(BD7:BD53)","v":0},{"$f":"SUM(BE7:BE53)","v":0}]
["Díl:","2","Základy a zvláštní zakládání",null,null,null,null,null,null,null,null,null,null,null,1]
[8,"212810010RAD","Trativody z PVC drenážních flexibilních trubek lože štěrkopísek a obsyp kamenivo, trubky d 160 mm","m",230,null,{"$f":"E56*F56","v":0},0.43683,{"$f":"E56*H56","v":100.4709},0,{"$f":"E56*J56","v":0},null,null,null,2,null,null,null,null,null,null,null,null,null,null,null,1,1,1,null,null,null,null,null,null,null,null,null,null,null,null,null,null,null,null,null,null,null,null,null,null,1,{"$f":"IF(AZ56=1,G56,0)","v":0},{"$f":"IF(AZ56=2,G56,0)","v":0},{"$f":"IF(AZ56=3,G56,0)","v":0},{"$f":"IF(AZ56=4,G56,0)","v":0},{"$f":"IF(AZ56=5,G56,0)","v":0},null,null,null,null,null,null,null,null,null,null,null,null,null,null,null,null,null,null,null,null,null,1,1]
[null,null,"Součástí položky je i obalení drenáže separační geotextílií",null,null,null,null,null,null,null,null,"Součástí položky je i obalení drenáže separační geotextílií",null,null,3]
[null,null,"Komunikace č.1 - 1.část:170,00",null,170,null,null,null,null,null,null,null,"Komunikace č.1 - 1.část:170,00"]
[null,null,"Komunikace č.1 - 2.část:60,00",null,60,null,null,null,null,null,null,null,"Komunikace č.1 - 2.část:60,00"]
[null,"Celkem za","2 Základy a zvláštní zakládání",null,null,null,{"$f":"SUM(G55:G59)","v":0},null,{"$f":"SUM(I55:I59)","v":100.4709},null,{"$f":"SUM(K55:K59)","v":0},null,null,null,4,null,null,null,null,null,null,null,null,null,null,null,null,null,null,null,null,null,null,null,null,null,null,null,null,null,null,null,null,null,null,null,null,null,null,null,null,null,{"$f":"SUM(BA55:BA59)","v":0},{"$f":"SUM(BB55:BB59)","v":0},{"$f":"SUM(BC55:BC59)","v":0},{"$f":"SUM(BD55:BD59)","v":0},{"$f":"SUM(BE55:BE59)","v":0}]
["Díl:","5","Komunikace",null,null,null,null,null,null,null,null,null,null,null,1]
[9,"564661111R00","Podklad z kameniva drceného 63-125 mm, tl. 20 cm ","m2",2069,null,{"$f":"E62*F62","v":0},0.43,{"$f":"E62*H62","v":889.67},0,{"$f":"E62*J62","v":0},null,null,null,2,null,null,null,null,null,null,null,null,null,null,null,1,1,1,null,null,null,null,null,null,null,null,null,null,null,null,null,null,null,null,null,null,null,null,null,null,1,{"$f":"IF(AZ62=1,G62,0)","v":0},{"$f":"IF(AZ62=2,G62,0)","v":0},{"$f":"IF(AZ62=3,G62,0)","v":0},{"$f":"IF(AZ62=4,G62,0)","v":0},{"$f":"IF(AZ62=5,G62,0)","v":0},null,null,null,null,null,null,null,null,null,null,null,null,null,null,null,null,null,null,null,null,null,1,1]
[null,null,"Od úrovně páně pro realizaci sanace:",null,0,null,null,null,null,null,null,null,"Od úrovně páně pro realizaci sanace:"]
[null,null,"Komunikace č.1 - 1.část:170,00*8,80",null,1496,null,null,null,null,null,null,null,"Komunikace č.1 - 1.část:170,00*8,80"]
[null,null,"Komunikace č.1 - 2.část:60,00*8,80+10,00*4,50",null,573,null,null,null,null,null,null,null,"Komunikace č.1 - 2.část:60,00*8,80+10,00*4,50"]
[10,"564761111R00","Podklad z kameniva drceného vel.32-63 mm,tl. 20 cm ","m2",2069,null,{"$f":"E66*F66","v":0},0.43,{"$f":"E66*H66","v":889.67},0,{"$f":"E66*J66","v":0},null,null,null,2,null,null,null,null,null,null,null,null,null,null,null,1,1,1,null,null,null,null,null,null,null,null,null,null,null,null,null,null,null,null,null,null,null,null,null,null,1,{"$f":"IF(AZ66=1,G66,0)","v":0},{"$f":"IF(AZ66=2,G66,0)","v":0},{"$f":"IF(AZ66=3,G66,0)","v":0},{"$f":"IF(AZ66=4,G66,0)","v":0},{"$f":"IF(AZ66=5,G66,0)","v":0},null,null,null,null,null,null,null,null,null,null,null,null,null,null,null,null,null,null,null,null,null,1,1]
[null,null,"Od úrovně páně pro realizaci sanace:",null,0,null,null,null,null,null,null,null,"Od úrovně páně pro realizaci sanace:"]
[null,null,"Komunikace č.1 - 1.část:170,00*8,80",null,1496,null,null,null,null,null,null,null,"Komunikace č.1 - 1.část:170,00*8,80"]
[null,null,"Komunikace č.1 - 2.část:60,00*8,80+10,00*4,50",null,573,null,null,null,null,null,null,null,"Komunikace č.1 - 2.část:60,00*8,80+10,00*4,50"]
[11,"564861111RT2","Podklad ze štěrkodrti po zhutnění tloušťky 20 cm štěrkodrť frakce 0-32 mm","m2",2036.5,null,{"$f":"E70*F70","v":0},0.441,{"$f":"E70*H70","v":898.09649999999999},0,{"$f":"E70*J70","v":0},null,null,null,2,null,null,null,null,null,null,null,null,null,null,null,1,1,1,null,null,null,null,null,null,null,null,null,null,null,null,null,null,null,null,null,null,null,null,null,null,1,{"$f":"IF(AZ70=1,G70,0)","v":0},{"$f":"IF(AZ70=2,G70,0)","v":0},{"$f":"IF(AZ70=3,G70,0)","v":0},{"$f":"IF(AZ70=4,G70,0)","v":0},{"$f":"IF(AZ70=5,G70,0)","v":0},null,null,null,null,null,null,null,null,null,null,null,null,null,null,null,null,null,null,null,null,null,1,1]
[null,null,"Nad úrovní pláně:",null,0,null,null,null,null,null,null,null,"Nad úrovní pláně:"]
[null,null,"Komunikace č.1 - 1.část:170,00*8,80",null,1496,null,null,null,null,null,null,null,"Komunikace č.1 - 1.část:170,00*8,80"]
[null,null,"Komunikace č.1 - 2.část:60,00*8,80+12,50",null,540.5,null,null,null,null,null,null,null,"Komunikace č.1 - 2.část:60,00*8,80+12,50"]
[12,"564871111RT2","Podklad ze štěrkodrti po zhutnění tloušťky 25 cm štěrkodrť frakce 0-32 mm","m2",45,null,{"$f":"E74*F74","v":0},0.55125000000000002,{"$f":"E74*H74","v":24.806250000000002},0,{"$f":"E74*J74","v":0},null,null,null,2,null,null,null,null,null,null,null,null,null,null,null,1,1,1,null,null,null,null,null,null,null,null,null,null,null,null,null,null,null,null,null,null,null,null,null,null,1,{"$f":"IF(AZ74=1,G74,0)","v":0},{"$f":"IF(AZ74=2,G74,0)","v":0},{"$f":"IF(AZ74=3,G74,0)","v":0},{"$f":"IF(AZ74=4,G74,0)","v":0},{"$f":"IF(AZ74=5,G74,0)","v":0},null,null,null,null,null,null,null,null,null,null,null,null,null,null,null,null,null,null,null,null,null,1,1]
[null,null,"Nad úrovní pláně:",null,0,null,null,null,null,null,null,null,"Nad úrovní pláně:"]
[null,null,"Komunikace č.1 - 2.část - obratiště:10,00*4,50",null,45,null,null,null,null,null,null,null,"Komunikace č.1 - 2.část - obratiště:10,00*4,50"]
[13,"565151211R00","Podklad z obal kam.ACP 16+,nad 3 m,tl.7 cm ","m2",2081.5,null,{"$f":"E77*F77","v":0},0.18462999999999999,{"$f":"E77*H77","v":384.307345},0,{"$f":"E77*J77","v":0},null,null,null,2,null,null,null,null,null,null,null,null,null,null,null,1,1,1,null,null,null,null,null,null,null,null,null,null,null,null,null,null,null,null,null,null,null,null,null,null,1,{"$f":"IF(AZ77=1,G77,0)","v":0},{"$f":"IF(AZ77=2,G77,0)","v":0},{"$f":"IF(AZ77=3,G77,0)","v":0},{"$f":"IF(AZ77=4,G77,0)","v":0},{"$f":"IF(AZ77=5,G77,0)","v":0},null,null,null,null,null,null,null,null,null,null,null,null,null,null,null,null,null,null,null,null,null,1,1]
[null,null,"Nad úrovní pláně:",null,0,null,null,null,null,null,null,null,"Nad úrovní pláně:"]
[null,null,"Komunikace č.1 - 1.část:170,00*8,80",null,1496,null,null,null,null,null,null,null,"Komunikace č.1 - 1.část:170,00*8,80"]
[null,null,"Komunikace č.1 - 2.část:60,00*8,80+12,50",null,540.5,null,null,null,null,null,null,null,"Komunikace č.1 - 2.část:60,00*8,80+12,50"]
[null,null,"Komunikace č.1 - 2.část - obratiště:10,00*4,50",null,45,null,null,null,null,null,null,null,"Komunikace č.1 - 2.část - obratiště:10,00*4,50"]
[14,"567122111R00","Podklad z kameniva zpev.cementem SC C8/10 tl.12 cm ","m2",1852.5,null,{"$f":"E82*F82","v":0},0.30651,{"$f":"E82*H82","v":567.80977500000006},0,{"$f":"E82*J82","v":0},null,null,null,2,null,null,null,null,null,null,null,null,null,null,null,1,1,1,null,null,null,null,null,null,null,null,null,null,null,null,null,null,null,null,null,null,null,null,null,null,1,{"$f":"IF(AZ82=1,G82,0)","v":0},{"$f":"IF(AZ82=2,G82,0)","v":0},{"$f":"IF(AZ82=3,G82,0)","v":0},{"$f":"IF(AZ82=4,G82,0)","v":0},{"$f":"IF(AZ82=5,G82,0)","v":0},null,null,null,null,null,null,null,null,null,null,null,null,null,null,null,null,null,null,null,null,null,1,1]
[null,null,"Nad úrovní pláně:",null,0,null,null,null,null,null,null,null,"Nad úrovní pláně:"]
[null,null,"Komunikace č.1 - 1.část:170,00*8,00",null,1360,null,null,null,null,null,null,null,"Komunikace č.1 - 1.část:170,00*8,00"]
[null,null,"Komunikace č.1 - 2.část:60,00*8,00+12,50",null,492.5,null,null,null,null,null,null,null,"Komunikace č.1 - 2.část:60,00*8,00+12,50"]
[15,"573231111R00","Postřik živičný spojovací z emulze 0,5-0,7 kg/m2 ","m2",2081.5,null,{"$f":"E86*F86","v":0},7.1000000000000002E-4,{"$f":"E86*H86","v":1.477865},0,{"$f":"E86*J86","v":0},null,null,null,2,null,null,null,null,null,null,null,null,null,null,null,1,1,1,null,null,null,null,null,null,null,null,null,null,null,null,null,null,null,null,null,null,null,null,null,null,1,{"$f":"IF(AZ86=1,G86,0)","v":0},{"$f":"IF(AZ86=2,G86,0)","v":0},{"$f":"IF(AZ86=3,G86,0)","v":0},{"$f":"IF(AZ86=4,G86,0)","v":0},{"$f":"IF(AZ86=5,G86,0)","v":0},null,null,null,null,null,null,null,null,null,null,null,null,null,null,null,null,null,null,null,null,null,1,1]
[null,null,"Nad úrovní pláně:",null,0,null,null,null,null,null,null,null,"Nad úrovní pláně:"]
[null,null,"Komunikace č.1 - 1.část:170,00*8,80",null,1496,null,null,null,null,null,null,null,"Komunikace č.1 - 1.část:170,00*8,80"]
[null,null,"Komunikace č.1 - 2.část:60,00*8,80+12,50",null,540.5,null,null,null,null,null,null,null,"Komunikace č.1 - 2.část:60,00*8,80+12,50"]
[null,null,"Komunikace č.1 - 2.část - obratiště:10,00*4,50",null,45,null,null,null,null,null,null,null,"Komunikace č.1 - 2.část - obratiště:10,00*4,50"]
[null,"Celkem za","5 Komunikace",null,null,null,{"$f":"SUM(G61:G90)","v":0},null,{"$f":"SUM(I61:I90)","v":3655.8377350000001},null,{"$f":"SUM(K61:K90)","v":0},null,null,null,4,null,null,null,null,null,null,null,null,null,null,null,null,null,null,null,null,null,null,null,null,null,null,null,null,null,null,null,null,null,null,null,null,null,null,null,null,null,{"$f":"SUM(BA61:BA90)","v":0},{"$f":"SUM(BB61:BB90)","v":0},{"$f":"SUM(BC61:BC90)","v":0},{"$f":"SUM(BD61:BD90)","v":0},{"$f":"SUM(BE61:BE90)","v":0}]
["Díl:","99","Staveništní přesun hmot",null,null,null,null,null,null,null,null,null,null,null,1]
[16,"998225111R00","Přesun hmot, pozemní komunikace, kryt živičný ","t",3756.3086349999999,null,{"$f":"E93*F93","v":0},0,{"$f":"E93*H93","v":0},null,{"$f":"E93*J93","v":0},null,null,null,2,null,null,null,null,null,null,null,null,null,null,null,7,1,2,null,null,null,null,null,null,null,null,null,null,null,null,null,null,null,null,null,null,null,null,null,null,1,{"$f":"IF(AZ93=1,G93,0)","v":0},{"$f":"IF(AZ93=2,G93,0)","v":0},{"$f":"IF(AZ93=3,G93,0)","v":0},{"$f":"IF(AZ93=4,G93,0)","v":0},{"$f":"IF(AZ93=5,G93,0)","v":0},null,null,null,null,null,null,null,null,null,null,null,null,null,null,null,null,null,null,null,null,null,7,1]
[null,"Celkem za","99 Staveništní přesun hmot",null,null,null,{"$f":"SUM(G92:G93)","v":0},null,{"$f":"SUM(I92:I93)","v":0},null,{"$f":"SUM(K92:K93)","v":0},null,null,null,4,null,null,null,null,null,null,null,null,null,null,null,null,null,null,null,null,null,null,null,null,null,null,null,null,null,null,null,null,null,null,null,null,null,null,null,null,null,{"$f":"SUM(BA92:BA93)","v":0},{"$f":"SUM(BB92:BB93)","v":0},{"$f":"SUM(BC92:BC93)","v":0},{"$f":"SUM(BD92:BD93)","v":0},{"$f":"SUM(BE92:BE93)","v":0}]

{"sheet":"102 3236102 KL","index":7,"n_rows":45,"n_cols":8,"rows_kept":45,"cut":false,"hidden":false,"merged":[[22,0,22,1],[7,2,7,4],[8,2,8,4],[9,2,9,4],[10,2,10,4],[11,2,11,4],[50,1,50,6],[29,5,29,6],[30,5,30,6],[31,5,31,6],[32,5,32,6],[33,5,33,6],[36,1,44,6],[45,1,45,6],[46,1,46,6],[47,1,47,6],[48,1,48,6],[49,1,49,6]]}
["POLOŽKOVÝ ROZPOČET"]
["Rozpočet",null,"3236/102","Komunikace č.2 - 1.etapa",null,"JKSO ","822.27"]
[]
["Objekt",null,null,null,null,"SKP "]
["102",null,"Komunikace č.2",null,null,"Měrná jednotka","m2"]
["Stavba",null,null,null,null,"Počet jednotek",0]
["3236",null,"Bytová zóna Hruštice - Károvsko - Etapa VII.",null,null,"Náklady na m.j.",{"$f":"IF(G6=0,,ROUND((F30+F32)/G6,1))","v":0}]
["Projektant",null,"PROFES PROJEKT spol.s r.o.",null,null,"Typ rozpočtu"]
["Zpracovatel projektu"]
["Objednatel",null,"Město TURNOV"]
["Dodavatel",null,".",null,null,"Zakázkové číslo "]
["Rozpočtoval",null,null,null,null,"Počet listů"]
["ROZPOČTOVÉ NÁKLADY"]
["Základní rozpočtové náklady"]
[null,"HSV celkem",{"$f":"'102 3236102 Rek'!E11","v":0}]
["Z","PSV celkem",{"$f":"'102 3236102 Rek'!F11","v":0}]
["R","M práce celkem",{"$f":"'102 3236102 Rek'!H11","v":0}]
["N","M dodávky celkem",{"$f":"'102 3236102 Rek'!G11","v":0}]
["ZRN celkem",null,{"$f":"SUM(C15:C18)","v":0}]
[]
["HZS",null,{"$f":"'102 3236102 Rek'!I11","v":0}]
["ZRN+HZS",null,{"$f":"C19+C21","v":0}]
["ZRN+ost.náklady+HZS",null,{"$f":"C22+G23","v":0}]
["Vypracoval",null,null,"Za zhotovitele",null,"Za objednatele"]
["Jméno :",null,null,"Jméno :",null,"Jméno :"]
["Datum :",null,null,"Datum :",null,"Datum :"]
[]
["Podpis :",null,null,"Podpis:",null,"Podpis:"]
[]
["Základ pro DPH",null,21,"%  ",null,{"$f":"C23-F32","v":0}]
["DPH",null,{"$f":"C30","v":21},"% ",null,{"$f":"ROUND(PRODUCT(F30,C31/100),0)","v":0}]
["Základ pro DPH",null,0,"% ",null,0]
["DPH",null,{"$f":"C32","v":0},"% ",null,{"$f":"ROUND(PRODUCT(F32,C33/100),0)","v":0}]
["CENA ZA OBJEKT CELKEM",null,null,null,null,{"$f":"ROUND(SUM(F30:F33),0)","v":0}]
[]
["Poznámka :",null,null,null,null,null,null," "]
[null,null,null,null,null,null,null," "]
[null,null,null,null,null,null,null," "]
[null,null,null,null,null,null,null," "]
[null,null,null,null,null,null,null," "]
[null,null,null,null,null,null,null," "]
[null,null,null,null,null,null,null," "]
[null,null,null,null,null,null,null," "]
[null,null,null,null,null,null,null," "]
[null,null,null,null,null,null,null," "]

{"sheet":"102 3236102 Rek","index":8,"n_rows":11,"n_cols":9,"rows_kept":11,"cut":false,"hidden":false,"merged":[[0,0,0,1],[1,0,1,1],[1,6,1,8]]}
["Stavba :",null,"3236 Bytová zóna Hruštice - Károvsko - Etapa VII.",null,null,null,"Rozpočet :","3236/102"]
["Objekt :",null,"102 Komunikace č.2",null,null,null,"Komunikace č.2 - 1.etapa"]
[]
["REKAPITULACE  STAVEBNÍCH  DÍLŮ"]
[]
[null,"Stavební díl",null,null,"HSV","PSV","Dodávka","Montáž","HZS"]
[{"$f":"'102 3236102 Pol'!B7","v":"1"},{"$f":"'102 3236102 Pol'!C7","v":"Zemní práce"},null,null,{"$f":"'102 3236102 Pol'!BA47","v":0},{"$f":"'102 3236102 Pol'!BB47","v":0},{"$f":"'102 3236102 Pol'!BC47","v":0},{"$f":"'102 3236102 Pol'!BD47","v":0},{"$f":"'102 3236102 Pol'!BE47","v":0}]
[{"$f":"'102 3236102 Pol'!B48","v":"2"},{"$f":"'102 3236102 Pol'!C48","v":"Základy a zvláštní zakládání"},null,null,{"$f":"'102 3236102 Pol'!BA52","v":0},{"$f":"'102 3236102 Pol'!BB52","v":0},{"$f":"'102 3236102 Pol'!BC52","v":0},{"$f":"'102 3236102 Pol'!BD52","v":0},{"$f":"'102 3236102 Pol'!BE52","v":0}]
[{"$f":"'102 3236102 Pol'!B53","v":"5"},{"$f":"'102 3236102 Pol'!C53","v":"Komunikace"},null,null,{"$f":"'102 3236102 Pol'!BA72","v":0},{"$f":"'102 3236102 Pol'!BB72","v":0},{"$f":"'102 3236102 Pol'!BC72","v":0},{"$f":"'102 3236102 Pol'!BD72","v":0},{"$f":"'102 3236102 Pol'!BE72","v":0}]
[{"$f":"'102 3236102 Pol'!B73","v":"99"},{"$f":"'102 3236102 Pol'!C73","v":"Staveništní přesun hmot"},null,null,{"$f":"'102 3236102 Pol'!BA75","v":0},{"$f":"'102 3236102 Pol'!BB75","v":0},{"$f":"'102 3236102 Pol'!BC75","v":0},{"$f":"'102 3236102 Pol'!BD75","v":0},{"$f":"'102 3236102 Pol'!BE75","v":0}]
[null,"CELKEM  OBJEKT",null,null,{"$f":"SUM(E7:E10)","v":0},{"$f":"SUM(F7:F10)","v":0},{"$f":"SUM(G7:G10)","v":0},{"$f":"SUM(H7:H10)","v":0},{"$f":"SUM(I7:I10)","v":0}]

{"sheet":"102 3236102 Pol","index":9,"n_rows":75,"n_cols":80,"rows_kept":75,"cut":false,"hidden":false,"merged":[[18,2,18,3],[0,0,0,6],[2,0,2,1],[3,0,3,1],[3,4,3,6],[8,2,8,3],[9,2,9,3],[10,2,10,3],[11,2,11,3],[12,2,12,3],[14,2,14,3],[15,2,15,3],[16,2,16,3],[17,2,17,3],[33,2,33,3],[20,2,20,3],[21,2,21,3],[22,2,22,3],[23,2,23,3],[24,2,24,3],[26,2,26,3],[27,2,27,3],[28,2,28,3],[29,2,29,3],[30,2,30,3],[32,2,32,3],[50,2,50,3],[34,2,34,3],[35,2,35,3],[36,2,36,3],[38,2,38,3],[39,2,39,3],[41,2,41,3],[42,2,42,3],[43,2,43,3],[44,2,44,3],[45,2,45,3],[49,2,49,6],[66,2,66,3],[67,2,67,3],[69,2,69,3],[70,2,70,3],[54,2,54,3],[55,2,55,3],[57,2,57,3],[58,2,58,3],[60,2,60,3],[61,2,61,3],[63,2,63,3],[64,2,64,3]]}
["Položkový rozpočet "]
[]
["Stavba :",null,"3236 Bytová zóna Hruštice - Károvsko - Etapa VII.",null,"Rozpočet:",{"$f":"'102 3236102 Rek'!H1","v":"3236/102"}]
["Objekt :",null,"102 Komunikace č.2",null,{"$f":"'102 3236102 Rek'!G2","v":"Komunikace č.2 - 1.etapa"}]
[]
["P.č.","Číslo položky","Název položky","MJ","množství","cena / MJ","celkem (Kč)","Jednotková hmotnost","Celková hmotnost","Jednotková dem.hmot.","Celková dem.hmot."]
["Díl:","1","Zemní práce",null,null,null,null,null,null,null,null,null,null,null,1]
[1,"122202202R00","Odkopávky pro silnice v hor. 3 do 1000 m3 ","m3",52,null,{"$f":"E8*F8","v":0},0,{"$f":"E8*H8","v":0},0,{"$f":"E8*J8","v":0},null,null,null,2,null,null,null,null,null,null,null,null,null,null,null,1,1,1,null,null,null,null,null,null,null,null,null,null,null,null,null,null,null,null,null,null,null,null,null,null,1,{"$f":"IF(AZ8=1,G8,0)","v":0},{"$f":"IF(AZ8=2,G8,0)","v":0},{"$f":"IF(AZ8=3,G8,0)","v":0},{"$f":"IF(AZ8=4,G8,0)","v":0},{"$f":"IF(AZ8=5,G8,0)","v":0},null,null,null,null,null,null,null,null,null,null,null,null,null,null,null,null,null,null,null,null,null,1,1]
[null,null,"Od úrovně páně pro realizaci sanace:",null,0,null,null,null,null,null,null,null,"Od úrovně páně pro realizaci sanace:"]
[null,null,"Začátek provozního součtu",null,0,null,null,null,null,null,null,null,"Začátek provozního součtu"]
[null,null,"Komunikace č.2:50,00*5,20*0,40",null,104,null,null,null,null,null,null,null,"Komunikace č.2:50,00*5,20*0,40"]
[null,null,"Konec provozního součtu",null,104,null,null,null,null,null,null,null,"Konec provozního součtu"]
[null,null,"V hornině tř. 3 - 50%:104,0000*0,5",null,52,null,null,null,null,null,null,null,"V hornině tř. 3 - 50%:104,0000*0,5"]
[2,"122202209R00","Příplatek za lepivost - odkop. pro silnice v hor.3 ","m3",26,null,{"$f":"E14*F14","v":0},0,{"$f":"E14*H14","v":0},0,{"$f":"E14*J14","v":0},null,null,null,2,null,null,null,null,null,null,null,null,null,null,null,1,1,1,null,null,null,null,null,null,null,null,null,null,null,null,null,null,null,null,null,null,null,null,null,null,1,{"$f":"IF(AZ14=1,G14,0)","v":0},{"$f":"IF(AZ14=2,G14,0)","v":0},{"$f":"IF(AZ14=3,G14,0)","v":0},{"$f":"IF(AZ14=4,G14,0)","v":0},{"$f":"IF(AZ14=5,G14,0)","v":0},null,null,null,null,null,null,null,null,null,null,null,null,null,null,null,null,null,null,null,null,null,1,1]
[null,null,"Od úrovně páně pro realizaci sanace:",null,0,null,null,null,null,null,null,null,"Od úrovně páně pro realizaci sanace:"]
[null,null,"Začátek provozního součtu",null,0,null,null,null,null,null,null,null,"Začátek provozního součtu"]
[null,null,"Komunikace č.2:50,00*5,20*0,40",null,104,null,null,null,null,null,null,null,"Komunikace č.2:50,00*5,20*0,40"]
[null,null,"Konec provozního součtu",null,104,null,null,null,null,null,null,null,"Konec provozního součtu"]
[null,null,"V hornině tř. 3 - 50%:104,0000*0,5*0,5",null,26,null,null,null,null,null,null,null,"V hornině tř. 3 - 50%:104,0000*0,5*0,5"]
[3,"122302202R00","Odkopávky pro silnice v hor. 4 do 1000 m3 ","m3",52,null,{"$f":"E20*F20","v":0},0,{"$f":"E20*H20","v":0},0,{"$f":"E20*J20","v":0},null,null,null,2,null,null,null,null,null,null,null,null,null,null,null,1,1,1,null,null,null,null,null,null,null,null,null,null,null,null,null,null,null,null,null,null,null,null,null,null,1,{"$f":"IF(AZ20=1,G20,0)","v":0},{"$f":"IF(AZ20=2,G20,0)","v":0},{"$f":"IF(AZ20=3,G20,0)","v":0},{"$f":"IF(AZ20=4,G20,0)","v":0},{"$f":"IF(AZ20=5,G20,0)","v":0},null,null,null,null,null,null,null,null,null,null,null,null,null,null,null,null,null,null,null,null,null,1,1]
[null,null,"Od úrovně páně pro realizaci sanace:",null,0,null,null,null,null,null,null,null,"Od úrovně páně pro realizaci sanace:"]
[null,null,"Začátek provozního součtu",null,0,null,null,null,null,null,null,null,"Začátek provozního součtu"]
[null,null,"Komunikace č.2:50,00*5,20*0,40",null,104,null,null,null,null,null,null,null,"Komunikace č.2:50,00*5,20*0,40"]
[null,null,"Konec provozního součtu",null,104,null,null,null,null,null,null,null,"Konec provozního součtu"]
[null,null,"V hornině tř. 4 - 50%:104,0000*0,5",null,52,null,null,null,null,null,null,null,"V hornině tř. 4 - 50%:104,0000*0,5"]
[4,"122302209R00","Příplatek za lepivost - odkop pro silnice v hor. 4 ","m3",26,null,{"$f":"E26*F26","v":0},0,{"$f":"E26*H26","v":0},0,{"$f":"E26*J26","v":0},null,null,null,2,null,null,null,null,null,null,null,null,null,null,null,1,1,1,null,null,null,null,null,null,null,null,null,null,null,null,null,null,null,null,null,null,null,null,null,null,1,{"$f":"IF(AZ26=1,G26,0)","v":0},{"$f":"IF(AZ26=2,G26,0)","v":0},{"$f":"IF(AZ26=3,G26,0)","v":0},{"$f":"IF(AZ26=4,G26,0)","v":0},{"$f":"IF(AZ26=5,G26,0)","v":0},null,null,null,null,null,null,null,null,null,null,null,null,null,null,null,null,null,null,null,null,null,1,1]
[null,null,"Od úrovně páně pro realizaci sanace:",null,0,null,null,null,null,null,null,null,"Od úrovně páně pro realizaci sanace:"]
[null,null,"Začátek provozního součtu",null,0,null,null,null,null,null,null,null,"Začátek provozního součtu"]
[null,null,"Komunikace č.2:50,00*5,20*0,40",null,104,null,null,null,null,null,null,null,"Komunikace č.2:50,00*5,20*0,40"]
[null,null,"Konec provozního součtu",null,104,null,null,null,null,null,null,null,"Konec provozního součtu"]
[null,null,"V hornině tř. 4 - 50%:104,0000*0,5*0,5",null,26,null,null,null,null,null,null,null,"V hornině tř. 4 - 50%:104,0000*0,5*0,5"]
[5,"162701105RSZ","Vodorovné přemístění výkopku z hor.1-7 na skládku zhotovitele","m3",104,null,{"$f":"E32*F32","v":0},0,{"$f":"E32*H32","v":0},0,{"$f":"E32*J32","v":0},null,null,null,2,null,null,null,null,null,null,null,null,null,null,null,1,1,1,null,null,null,null,null,null,null,null,null,null,null,null,null,null,null,null,null,null,null,null,null,null,1,{"$f":"IF(AZ32=1,G32,0)","v":0},{"$f":"IF(AZ32=2,G32,0)","v":0},{"$f":"IF(AZ32=3,G32,0)","v":0},{"$f":"IF(AZ32=4,G32,0)","v":0},{"$f":"IF(AZ32=5,G32,0)","v":0},null,null,null,null,null,null,null,null,null,null,null,null,null,null,null,null,null,null,null,null,null,1,1]
[null,null,"Od úrovně páně pro realizaci sanace:",null,0,null,null,null,null,null,null,null,"Od úrovně páně pro realizaci sanace:"]
[null,null,"Začátek provozního součtu",null,0,null,null,null,null,null,null,null,"Začátek provozního součtu"]
[null,null,"Komunikace č.2:50,00*5,20*0,40",null,104,null,null,null,null,null,null,null,"Komunikace č.2:50,00*5,20*0,40"]
[null,null,"Konec provozního součtu",null,104,null,null,null,null,null,null,null,"Konec provozního součtu"]
[null,null,"V hornině tř. 3 - 4:104,0000",null,104,null,null,null,null,null,null,null,"V hornině tř. 3 - 4:104,0000"]
[6,"181101102R00","Úprava pláně v zářezech v hor. 1-4, se zhutněním ","m2",260,null,{"$f":"E38*F38","v":0},0,{"$f":"E38*H38","v":0},0,{"$f":"E38*J38","v":0},null,null,null,2,null,null,null,null,null,null,null,null,null,null,null,1,1,1,null,null,null,null,null,null,null,null,null,null,null,null,null,null,null,null,null,null,null,null,null,null,1,{"$f":"IF(AZ38=1,G38,0)","v":0},{"$f":"IF(AZ38=2,G38,0)","v":0},{"$f":"IF(AZ38=3,G38,0)","v":0},{"$f":"IF(AZ38=4,G38,0)","v":0},{"$f":"IF(AZ38=5,G38,0)","v":0},null,null,null,null,null,null,null,null,null,null,null,null,null,null,null,null,null,null,null,null,null,1,1]
[null,null,"Od úrovně páně pro realizaci sanace:",null,0,null,null,null,null,null,null,null,"Od úrovně páně pro realizaci sanace:"]
[null,null,"Komunikace č.2:50,00*5,20",null,260,null,null,null,null,null,null,null,"Komunikace č.2:50,00*5,20"]
[7,"199000002R00","Poplatek za skládku horniny 1- 7 ","m3",104,null,{"$f":"E41*F41","v":0},0,{"$f":"E41*H41","v":0},0,{"$f":"E41*J41","v":0},null,null,null,2,null,null,null,null,null,null,null,null,null,null,null,1,1,1,null,null,null,null,null,null,null,null,null,null,null,null,null,null,null,null,null,null,null,null,null,null,1,{"$f":"IF(AZ41=1,G41,0)","v":0},{"$f":"IF(AZ41=2,G41,0)","v":0},{"$f":"IF(AZ41=3,G41,0)","v":0},{"$f":"IF(AZ41=4,G41,0)","v":0},{"$f":"IF(AZ41=5,G41,0)","v":0},null,null,null,null,null,null,null,null,null,null,null,null,null,null,null,null,null,null,null,null,null,1,1]
[null,null,"Od úrovně páně pro realizaci sanace:",null,0,null,null,null,null,null,null,null,"Od úrovně páně pro realizaci sanace:"]
[null,null,"Začátek provozního součtu",null,0,null,null,null,null,null,null,null,"Začátek provozního součtu"]
[null,null,"Komunikace č.2:50,00*5,20*0,40",null,104,null,null,null,null,null,null,null,"Komunikace č.2:50,00*5,20*0,40"]
[null,null,"Konec provozního součtu",null,104,null,null,null,null,null,null,null,"Konec provozního součtu"]
[null,null,"V hornině tř. 3 - 4:104,0000",null,104,null,null,null,null,null,null,null,"V hornině tř. 3 - 4:104,0000"]
[null,"Celkem za","1 Zemní práce",null,null,null,{"$f":"SUM(G7:G46)","v":0},null,{"$f":"SUM(I7:I46)","v":0},null,{"$f":"SUM(K7:K46)","v":0},null,null,null,4,null,null,null,null,null,null,null,null,null,null,null,null,null,null,null,null,null,null,null,null,null,null,null,null,null,null,null,null,null,null,null,null,null,null,null,null,null,{"$f":"SUM(BA7:BA46)","v":0},{"$f":"SUM(BB7:BB46)","v":0},{"$f":"SUM(BC7:BC46)","v":0},{"$f":"SUM(BD7:BD46)","v":0},{"$f":"SUM(BE7:BE46)","v":0}]
["Díl:","2","Základy a zvláštní zakládání",null,null,null,null,null,null,null,null,null,null,null,1]
[8,"212810010RAD","Trativody z PVC drenážních flexibilních trubek lože štěrkopísek a obsyp kamenivo, trubky d 160 mm","m",50,null,{"$f":"E49*F49","v":0},0.43683,{"$f":"E49*H49","v":21.8415},0,{"$f":"E49*J49","v":0},null,null,null,2,null,null,null,null,null,null,null,null,null,null,null,1,1,1,null,null,null,null,null,null,null,null,null,null,null,null,null,null,null,null,null,null,null,null,null,null,1,{"$f":"IF(AZ49=1,G49,0)","v":0},{"$f":"IF(AZ49=2,G49,0)","v":0},{"$f":"IF(AZ49=3,G49,0)","v":0},{"$f":"IF(AZ49=4,G49,0)","v":0},{"$f":"IF(AZ49=5,G49,0)","v":0},null,null,null,null,null,null,null,null,null,null,null,null,null,null,null,null,null,null,null,null,null,1,1]
[null,null,"Součástí položky je i obalení drenáže separační geotextílií",null,null,null,null,null,null,null,null,"Součástí položky je i obalení drenáže separační geotextílií",null,null,3]
[null,null,"Komunikace č.2 - 1.část:50,00",null,50,null,null,null,null,null,null,null,"Komunikace č.2 - 1.část:50,00"]
[null,"Celkem za","2 Základy a zvláštní zakládání",null,null,null,{"$f":"SUM(G48:G51)","v":0},null,{"$f":"SUM(I48:I51)","v":21.8415},null,{"$f":"SUM(K48:K51)","v":0},null,null,null,4,null,null,null,null,null,null,null,null,null,null,null,null,null,null,null,null,null,null,null,null,null,null,null,null,null,null,null,null,null,null,null,null,null,null,null,null,null,{"$f":"SUM(BA48:BA51)","v":0},{"$f":"SUM(BB48:BB51)","v":0},{"$f":"SUM(BC48:BC51)","v":0},{"$f":"SUM(BD48:BD51)","v":0},{"$f":"SUM(BE48:BE51)","v":0}]
["Díl:","5","Komunikace",null,null,null,null,null,null,null,null,null,null,null,1]
[9,"564661111R00","Podklad z kameniva drceného 63-125 mm, tl. 20 cm ","m2",26,null,{"$f":"E54*F54","v":0},0.43,{"$f":"E54*H54","v":11.18},0,{"$f":"E54*J54","v":0},null,null,null,2,null,null,null,null,null,null,null,null,null,null,null,1,1,1,null,null,null,null,null,null,null,null,null,null,null,null,null,null,null,null,null,null,null,null,null,null,1,{"$f":"IF(AZ54=1,G54,0)","v":0},{"$f":"IF(AZ54=2,G54,0)","v":0},{"$f":"IF(AZ54=3,G54,0)","v":0},{"$f":"IF(AZ54=4,G54,0)","v":0},{"$f":"IF(AZ54=5,G54,0)","v":0},null,null,null,null,null,null,null,null,null,null,null,null,null,null,null,null,null,null,null,null,null,1,1]
[null,null,"Od úrovně páně pro realizaci sanace:",null,0,null,null,null,null,null,null,null,"Od úrovně páně pro realizaci sanace:"]
[null,null,"Komunikace č.2:5,00*5,20",null,26,null,null,null,null,null,null,null,"Komunikace č.2:5,00*5,20"]
[10,"564761111R00","Podklad z kameniva drceného vel.32-63 mm,tl. 20 cm ","m2",260,null,{"$f":"E57*F57","v":0},0.43,{"$f":"E57*H57","v":111.8},0,{"$f":"E57*J57","v":0},null,null,null,2,null,null,null,null,null,null,null,null,null,null,null,1,1,1,null,null,null,null,null,null,null,null,null,null,null,null,null,null,null,null,null,null,null,null,null,null,1,{"$f":"IF(AZ57=1,G57,0)","v":0},{"$f":"IF(AZ57=2,G57,0)","v":0},{"$f":"IF(AZ57=3,G57,0)","v":0},{"$f":"IF(AZ57=4,G57,0)","v":0},{"$f":"IF(AZ57=5,G57,0)","v":0},null,null,null,null,null,null,null,null,null,null,null,null,null,null,null,null,null,null,null,null,null,1,1]
[null,null,"Od úrovně páně pro realizaci sanace:",null,0,null,null,null,null,null,null,null,"Od úrovně páně pro realizaci sanace:"]
[null,null,"Komunikace č.2:50,00*5,20",null,260,null,null,null,null,null,null,null,"Komunikace č.2:50,00*5,20"]
[11,"564861111RT2","Podklad ze štěrkodrti po zhutnění tloušťky 20 cm štěrkodrť frakce 0-32 mm","m2",217.8,null,{"$f":"E60*F60","v":0},0.441,{"$f":"E60*H60","v":96.049800000000005},0,{"$f":"E60*J60","v":0},null,null,null,2,null,null,null,null,null,null,null,null,null,null,null,1,1,1,null,null,null,null,null,null,null,null,null,null,null,null,null,null,null,null,null,null,null,null,null,null,1,{"$f":"IF(AZ60=1,G60,0)","v":0},{"$f":"IF(AZ60=2,G60,0)","v":0},{"$f":"IF(AZ60=3,G60,0)","v":0},{"$f":"IF(AZ60=4,G60,0)","v":0},{"$f":"IF(AZ60=5,G60,0)","v":0},null,null,null,null,null,null,null,null,null,null,null,null,null,null,null,null,null,null,null,null,null,1,1]
[null,null,"Nad úrovní pláně:",null,0,null,null,null,null,null,null,null,"Nad úrovní pláně:"]
[null,null,"Komunikace č.2:50,00*4,20+6,50*1,20",null,217.8,null,null,null,null,null,null,null,"Komunikace č.2:50,00*4,20+6,50*1,20"]
[12,"565151211R00","Podklad z obal kam.ACP 16+,nad 3 m,tl.7 cm ","m2",198.4,null,{"$f":"E63*F63","v":0},0.18462999999999999,{"$f":"E63*H63","v":36.630592},0,{"$f":"E63*J63","v":0},null,null,null,2,null,null,null,null,null,null,null,null,null,null,null,1,1,1,null,null,null,null,null,null,null,null,null,null,null,null,null,null,null,null,null,null,null,null,null,null,1,{"$f":"IF(AZ63=1,G63,0)","v":0},{"$f":"IF(AZ63=2,G63,0)","v":0},{"$f":"IF(AZ63=3,G63,0)","v":0},{"$f":"IF(AZ63=4,G63,0)","v":0},{"$f":"IF(AZ63=5,G63,0)","v":0},null,null,null,null,null,null,null,null,null,null,null,null,null,null,null,null,null,null,null,null,null,1,1]
[null,null,"Nad úrovní pláně:",null,0,null,null,null,null,null,null,null,"Nad úrovní pláně:"]
[null,null,"Komunikace č.2:50,00*3,80+6,00*1,40",null,198.4,null,null,null,null,null,null,null,"Komunikace č.2:50,00*3,80+6,00*1,40"]
[13,"567122111R00","Podklad z kameniva zpev.cementem SC C8/10 tl.12 cm ","m2",198.4,null,{"$f":"E66*F66","v":0},0.30651,{"$f":"E66*H66","v":60.811584000000003},0,{"$f":"E66*J66","v":0},null,null,null,2,null,null,null,null,null,null,null,null,null,null,null,1,1,1,null,null,null,null,null,null,null,null,null,null,null,null,null,null,null,null,null,null,null,null,null,null,1,{"$f":"IF(AZ66=1,G66,0)","v":0},{"$f":"IF(AZ66=2,G66,0)","v":0},{"$f":"IF(AZ66=3,G66,0)","v":0},{"$f":"IF(AZ66=4,G66,0)","v":0},{"$f":"IF(AZ66=5,G66,0)","v":0},null,null,null,null,null,null,null,null,null,null,null,null,null,null,null,null,null,null,null,null,null,1,1]
[null,null,"Nad úrovní pláně:",null,0,null,null,null,null,null,null,null,"Nad úrovní pláně:"]
[null,null,"Komunikace č.2:50,00*3,80+6,00*1,40",null,198.4,null,null,null,null,null,null,null,"Komunikace č.2:50,00*3,80+6,00*1,40"]
[14,"573231111R00","Postřik živičný spojovací z emulze 0,5-0,7 kg/m2 ","m2",198.4,null,{"$f":"E69*F69","v":0},7.1000000000000002E-4,{"$f":"E69*H69","v":0.14086400000000002},0,{"$f":"E69*J69","v":0},null,null,null,2,null,null,null,null,null,null,null,null,null,null,null,1,1,1,null,null,null,null,null,null,null,null,null,null,null,null,null,null,null,null,null,null,null,null,null,null,1,{"$f":"IF(AZ69=1,G69,0)","v":0},{"$f":"IF(AZ69=2,G69,0)","v":0},{"$f":"IF(AZ69=3,G69,0)","v":0},{"$f":"IF(AZ69=4,G69,0)","v":0},{"$f":"IF(AZ69=5,G69,0)","v":0},null,null,null,null,null,null,null,null,null,null,null,null,null,null,null,null,null,null,null,null,null,1,1]
[null,null,"Nad úrovní pláně:",null,0,null,null,null,null,null,null,null,"Nad úrovní pláně:"]
[null,null,"Komunikace č.2:50,00*3,80+6,00*1,40",null,198.4,null,null,null,null,null,null,null,"Komunikace č.2:50,00*3,80+6,00*1,40"]
[null,"Celkem za","5 Komunikace",null,null,null,{"$f":"SUM(G53:G71)","v":0},null,{"$f":"SUM(I53:I71)","v":316.61284000000001},null,{"$f":"SUM(K53:K71)","v":0},null,null,null,4,null,null,null,null,null,null,null,null,null,null,null,null,null,null,null,null,null,null,null,null,null,null,null,null,null,null,null,null,null,null,null,null,null,null,null,null,null,{"$f":"SUM(BA53:BA71)","v":0},{"$f":"SUM(BB53:BB71)","v":0},{"$f":"SUM(BC53:BC71)","v":0},{"$f":"SUM(BD53:BD71)","v":0},{"$f":"SUM(BE53:BE71)","v":0}]
["Díl:","99","Staveništní přesun hmot",null,null,null,null,null,null,null,null,null,null,null,1]
[15,"998225111R00","Přesun hmot, pozemní komunikace, kryt živičný ","t",338.45434,null,{"$f":"E74*F74","v":0},0,{"$f":"E74*H74","v":0},null,{"$f":"E74*J74","v":0},null,null,null,2,null,null,null,null,null,null,null,null,null,null,null,7,1,2,null,null,null,null,null,null,null,null,null,null,null,null,null,null,null,null,null,null,null,null,null,null,1,{"$f":"IF(AZ74=1,G74,0)","v":0},{"$f":"IF(AZ74=2,G74,0)","v":0},{"$f":"IF(AZ74=3,G74,0)","v":0},{"$f":"IF(AZ74=4,G74,0)","v":0},{"$f":"IF(AZ74=5,G74,0)","v":0},null,null,null,null,null,null,null,null,null,null,null,null,null,null,null,null,null,null,null,null,null,7,1]
[null,"Celkem za","99 Staveništní přesun hmot",null,null,null,{"$f":"SUM(G73:G74)","v":0},null,{"$f":"SUM(I73:I74)","v":0},null,{"$f":"SUM(K73:K74)","v":0},null,null,null,4,null,null,null,null,null,null,null,null,null,null,null,null,null,null,null,null,null,null,null,null,null,null,null,null,null,null,null,null,null,null,null,null,null,null,null,null,null,{"$f":"SUM(BA73:BA74)","v":0},{"$f":"SUM(BB73:BB74)","v":0},{"$f":"SUM(BC73:BC74)","v":0},{"$f":"SUM(BD73:BD74)","v":0},{"$f":"SUM(BE73:BE74)","v":0}]

{"sheet":"301 3236301 KL","index":10,"n_rows":45,"n_cols":8,"rows_kept":45,"cut":false,"hidden":false,"merged":[[22,0,22,1],[7,2,7,4],[8,2,8,4],[9,2,9,4],[10,2,10,4],[11,2,11,4],[50,1,50,6],[29,5,29,6],[30,5,30,6],[31,5,31,6],[32,5,32,6],[33,5,33,6],[36,1,44,6],[45,1,45,6],[46,1,46,6],[47,1,47,6],[48,1,48,6],[49,1,49,6]]}
["POLOŽKOVÝ ROZPOČET"]
["Rozpočet",null,"3236/301","Přeložka jednotné kanalizace",null,"JKSO ","827.21.A4"]
[]
["Objekt",null,null,null,null,"SKP "]
["301",null,"Přeložka jednotné kanalizace",null,null,"Měrná jednotka","m"]
["Stavba",null,null,null,null,"Počet jednotek",0]
["3236",null,"Bytová zóna Hruštice - Károvsko - Etapa VII.",null,null,"Náklady na m.j.",{"$f":"IF(G6=0,,ROUND((F30+F32)/G6,1))","v":0}]
["Projektant",null,"PROFES PROJEKT spol.s r.o.",null,null,"Typ rozpočtu"]
["Zpracovatel projektu"]
["Objednatel",null,"Město TURNOV"]
["Dodavatel",null,".",null,null,"Zakázkové číslo "]
["Rozpočtoval",null,null,null,null,"Počet listů"]
["ROZPOČTOVÉ NÁKLADY"]
["Základní rozpočtové náklady"]
[null,"HSV celkem",{"$f":"'301 3236301 Rek'!E11","v":0}]
["Z","PSV celkem",{"$f":"'301 3236301 Rek'!F11","v":0}]
["R","M práce celkem",{"$f":"'301 3236301 Rek'!H11","v":0}]
["N","M dodávky celkem",{"$f":"'301 3236301 Rek'!G11","v":0}]
["ZRN celkem",null,{"$f":"SUM(C15:C18)","v":0}]
[]
["HZS",null,{"$f":"'301 3236301 Rek'!I11","v":0}]
["ZRN+HZS",null,{"$f":"C19+C21","v":0}]
["ZRN+ost.náklady+HZS",null,{"$f":"C22+G23","v":0}]
["Vypracoval",null,null,"Za zhotovitele",null,"Za objednatele"]
["Jméno :",null,null,"Jméno :",null,"Jméno :"]
["Datum :",null,null,"Datum :",null,"Datum :"]
[]
["Podpis :",null,null,"Podpis:",null,"Podpis:"]
[]
["Základ pro DPH",null,21,"%  ",null,{"$f":"C23-F32","v":0}]
["DPH",null,{"$f":"C30","v":21},"% ",null,{"$f":"ROUND(PRODUCT(F30,C31/100),0)","v":0}]
["Základ pro DPH",null,0,"% ",null,0]
["DPH",null,{"$f":"C32","v":0},"% ",null,{"$f":"ROUND(PRODUCT(F32,C33/100),0)","v":0}]
["CENA ZA OBJEKT CELKEM",null,null,null,null,{"$f":"ROUND(SUM(F30:F33),0)","v":0}]
[]
["Poznámka :",null,null,null,null,null,null," "]
[null,null,null,null,null,null,null," "]
[null,null,null,null,null,null,null," "]
[null,null,null,null,null,null,null," "]
[null,null,null,null,null,null,null," "]
[null,null,null,null,null,null,null," "]
[null,null,null,null,null,null,null," "]
[null,null,null,null,null,null,null," "]
[null,null,null,null,null,null,null," "]
[null,null,null,null,null,null,null," "]

{"sheet":"301 3236301 Rek","index":11,"n_rows":11,"n_cols":9,"rows_kept":11,"cut":false,"hidden":false,"merged":[[0,0,0,1],[1,0,1,1],[1,6,1,8]]}
["Stavba :",null,"3236 Bytová zóna Hruštice - Károvsko - Etapa VII.",null,null,null,"Rozpočet :","3236/301"]
["Objekt :",null,"301 Přeložka jednotné kanalizace",null,null,null,"Přeložka jednotné kanalizace"]
[]
["REKAPITULACE  STAVEBNÍCH  DÍLŮ"]
[]
[null,"Stavební díl",null,null,"HSV","PSV","Dodávka","Montáž","HZS"]
[{"$f":"'301 3236301 Pol'!B7","v":"1"},{"$f":"'301 3236301 Pol'!C7","v":"Zemní práce"},null,null,{"$f":"'301 3236301 Pol'!BA109","v":0},{"$f":"'301 3236301 Pol'!BB109","v":0},{"$f":"'301 3236301 Pol'!BC109","v":0},{"$f":"'301 3236301 Pol'!BD109","v":0},{"$f":"'301 3236301 Pol'!BE109","v":0}]
[{"$f":"'301 3236301 Pol'!B110","v":"45"},{"$f":"'301 3236301 Pol'!C110","v":"Podkladní a vedlejší konstrukce"},null,null,{"$f":"'301 3236301 Pol'!BA127","v":0},{"$f":"'301 3236301 Pol'!BB127","v":0},{"$f":"'301 3236301 Pol'!BC127","v":0},{"$f":"'301 3236301 Pol'!BD127","v":0},{"$f":"'301 3236301 Pol'!BE127","v":0}]
[{"$f":"'301 3236301 Pol'!B128","v":"8"},{"$f":"'301 3236301 Pol'!C128","v":"Trubní vedení"},null,null,{"$f":"'301 3236301 Pol'!BA292","v":0},{"$f":"'301 3236301 Pol'!BB292","v":0},{"$f":"'301 3236301 Pol'!BC292","v":0},{"$f":"'301 3236301 Pol'!BD292","v":0},{"$f":"'301 3236301 Pol'!BE292","v":0}]
[{"$f":"'301 3236301 Pol'!B293","v":"99"},{"$f":"'301 3236301 Pol'!C293","v":"Staveništní přesun hmot"},null,null,{"$f":"'301 3236301 Pol'!BA296","v":0},{"$f":"'301 3236301 Pol'!BB296","v":0},{"$f":"'301 3236301 Pol'!BC296","v":0},{"$f":"'301 3236301 Pol'!BD296","v":0},{"$f":"'301 3236301 Pol'!BE296","v":0}]
[null,"CELKEM  OBJEKT",null,null,{"$f":"SUM(E7:E10)","v":0},{"$f":"SUM(F7:F10)","v":0},{"$f":"SUM(G7:G10)","v":0},{"$f":"SUM(H7:H10)","v":0},{"$f":"SUM(I7:I10)","v":0}]

{"sheet":"301 3236301 Pol","index":12,"n_rows":296,"n_cols":80,"rows_kept":296,"cut":false,"hidden":false,"merged":[[0,0,0,6],[2,0,2,1],[3,0,3,1],[3,4,3,6],[8,2,8,6],[9,2,9,6],[10,2,10,3],[11,2,11,3],[18,2,18,3],[19,2,19,3],[21,2,21,6],[22,2,22,6],[23,2,23,3],[24,2,24,3],[12,2,12,3],[13,2,13,3],[14,2,14,3],[15,2,15,3],[16,2,16,3],[17,2,17,3],[31,2,31,3],[33,2,33,3],[34,2,34,3],[35,2,35,3],[36,2,36,3],[37,2,37,3],[25,2,25,3],[26,2,26,3],[27,2,27,3],[28,2,28,3],[29,2,29,3],[30,2,30,3],[45,2,45,3],[46,2,46,3],[47,2,47,3],[48,2,48,3],[49,2,49,3],[50,2,50,3],[38,2,38,3],[39,2,39,3],[40,2,40,3],[41,2,41,3],[43,2,43,6],[44,2,44,6],[58,2,58,3],[59,2,59,3],[60,2,60,3],[61,2,61,3],[62,2,62,3],[63,2,63,3],[51,2,51,3],[52,2,52,3],[53,2,53,3],[55,2,55,3],[56,2,56,3],[57,2,57,3],[71,2,71,3],[72,2,72,3],[73,2,73,3],[74,2,74,3],[75,2,75,3],[77,2,77,3],[65,2,65,3],[66,2,66,3],[67,2,67,3],[68,2,68,3],[69,2,69,3],[70,2,70,3],[85,2,85,6],[86,2,86,3],[87,2,87,3],[88,2,88,3],[89,2,89,3],[90,2,90,3],[78,2,78,3],[79,2,79,3],[80,2,80,3],[81,2,81,3],[82,2,82,3],[83,2,83,3],[99,2,99,3],[100,2,100,3],[101,2,101,3],[102,2,102,3],[103,2,103,3],[104,2,104,3],[92,2,92,3],[93,2,93,3],[94,2,94,3],[95,2,95,3],[97,2,97,3],[98,2,98,3],[117,2,117,3],[118,2,118,3],[119,2,119,3],[121,2,121,3],[122,2,122,3],[124,2,124,3],[105,2,105,3],[106,2,106,3],[107,2,107,3],[111,2,111,3],[112,2,112,3],[113,2,113,3],[114,2,114,3],[116,2,116,6],[137,2,137,6],[139,2,139,6],[140,2,140,3],[141,2,141,3],[142,2,142,3],[143,2,143,3],[125,2,125,3],[129,2,129,6],[130,2,130,6],[131,2,131,6],[132,2,132,6],[134,2,134,6],[135,2,135,6],[136,2,136,6],[152,2,152,3],[154,2,154,6],[155,2,155,3],[157,2,157,6],[158,2,158,6],[159,2,159,6],[145,2,145,6],[146,2,146,3],[148,2,148,6],[149,2,149,3],[150,2,150,3],[151,2,151,3],[167,2,167,6],[168,2,168,6],[169,2,169,6],[170,2,170,3],[172,2,172,6],[173,2,173,3],[160,2,160,6],[161,2,161,3],[162,2,162,3],[163,2,163,3],[164,2,164,3],[166,2,166,6],[182,2,182,6],[183,2,183,3],[184,2,184,3],[186,2,186,6],[187,2,187,6],[188,2,188,3],[175,2,175,6],[176,2,176,3],[177,2,177,3],[178,2,178,3],[179,2,179,3],[181,2,181,6],[197,2,197,6],[198,2,198,3],[199,2,199,3],[200,2,200,3],[201,2,201,3],[203,2,203,6],[189,2,189,3],[191,2,191,6],[192,2,192,6],[193,2,193,3],[194,2,194,3],[196,2,196,6],[212,2,212,6],[213,2,213,6],[214,2,214,6],[215,2,215,6],[216,2,216,6],[217,2,217,3],[204,2,204,3],[205,2,205,3],[207,2,207,6],[208,2,208,3],[209,2,209,3],[211,2,211,6],[225,2,225,6],[226,2,226,6],[227,2,227,6],[228,2,228,3],[230,2,230,6],[231,2,231,6],[218,2,218,3],[219,2,219,3],[220,2,220,3],[222,2,222,6],[223,2,223,6],[224,2,224,6],[238,2,238,3],[240,2,240,6],[241,2,241,6],[242,2,242,6],[243,2,243,6],[244,2,244,6],[232,2,232,6],[233,2,233,6],[234,2,234,6],[235,2,235,3],[236,2,236,3],[237,2,237,3],[252,2,252,3],[253,2,253,3],[255,2,255,3],[256,2,256,3],[257,2,257,3],[258,2,258,3],[245,2,245,3],[246,2,246,3],[247,2,247,3],[248,2,248,3],[250,2,250,3],[251,2,251,3],[267,2,267,3],[268,2,268,3],[270,2,270,3],[271,2,271,3],[272,2,272,3],[273,2,273,3],[260,2,260,3],[261,2,261,3],[262,2,262,3],[263,2,263,3],[265,2,265,3],[266,2,266,3],[294,2,294,6],[283,2,283,3],[284,2,284,3],[286,2,286,3],[287,2,287,3],[289,2,289,3],[290,2,290,3],[275,2,275,3],[276,2,276,3],[277,2,277,3],[278,2,278,3],[280,2,280,3],[281,2,281,3]]}
["Položkový rozpočet "]
[]
["Stavba :",null,"3236 Bytová zóna Hruštice - Károvsko - Etapa VII.",null,"Rozpočet:",{"$f":"'301 3236301 Rek'!H1","v":"3236/301"}]
["Objekt :",null,"301 Přeložka jednotné kanalizace",null,{"$f":"'301 3236301 Rek'!G2","v":"Přeložka jednotné kanalizace"}]
[]
["P.č.","Číslo položky","Název položky","MJ","množství","cena / MJ","celkem (Kč)","Jednotková hmotnost","Celková hmotnost","Jednotková dem.hmot.","Celková dem.hmot."]
["Díl:","1","Zemní práce",null,null,null,null,null,null,null,null,null,null,null,1]
[1,"120001101RRX","Příplatek za ztížení vykopávky v blízkosti vedení ","m3",14.9405,null,{"$f":"E8*F8","v":0},0,{"$f":"E8*H8","v":0},0,{"$f":"E8*J8","v":0},null,null,null,2,null,null,null,null,null,null,null,null,null,null,null,1,1,1,null,null,null,null,null,null,null,null,null,null,null,null,null,null,null,null,null,null,null,null,null,null,1,{"$f":"IF(AZ8=1,G8,0)","v":0},{"$f":"IF(AZ8=2,G8,0)","v":0},{"$f":"IF(AZ8=3,G8,0)","v":0},{"$f":"IF(AZ8=4,G8,0)","v":0},{"$f":"IF(AZ8=5,G8,0)","v":0},null,null,null,null,null,null,null,null,null,null,null,null,null,null,null,null,null,null,null,null,null,1,1]
[null,null,"Včetně ruční dokopávky a ručního výkopu.",null,null,null,null,null,null,null,null,"Včetně ruční dokopávky a ručního výkopu.",null,null,3]
[null,null,"Součástí položky je i případná potřeba dočasnéhon zajištění potrubí a kabelových vedení ve výkopu.",null,null,null,null,null,null,null,null,"Součástí položky je i případná potřeba dočasnéhon zajištění potrubí a kabelových vedení ve výkopu.",null,null,3]
[null,null,"Výkopy:",null,0,null,null,null,null,null,null,null,"Výkopy:"]
[null,null,"Začátek provozního součtu",null,0,null,null,null,null,null,null,null,"Začátek provozního součtu"]
[null,null,"Přeložka stoky PVC DN400:54,20*1,10*((2,05+2,18)/2-0,40)",null,102.2483,null,null,null,null,null,null,null,"Přeložka stoky PVC DN400:54,20*1,10*((2,05+2,18)/2-0,40)"]
[null,null,"Prohloubení pro RŠ:1,60*1,60*0,20*4",null,2.048,null,null,null,null,null,null,null,"Prohloubení pro RŠ:1,60*1,60*0,20*4"]
[null,null,"Rozšíření pro RŠ:1,60*(1,60-1,10)*(1,95+2,06+2,08+2,05-0,40*4)",null,5.2320000000000002,null,null,null,null,null,null,null,"Rozšíření pro RŠ:1,60*(1,60-1,10)*(1,95+2,06+2,08+2,05-0,40*4)"]
[null,null,"PKS10 PVC DN150:4,10*0,80*((2,10+1,90)/2-0,40)",null,5.2480000000000002,null,null,null,null,null,null,null,"PKS10 PVC DN150:4,10*0,80*((2,10+1,90)/2-0,40)"]
[null,null,"PKS11 PVC DN150:4,70*0,80*((2,10+1,90)/2-0,40)",null,6.016,null,null,null,null,null,null,null,"PKS11 PVC DN150:4,70*0,80*((2,10+1,90)/2-0,40)"]
[null,null,"PKS12 PVC DN150:2,90*0,80*((2,10+1,90)/2-0,40)",null,3.7120000000000002,null,null,null,null,null,null,null,"PKS12 PVC DN150:2,90*0,80*((2,10+1,90)/2-0,40)"]
[null,null,"Konec provozního součtu",null,124.50430000000001,null,null,null,null,null,null,null,"Konec provozního součtu"]
[null,null,"V hornině tř. 3 - 4 - 12%:124,5043*0,12",null,14.9405,null,null,null,null,null,null,null,"V hornině tř. 3 - 4 - 12%:124,5043*0,12"]
[2,"132201211RRX","Hloubení rýh š.do 200 cm hor.3 do 100 m3,STROJNĚ ","m3",62.252200000000002,null,{"$f":"E21*F21","v":0},0,{"$f":"E21*H21","v":0},0,{"$f":"E21*J21","v":0},null,null,null,2,null,null,null,null,null,null,null,null,null,null,null,1,1,1,null,null,null,null,null,null,null,null,null,null,null,null,null,null,null,null,null,null,null,null,null,null,1,{"$f":"IF(AZ21=1,G21,0)","v":0},{"$f":"IF(AZ21=2,G21,0)","v":0},{"$f":"IF(AZ21=3,G21,0)","v":0},{"$f":"IF(AZ21=4,G21,0)","v":0},{"$f":"IF(AZ21=5,G21,0)","v":0},null,null,null,null,null,null,null,null,null,null,null,null,null,null,null,null,null,null,null,null,null,1,1]
[null,null,"Položka obsahuje hloubení rýh traktorbagrem, naložení výkopku na dopravní prostředek pro svislé, nebo vodorovné přemístění, popř. přemístění výkopku do 3 m (po povrchu území), případné zajištění rypadel polštáři, udržování pracoviště a ochranu výkopiště proti stékání srážkové vody z okolního terénu i s jejím odvodněním, nebo odvedením, přesekání a odstranění kořenů ve výkopišti, odstranění napadávek, urovnání dna výkopu.",null,null,null,null,null,null,null,null,"Položka obsahuje hloubení rýh traktorbagrem, naložení výkopku na dopravní prostředek pro svislé, nebo vodorovné přemístění, popř. přemístění výkopku do 3 m (po povrchu území), případné zajištění rypadel polštáři, udržování pracoviště a ochranu výkopiště proti stékání srážkové vody z okolního terénu i s jejím odvodněním, nebo odvedením, přesekání a odstranění kořenů ve výkopišti, odstranění napadávek, urovnání dna výkopu.",null,null,3]
[null,null,"Součástí položky je i zřízení a odstranění pažení rýhy v souladu s předpisy BOZP.",null,null,null,null,null,null,null,null,"Součástí položky je i zřízení a odstranění pažení rýhy v souladu s předpisy BOZP.",null,null,3]
[null,null,"Začátek provozního součtu",null,0,null,null,null,null,null,null,null,"Začátek provozního součtu"]
[null,null,"Přeložka stoky PVC DN400:54,20*1,10*((2,05+2,18)/2-0,40)",null,102.2483,null,null,null,null,null,null,null,"Přeložka stoky PVC DN400:54,20*1,10*((2,05+2,18)/2-0,40)"]
[null,null,"Prohloubení pro RŠ:1,60*1,60*0,20*4",null,2.048,null,null,null,null,null,null,null,"Prohloubení pro RŠ:1,60*1,60*0,20*4"]
[null,null,"Rozšíření pro RŠ:1,60*(1,60-1,10)*(1,95+2,06+2,08+2,05-0,40*4)",null,5.2320000000000002,null,null,null,null,null,null,null,"Rozšíření pro RŠ:1,60*(1,60-1,10)*(1,95+2,06+2,08+2,05-0,40*4)"]
[null,null,"PKS10 PVC DN150:4,10*0,80*((2,10+1,90)/2-0,40)",null,5.2480000000000002,null,null,null,null,null,null,null,"PKS10 PVC DN150:4,10*0,80*((2,10+1,90)/2-0,40)"]
[null,null,"PKS11 PVC DN150:4,70*0,80*((2,10+1,90)/2-0,40)",null,6.016,null,null,null,null,null,null,null,"PKS11 PVC DN150:4,70*0,80*((2,10+1,90)/2-0,40)"]
[null,null,"PKS12 PVC DN150:2,90*0,80*((2,10+1,90)/2-0,40)",null,3.7120000000000002,null,null,null,null,null,null,null,"PKS12 PVC DN150:2,90*0,80*((2,10+1,90)/2-0,40)"]
[null,null,"Konec provozního součtu",null,124.50430000000001,null,null,null,null,null,null,null,"Konec provozního součtu"]
[null,null,"V hornině tř. 3 - 50%:124,5043*0,5",null,62.252200000000002,null,null,null,null,null,null,null,"V hornině tř. 3 - 50%:124,5043*0,5"]
[3,"132201219R00","Přípl.za lepivost,hloubení rýh 200cm,hor.3,STROJNĚ ","m3",31.126100000000001,null,{"$f":"E33*F33","v":0},0,{"$f":"E33*H33","v":0},0,{"$f":"E33*J33","v":0},null,null,null,2,null,null,null,null,null,null,null,null,null,null,null,1,1,1,null,null,null,null,null,null,null,null,null,null,null,null,null,null,null,null,null,null,null,null,null,null,1,{"$f":"IF(AZ33=1,G33,0)","v":0},{"$f":"IF(AZ33=2,G33,0)","v":0},{"$f":"IF(AZ33=3,G33,0)","v":0},{"$f":"IF(AZ33=4,G33,0)","v":0},{"$f":"IF(AZ33=5,G33,0)","v":0},null,null,null,null,null,null,null,null,null,null,null,null,null,null,null,null,null,null,null,null,null,1,1]
[null,null,"Začátek provozního součtu",null,0,null,null,null,null,null,null,null,"Začátek provozního součtu"]
[null,null,"Přeložka stoky PVC DN400:54,20*1,10*((2,05+2,18)/2-0,40)",null,102.2483,null,null,null,null,null,null,null,"Přeložka stoky PVC DN400:54,20*1,10*((2,05+2,18)/2-0,40)"]
[null,null,"Prohloubení pro RŠ:1,60*1,60*0,20*4",null,2.048,null,null,null,null,null,null,null,"Prohloubení pro RŠ:1,60*1,60*0,20*4"]
[null,null,"Rozšíření pro RŠ:1,60*(1,60-1,10)*(1,95+2,06+2,08+2,05-0,40*4)",null,5.2320000000000002,null,null,null,null,null,null,null,"Rozšíření pro RŠ:1,60*(1,60-1,10)*(1,95+2,06+2,08+2,05-0,40*4)"]
[null,null,"PKS10 PVC DN150:4,10*0,80*((2,10+1,90)/2-0,40)",null,5.2480000000000002,null,null,null,null,null,null,null,"PKS10 PVC DN150:4,10*0,80*((2,10+1,90)/2-0,40)"]
[null,null,"PKS11 PVC DN150:4,70*0,80*((2,10+1,90)/2-0,40)",null,6.016,null,null,null,null,null,null,null,"PKS11 PVC DN150:4,70*0,80*((2,10+1,90)/2-0,40)"]
[null,null,"PKS12 PVC DN150:2,90*0,80*((2,10+1,90)/2-0,40)",null,3.7120000000000002,null,null,null,null,null,null,null,"PKS12 PVC DN150:2,90*0,80*((2,10+1,90)/2-0,40)"]
[null,null,"Konec provozního součtu",null,124.50430000000001,null,null,null,null,null,null,null,"Konec provozního součtu"]
[null,null,"V hornině tř. 3 - 50%:124,5043*0,5*0,5",null,31.126100000000001,null,null,null,null,null,null,null,"V hornině tř. 3 - 50%:124,5043*0,5*0,5"]
[4,"132301211RRX","Hloubení rýh š.do 200 cm hor.4 do 100 m3, STROJNĚ ","m3",62.252200000000002,null,{"$f":"E43*F43","v":0},0,{"$f":"E43*H43","v":0},0,{"$f":"E43*J43","v":0},null,null,null,2,null,null,null,null,null,null,null,null,null,null,null,1,1,1,null,null,null,null,null,null,null,null,null,null,null,null,null,null,null,null,null,null,null,null,null,null,1,{"$f":"IF(AZ43=1,G43,0)","v":0},{"$f":"IF(AZ43=2,G43,0)","v":0},{"$f":"IF(AZ43=3,G43,0)","v":0},{"$f":"IF(AZ43=4,G43,0)","v":0},{"$f":"IF(AZ43=5,G43,0)","v":0},null,null,null,null,null,null,null,null,null,null,null,null,null,null,null,null,null,null,null,null,null,1,1]
[null,null,"Položka obsahuje hloubení rýh traktorbagrem, naložení výkopku na dopravní prostředek pro svislé, nebo vodorovné přemístění, popř. přemístění výkopku do 3 m (po povrchu území), případné zajištění rypadel polštáři, udržování pracoviště a ochranu výkopiště proti stékání srážkové vody z okolního terénu i s jejím odvodněním, nebo odvedením, přesekání a odstranění kořenů ve výkopišti, odstranění napadávek, urovnání dna výkopu.",null,null,null,null,null,null,null,null,"Položka obsahuje hloubení rýh traktorbagrem, naložení výkopku na dopravní prostředek pro svislé, nebo vodorovné přemístění, popř. přemístění výkopku do 3 m (po povrchu území), případné zajištění rypadel polštáři, udržování pracoviště a ochranu výkopiště proti stékání srážkové vody z okolního terénu i s jejím odvodněním, nebo odvedením, přesekání a odstranění kořenů ve výkopišti, odstranění napadávek, urovnání dna výkopu.",null,null,3]
[null,null,"Součástí položky je i zřízení a odstranění pažení rýhy v souladu s předpisy BOZP.",null,null,null,null,null,null,null,null,"Součástí položky je i zřízení a odstranění pažení rýhy v souladu s předpisy BOZP.",null,null,3]
[null,null,"Začátek provozního součtu",null,0,null,null,null,null,null,null,null,"Začátek provozního součtu"]
[null,null,"Přeložka stoky PVC DN400:54,20*1,10*((2,05+2,18)/2-0,40)",null,102.2483,null,null,null,null,null,null,null,"Přeložka stoky PVC DN400:54,20*1,10*((2,05+2,18)/2-0,40)"]
[null,null,"Prohloubení pro RŠ:1,60*1,60*0,20*4",null,2.048,null,null,null,null,null,null,null,"Prohloubení pro RŠ:1,60*1,60*0,20*4"]
[null,null,"Rozšíření pro RŠ:1,60*(1,60-1,10)*(1,95+2,06+2,08+2,05-0,40*4)",null,5.2320000000000002,null,null,null,null,null,null,null,"Rozšíření pro RŠ:1,60*(1,60-1,10)*(1,95+2,06+2,08+2,05-0,40*4)"]
[null,null,"PKS10 PVC DN150:4,10*0,80*((2,10+1,90)/2-0,40)",null,5.2480000000000002,null,null,null,null,null,null,null,"PKS10 PVC DN150:4,10*0,80*((2,10+1,90)/2-0,40)"]
[null,null,"PKS11 PVC DN150:4,70*0,80*((2,10+1,90)/2-0,40)",null,6.016,null,null,null,null,null,null,null,"PKS11 PVC DN150:4,70*0,80*((2,10+1,90)/2-0,40)"]
[null,null,"PKS12 PVC DN150:2,90*0,80*((2,10+1,90)/2-0,40)",null,3.7120000000000002,null,null,null,null,null,null,null,"PKS12 PVC DN150:2,90*0,80*((2,10+1,90)/2-0,40)"]
[null,null,"Konec provozního součtu",null,124.50430000000001,null,null,null,null,null,null,null,"Konec provozního součtu"]
[null,null,"V hornině tř. 4 - 50%:124,5043*0,5",null,62.252200000000002,null,null,null,null,null,null,null,"V hornině tř. 4 - 50%:124,5043*0,5"]
[5,"132301219R00","Přípl.za lepivost,hloubení rýh 200cm,hor.4,STROJNĚ ","m3",31.126100000000001,null,{"$f":"E55*F55","v":0},0,{"$f":"E55*H55","v":0},0,{"$f":"E55*J55","v":0},null,null,null,2,null,null,null,null,null,null,null,null,null,null,null,1,1,1,null,null,null,null,null,null,null,null,null,null,null,null,null,null,null,null,null,null,null,null,null,null,1,{"$f":"IF(AZ55=1,G55,0)","v":0},{"$f":"IF(AZ55=2,G55,0)","v":0},{"$f":"IF(AZ55=3,G55,0)","v":0},{"$f":"IF(AZ55=4,G55,0)","v":0},{"$f":"IF(AZ55=5,G55,0)","v":0},null,null,null,null,null,null,null,null,null,null,null,null,null,null,null,null,null,null,null,null,null,1,1]
[null,null,"Začátek provozního součtu",null,0,null,null,null,null,null,null,null,"Začátek provozního součtu"]
[null,null,"Přeložka stoky PVC DN400:54,20*1,10*((2,05+2,18)/2-0,40)",null,102.2483,null,null,null,null,null,null,null,"Přeložka stoky PVC DN400:54,20*1,10*((2,05+2,18)/2-0,40)"]
[null,null,"Prohloubení pro RŠ:1,60*1,60*0,20*4",null,2.048,null,null,null,null,null,null,null,"Prohloubení pro RŠ:1,60*1,60*0,20*4"]
[null,null,"Rozšíření pro RŠ:1,60*(1,60-1,10)*(1,95+2,06+2,08+2,05-0,40*4)",null,5.2320000000000002,null,null,null,null,null,null,null,"Rozšíření pro RŠ:1,60*(1,60-1,10)*(1,95+2,06+2,08+2,05-0,40*4)"]
[null,null,"PKS10 PVC DN150:4,10*0,80*((2,10+1,90)/2-0,40)",null,5.2480000000000002,null,null,null,null,null,null,null,"PKS10 PVC DN150:4,10*0,80*((2,10+1,90)/2-0,40)"]
[null,null,"PKS11 PVC DN150:4,70*0,80*((2,10+1,90)/2-0,40)",null,6.016,null,null,null,null,null,null,null,"PKS11 PVC DN150:4,70*0,80*((2,10+1,90)/2-0,40)"]
[null,null,"PKS12 PVC DN150:2,90*0,80*((2,10+1,90)/2-0,40)",null,3.7120000000000002,null,null,null,null,null,null,null,"PKS12 PVC DN150:2,90*0,80*((2,10+1,90)/2-0,40)"]
[null,null,"Konec provozního součtu",null,124.50430000000001,null,null,null,null,null,null,null,"Konec provozního součtu"]
[null,null,"V hornině tř. 4 - 50%:124,5043*0,5*0,5",null,31.126100000000001,null,null,null,null,null,null,null,"V hornině tř. 4 - 50%:124,5043*0,5*0,5"]
[6,"162701105RSZ","Vodorovné přemístění výkopku z hor.1-7 na skládku zhotovitele","m3",96.096299999999999,null,{"$f":"E65*F65","v":0},0,{"$f":"E65*H65","v":0},0,{"$f":"E65*J65","v":0},null,null,null,2,null,null,null,null,null,null,null,null,null,null,null,1,1,1,null,null,null,null,null,null,null,null,null,null,null,null,null,null,null,null,null,null,null,null,null,null,1,{"$f":"IF(AZ65=1,G65,0)","v":0},{"$f":"IF(AZ65=2,G65,0)","v":0},{"$f":"IF(AZ65=3,G65,0)","v":0},{"$f":"IF(AZ65=4,G65,0)","v":0},{"$f":"IF(AZ65=5,G65,0)","v":0},null,null,null,null,null,null,null,null,null,null,null,null,null,null,null,null,null,null,null,null,null,1,1]
[null,null,"Výkopy:",null,0,null,null,null,null,null,null,null,"Výkopy:"]
[null,null,"Začátek provozního součtu",null,0,null,null,null,null,null,null,null,"Začátek provozního součtu"]
[null,null,"Přeložka stoky PVC DN400:54,20*1,10*((2,05+2,18)/2-0,40)",null,102.2483,null,null,null,null,null,null,null,"Přeložka stoky PVC DN400:54,20*1,10*((2,05+2,18)/2-0,40)"]
[null,null,"Prohloubení pro RŠ:1,60*1,60*0,20*4",null,2.048,null,null,null,null,null,null,null,"Prohloubení pro RŠ:1,60*1,60*0,20*4"]
[null,null,"Rozšíření pro RŠ:1,60*(1,60-1,10)*(1,95+2,06+2,08+2,05-0,40*4)",null,5.2320000000000002,null,null,null,null,null,null,null,"Rozšíření pro RŠ:1,60*(1,60-1,10)*(1,95+2,06+2,08+2,05-0,40*4)"]
[null,null,"PKS10 PVC DN150:4,10*0,80*((2,10+1,90)/2-0,40)",null,5.2480000000000002,null,null,null,null,null,null,null,"PKS10 PVC DN150:4,10*0,80*((2,10+1,90)/2-0,40)"]
[null,null,"PKS11 PVC DN150:4,70*0,80*((2,10+1,90)/2-0,40)",null,6.016,null,null,null,null,null,null,null,"PKS11 PVC DN150:4,70*0,80*((2,10+1,90)/2-0,40)"]
[null,null,"PKS12 PVC DN150:2,90*0,80*((2,10+1,90)/2-0,40)",null,3.7120000000000002,null,null,null,null,null,null,null,"PKS12 PVC DN150:2,90*0,80*((2,10+1,90)/2-0,40)"]
[null,null,"Konec provozního součtu",null,124.50430000000001,null,null,null,null,null,null,null,"Konec provozního součtu"]
[null,null,"V hornině tř. 3 - 4 :124,5043",null,124.5043,null,null,null,null,null,null,null,"V hornině tř. 3 - 4 :124,5043"]
[null,null,"Odpočet zásypů zeminou:-28,4080",null,-28.408000000000001,null,null,null,null,null,null,null,"Odpočet zásypů zeminou:-28,4080"]
[7,"174100050RAA","Zásyp jam,rýh a šachet štěrkodrtí fr. 0-63 mm včetně dovozu štěrkodrtě","m3",43.069400000000002,null,{"$f":"E77*F77","v":0},1.873,{"$f":"E77*H77","v":80.668986200000006},0,{"$f":"E77*J77","v":0},null,null,null,2,null,null,null,null,null,null,null,null,null,null,null,1,1,1,null,null,null,null,null,null,null,null,null,null,null,null,null,null,null,null,null,null,null,null,null,null,1,{"$f":"IF(AZ77=1,G77,0)","v":0},{"$f":"IF(AZ77=2,G77,0)","v":0},{"$f":"IF(AZ77=3,G77,0)","v":0},{"$f":"IF(AZ77=4,G77,0)","v":0},{"$f":"IF(AZ77=5,G77,0)","v":0},null,null,null,null,null,null,null,null,null,null,null,null,null,null,null,null,null,null,null,null,null,1,1]
[null,null,"Přeložka stoky PVC DN400:54,20*1,10*((2,05+2,18)/2-0,40-0,10-0,40-0,30-0,30)",null,36.6663,null,null,null,null,null,null,null,"Přeložka stoky PVC DN400:54,20*1,10*((2,05+2,18)/2-0,40-0,10-0,40-0,30-0,30)"]
[null,null,"Prohloubení pro RŠ:1,60*1,60*0,20*4",null,2.048,null,null,null,null,null,null,null,"Prohloubení pro RŠ:1,60*1,60*0,20*4"]
[null,null,"Rozšíření pro RŠ:1,60*(1,60-1,10)*(1,95+2,06+2,08+2,05-0,40*4)",null,5.2320000000000002,null,null,null,null,null,null,null,"Rozšíření pro RŠ:1,60*(1,60-1,10)*(1,95+2,06+2,08+2,05-0,40*4)"]
[null,null,"Odpočet objemu RŠ:-7,8969",null,-7.8968999999999996,null,null,null,null,null,null,null,"Odpočet objemu RŠ:-7,8969"]
[null,null,"PKS10 PVC DN150:4,10*0,80*((2,10+1,90)/2-0,40-0,10-0,15-0,30-0,30)",null,2.46,null,null,null,null,null,null,null,"PKS10 PVC DN150:4,10*0,80*((2,10+1,90)/2-0,40-0,10-0,15-0,30-0,30)"]
[null,null,"PKS11 PVC DN150:4,70*0,80*((2,10+1,90)/2-0,40-0,10-0,15-0,30-0,30)",null,2.82,null,null,null,null,null,null,null,"PKS11 PVC DN150:4,70*0,80*((2,10+1,90)/2-0,40-0,10-0,15-0,30-0,30)"]
[null,null,"PKS12 PVC DN150:2,90*0,80*((2,10+1,90)/2-0,40-0,10-0,15-0,30-0,30)",null,1.74,null,null,null,null,null,null,null,"PKS12 PVC DN150:2,90*0,80*((2,10+1,90)/2-0,40-0,10-0,15-0,30-0,30)"]
[8,"174101101R00","Zásyp jam, rýh, šachet se zhutněním ","m3",28.408000000000001,null,{"$f":"E85*F85","v":0},0,{"$f":"E85*H85","v":0},0,{"$f":"E85*J85","v":0},null,null,null,2,null,null,null,null,null,null,null,null,null,null,null,1,1,1,null,null,null,null,null,null,null,null,null,null,null,null,null,null,null,null,null,null,null,null,null,null,1,{"$f":"IF(AZ85=1,G85,0)","v":0},{"$f":"IF(AZ85=2,G85,0)","v":0},{"$f":"IF(AZ85=3,G85,0)","v":0},{"$f":"IF(AZ85=4,G85,0)","v":0},{"$f":"IF(AZ85=5,G85,0)","v":0},null,null,null,null,null,null,null,null,null,null,null,null,null,null,null,null,null,null,null,null,null,1,1]
[null,null,"včetně strojního přemístění materiálu pro zásyp ze vzdálenosti do 10 m od okraje zásypu",null,null,null,null,null,null,null,null,"včetně strojního přemístění materiálu pro zásyp ze vzdálenosti do 10 m od okraje zásypu",null,null,3]
[null,null,"Přeložka stoky PVC DN400:54,20*1,10*0,40",null,23.847999999999999,null,null,null,null,null,null,null,"Přeložka stoky PVC DN400:54,20*1,10*0,40"]
[null,null,"Rozšíření pro RŠ:1,60*(1,60-1,10)*0,40*4",null,1.28,null,null,null,null,null,null,null,"Rozšíření pro RŠ:1,60*(1,60-1,10)*0,40*4"]
[null,null,"PKS10 PVC DN150:4,10*0,80*0,40",null,1.3120000000000001,null,null,null,null,null,null,null,"PKS10 PVC DN150:4,10*0,80*0,40"]
[null,null,"PKS11 PVC DN150:4,70*0,80*0,40",null,1.504,null,null,null,null,null,null,null,"PKS11 PVC DN150:4,70*0,80*0,40"]
[null,null,"PKS12 PVC DN150:2,90*0,40*0,40",null,0.46400000000000002,null,null,null,null,null,null,null,"PKS12 PVC DN150:2,90*0,40*0,40"]
[9,"175100020RAA","Obsyp potrubí štěrkopískem včetně dovozu štěrkopísku","m3",38.9283,null,{"$f":"E92*F92","v":0},1.873,{"$f":"E92*H92","v":72.912705900000006},0,{"$f":"E92*J92","v":0},null,null,null,2,null,null,null,null,null,null,null,null,null,null,null,1,1,1,null,null,null,null,null,null,null,null,null,null,null,null,null,null,null,null,null,null,null,null,null,null,1,{"$f":"IF(AZ92=1,G92,0)","v":0},{"$f":"IF(AZ92=2,G92,0)","v":0},{"$f":"IF(AZ92=3,G92,0)","v":0},{"$f":"IF(AZ92=4,G92,0)","v":0},{"$f":"IF(AZ92=5,G92,0)","v":0},null,null,null,null,null,null,null,null,null,null,null,null,null,null,null,null,null,null,null,null,null,1,1]
[null,null,"Přeložka stoky PVC DN400:54,20*(1,10*(0,40+0,30)-0,20^2*Pi)",null,34.923000000000002,null,null,null,null,null,null,null,"Přeložka stoky PVC DN400:54,20*(1,10*(0,40+0,30)-0,20^2*Pi)"]
[null,null,"PKS10 PVC DN150:4,10*(0,80*(0,15+0,30)-0,075^2*Pi)",null,1.4035,null,null,null,null,null,null,null,"PKS10 PVC DN150:4,10*(0,80*(0,15+0,30)-0,075^2*Pi)"]
[null,null,"PKS11 PVC DN150:4,70*(0,80*(0,15+0,30)-0,075^2*Pi)",null,1.6089,null,null,null,null,null,null,null,"PKS11 PVC DN150:4,70*(0,80*(0,15+0,30)-0,075^2*Pi)"]
[null,null,"PKS12 PVC DN150:2,90*(0,80*(0,15+0,30)-0,075^2*Pi)",null,0.99280000000000002,null,null,null,null,null,null,null,"PKS12 PVC DN150:2,90*(0,80*(0,15+0,30)-0,075^2*Pi)"]
[10,"199000002R00","Poplatek za skládku horniny 1- 7 ","m3",96.096299999999999,null,{"$f":"E97*F97","v":0},0,{"$f":"E97*H97","v":0},0,{"$f":"E97*J97","v":0},null,null,null,2,null,null,null,null,null,null,null,null,null,null,null,1,1,1,null,null,null,null,null,null,null,null,null,null,null,null,null,null,null,null,null,null,null,null,null,null,1,{"$f":"IF(AZ97=1,G97,0)","v":0},{"$f":"IF(AZ97=2,G97,0)","v":0},{"$f":"IF(AZ97=3,G97,0)","v":0},{"$f":"IF(AZ97=4,G97,0)","v":0},{"$f":"IF(AZ97=5,G97,0)","v":0},null,null,null,null,null,null,null,null,null,null,null,null,null,null,null,null,null,null,null,null,null,1,1]
[null,null,"Výkopy:",null,0,null,null,null,null,null,null,null,"Výkopy:"]
[null,null,"Začátek provozního součtu",null,0,null,null,null,null,null,null,null,"Začátek provozního součtu"]
[null,null,"Přeložka stoky PVC DN400:54,20*1,10*((2,05+2,18)/2-0,40)",null,102.2483,null,null,null,null,null,null,null,"Přeložka stoky PVC DN400:54,20*1,10*((2,05+2,18)/2-0,40)"]
[null,null,"Prohloubení pro RŠ:1,60*1,60*0,20*4",null,2.048,null,null,null,null,null,null,null,"Prohloubení pro RŠ:1,60*1,60*0,20*4"]
[null,null,"Rozšíření pro RŠ:1,60*(1,60-1,10)*(1,95+2,06+2,08+2,05-0,40*4)",null,5.2320000000000002,null,null,null,null,null,null,null,"Rozšíření pro RŠ:1,60*(1,60-1,10)*(1,95+2,06+2,08+2,05-0,40*4)"]
[null,null,"PKS10 PVC DN150:4,10*0,80*((2,10+1,90)/2-0,40)",null,5.2480000000000002,null,null,null,null,null,null,null,"PKS10 PVC DN150:4,10*0,80*((2,10+1,90)/2-0,40)"]
[null,null,"PKS11 PVC DN150:4,70*0,80*((2,10+1,90)/2-0,40)",null,6.016,null,null,null,null,null,null,null,"PKS11 PVC DN150:4,70*0,80*((2,10+1,90)/2-0,40)"]
[null,null,"PKS12 PVC DN150:2,90*0,80*((2,10+1,90)/2-0,40)",null,3.7120000000000002,null,null,null,null,null,null,null,"PKS12 PVC DN150:2,90*0,80*((2,10+1,90)/2-0,40)"]
[null,null,"Konec provozního součtu",null,124.50430000000001,null,null,null,null,null,null,null,"Konec provozního součtu"]
[null,null,"V hornině tř. 3 - 4 :124,5043",null,124.5043,null,null,null,null,null,null,null,"V hornině tř. 3 - 4 :124,5043"]
[null,null,"Odpočet zásypů zeminou:-28,4080",null,-28.408000000000001,null,null,null,null,null,null,null,"Odpočet zásypů zeminou:-28,4080"]
[null,"Celkem za","1 Zemní práce",null,null,null,{"$f":"SUM(G7:G108)","v":0},null,{"$f":"SUM(I7:I108)","v":153.5816921},null,{"$f":"SUM(K7:K108)","v":0},null,null,null,4,null,null,null,null,null,null,null,null,null,null,null,null,null,null,null,null,null,null,null,null,null,null,null,null,null,null,null,null,null,null,null,null,null,null,null,null,null,{"$f":"SUM(BA7:BA108)","v":0},{"$f":"SUM(BB7:BB108)","v":0},{"$f":"SUM(BC7:BC108)","v":0},{"$f":"SUM(BD7:BD108)","v":0},{"$f":"SUM(BE7:BE108)","v":0}]
["Díl:","45","Podkladní a vedlejší konstrukce",null,null,null,null,null,null,null,null,null,null,null,1]
[11,"451572111R00","Lože pod potrubí z kameniva těženého 0 - 4 mm ","m3",6.782,null,{"$f":"E111*F111","v":0},0.43051,{"$f":"E111*H111","v":2.9197188199999999},0,{"$f":"E111*J111","v":0},null,null,null,2,null,null,null,null,null,null,null,null,null,null,null,1,1,1,null,null,null,null,null,null,null,null,null,null,null,null,null,null,null,null,null,null,null,null,null,null,1,{"$f":"IF(AZ111=1,G111,0)","v":0},{"$f":"IF(AZ111=2,G111,0)","v":0},{"$f":"IF(AZ111=3,G111,0)","v":0},{"$f":"IF(AZ111=4,G111,0)","v":0},{"$f":"IF(AZ111=5,G111,0)","v":0},null,null,null,null,null,null,null,null,null,null,null,null,null,null,null,null,null,null,null,null,null,1,1]
[null,null,"Přeložka stoky PVC DN400:54,20*1,10*0,10",null,5.9619999999999997,null,null,null,null,null,null,null,"Přeložka stoky PVC DN400:54,20*1,10*0,10"]
[null,null,"PKS10 PVC DN150:4,10*0,80*0,10",null,0.32800000000000001,null,null,null,null,null,null,null,"PKS10 PVC DN150:4,10*0,80*0,10"]
[null,null,"PKS11 PVC DN150:4,70*0,80*0,10",null,0.376,null,null,null,null,null,null,null,"PKS11 PVC DN150:4,70*0,80*0,10"]
[null,null,"PKS12 PVC DN150:2,90*0,40*0,10",null,0.11600000000000001,null,null,null,null,null,null,null,"PKS12 PVC DN150:2,90*0,40*0,10"]
[12,"452112111R00","Osazení beton. prstenců pod poklopy,výšky do100 mm ","kus",7,null,{"$f":"E116*F116","v":0},6.6E-3,{"$f":"E116*H116","v":4.6199999999999998E-2},0,{"$f":"E116*J116","v":0},null,null,null,2,null,null,null,null,null,null,null,null,null,null,null,1,1,1,null,null,null,null,null,null,null,null,null,null,null,null,null,null,null,null,null,null,null,null,null,null,1,{"$f":"IF(AZ116=1,G116,0)","v":0},{"$f":"IF(AZ116=2,G116,0)","v":0},{"$f":"IF(AZ116=3,G116,0)","v":0},{"$f":"IF(AZ116=4,G116,0)","v":0},{"$f":"IF(AZ116=5,G116,0)","v":0},null,null,null,null,null,null,null,null,null,null,null,null,null,null,null,null,null,null,null,null,null,1,1]
[null,null,"Volba položky se řídí výškou prstence nebo rámu. V položkách nejsou zakalkulovány náklady na dodávku betonových výrobků;",null,null,null,null,null,null,null,null,"Volba položky se řídí výškou prstence nebo rámu. V položkách nejsou zakalkulovány náklady na dodávku betonových výrobků;",null,null,3]
[null,null,"Přeložka stoky PVC DN400:",null,0,null,null,null,null,null,null,null,"Přeložka stoky PVC DN400:"]
[null,null,"VP H6:1",null,1,null,null,null,null,null,null,null,"VP H6:1"]
[null,null,"VP H10:6",null,6,null,null,null,null,null,null,null,"VP H10:6"]
[13,"59224346.B","Prstenec vyrovn šachetní TBW-Q 60/625/120","kus",1.01,null,{"$f":"E121*F121","v":0},0.04,{"$f":"E121*H121","v":4.0399999999999998E-2},null,{"$f":"E121*J121","v":0},null,null,null,2,null,null,null,null,null,null,null,null,null,null,null,3,1,"59224346.B",null,null,null,null,null,null,null,null,null,null,null,null,null,null,null,null,null,null,null,null,null,null,1,{"$f":"IF(AZ121=1,G121,0)","v":0},{"$f":"IF(AZ121=2,G121,0)","v":0},{"$f":"IF(AZ121=3,G121,0)","v":0},{"$f":"IF(AZ121=4,G121,0)","v":0},{"$f":"IF(AZ121=5,G121,0)","v":0},null,null,null,null,null,null,null,null,null,null,null,null,null,null,null,null,null,null,null,null,null,3,1]
[null,null,"Přeložka stoky PVC DN400:",null,0,null,null,null,null,null,null,null,"Přeložka stoky PVC DN400:"]
[null,null,"VP H6:1*1,01",null,1.01,null,null,null,null,null,null,null,"VP H6:1*1,01"]
[14,"59224348.B","Prstenec vyrovn šachetní TBW-Q 100/625/120","kus",6.06,null,{"$f":"E124*F124","v":0},6.8000000000000005E-2,{"$f":"E124*H124","v":0.41208},null,{"$f":"E124*J124","v":0},null,null,null,2,null,null,null,null,null,null,null,null,null,null,null,3,1,"59224348.B",null,null,null,null,null,null,null,null,null,null,null,null,null,null,null,null,null,null,null,null,null,null,1,{"$f":"IF(AZ124=1,G124,0)","v":0},{"$f":"IF(AZ124=2,G124,0)","v":0},{"$f":"IF(AZ124=3,G124,0)","v":0},{"$f":"IF(AZ124=4,G124,0)","v":0},{"$f":"IF(AZ124=5,G124,0)","v":0},null,null,null,null,null,null,null,null,null,null,null,null,null,null,null,null,null,null,null,null,null,3,1]
[null,null,"Přeložka stoky PVC DN400:",null,0,null,null,null,null,null,null,null,"Přeložka stoky PVC DN400:"]
[null,null,"VP H10:6*1,01",null,6.06,null,null,null,null,null,null,null,"VP H10:6*1,01"]
[null,"Celkem za","45 Podkladní a vedlejší konstrukce",null,null,null,{"$f":"SUM(G110:G126)","v":0},null,{"$f":"SUM(I110:I126)","v":3.4183988199999997},null,{"$f":"SUM(K110:K126)","v":0},null,null,null,4,null,null,null,null,null,null,null,null,null,null,null,null,null,null,null,null,null,null,null,null,null,null,null,null,null,null,null,null,null,null,null,null,null,null,null,null,null,{"$f":"SUM(BA110:BA126)","v":0},{"$f":"SUM(BB110:BB126)","v":0},{"$f":"SUM(BC110:BC126)","v":0},{"$f":"SUM(BD110:BD126)","v":0},{"$f":"SUM(BE110:BE126)","v":0}]
["Díl:","8","Trubní vedení",null,null,null,null,null,null,null,null,null,null,null,1]
[15,"831350124RAA","Propojení PVC potrubí DN400 na stávající šachtu ","soubor",1,null,{"$f":"E129*F129","v":0},2.0468099999999998,{"$f":"E129*H129","v":2.0468099999999998},0,{"$f":"E129*J129","v":0},null,null,null,2,null,null,null,null,null,null,null,null,null,null,null,1,1,1,null,null,null,null,null,null,null,null,null,null,null,null,null,null,null,null,null,null,null,null,null,null,1,{"$f":"IF(AZ129=1,G129,0)","v":0},{"$f":"IF(AZ129=2,G129,0)","v":0},{"$f":"IF(AZ129=3,G129,0)","v":0},{"$f":"IF(AZ129=4,G129,0)","v":0},{"$f":"IF(AZ129=5,G129,0)","v":0},null,null,null,null,null,null,null,null,null,null,null,null,null,null,null,null,null,null,null,null,null,1,1]
[null,null,"Součástí položky je:",null,null,null,null,null,null,null,null,"Součástí položky je:",null,null,3]
[null,null,"- úprava kynety revizní šachty",null,null,null,null,null,null,null,null,"- úprava kynety revizní šachty",null,null,3]
[null,null,"- vyvrtání otvoru pro osazení šachtové vložky DN500",null,null,null,null,null,null,null,null,"- vyvrtání otvoru pro osazení šachtové vložky DN500",null,null,3]
[null,null,"- začištění otvoru",null,null,null,null,null,null,null,null,"- začištění otvoru",null,null,3]
[16,"831350223RAA","Propojení PP potrubí DN400 na novou šachtu ","soubor",1,null,{"$f":"E134*F134","v":0},2.0468099999999998,{"$f":"E134*H134","v":2.0468099999999998},0,{"$f":"E134*J134","v":0},null,null,null,2,null,null,null,null,null,null,null,null,null,null,null,1,1,1,null,null,null,null,null,null,null,null,null,null,null,null,null,null,null,null,null,null,null,null,null,null,1,{"$f":"IF(AZ134=1,G134,0)","v":0},{"$f":"IF(AZ134=2,G134,0)","v":0},{"$f":"IF(AZ134=3,G134,0)","v":0},{"$f":"IF(AZ134=4,G134,0)","v":0},{"$f":"IF(AZ134=5,G134,0)","v":0},null,null,null,null,null,null,null,null,null,null,null,null,null,null,null,null,null,null,null,null,null,1,1]
[null,null,"Součástí položky je:",null,null,null,null,null,null,null,null,"Součástí položky je:",null,null,3]
[null,null,"- úprava stávajícího potrubí",null,null,null,null,null,null,null,null,"- úprava stávajícího potrubí",null,null,3]
[null,null,"- propojení na novou RŠ včetně dodávky a montáže příslušných propojovacích prvků a potrubí",null,null,null,null,null,null,null,null,"- propojení na novou RŠ včetně dodávky a montáže příslušných propojovacích prvků a potrubí",null,null,3]
[null,null,null,null,null,null,null,null,null,null,null,null,null,null,3]
[17,"871311111RRX","Montáž trubek z PVC/PP ve výkopu DN 150 mm ","m",11.7,null,{"$f":"E139*F139","v":0},1E-4,{"$f":"E139*H139","v":1.17E-3},0,{"$f":"E139*J139","v":0},null,null,null,2,null,null,null,null,null,null,null,null,null,null,null,1,0,0,null,null,null,null,null,null,null,null,null,null,null,null,null,null,null,null,null,null,null,null,null,null,1,{"$f":"IF(AZ139=1,G139,0)","v":0},{"$f":"IF(AZ139=2,G139,0)","v":0},{"$f":"IF(AZ139=3,G139,0)","v":0},{"$f":"IF(AZ139=4,G139,0)","v":0},{"$f":"IF(AZ139=5,G139,0)","v":0},null,null,null,null,null,null,null,null,null,null,null,null,null,null,null,null,null,null,null,null,null,1,0]
[null,null,"Položka je určena pro montáž potrubí z PVC nabo PP těsněných gumovým kroužkem. Volba položky se řídí vnějším průměrem trubky. V položce jsou zakalkulovány i náklady na montáž tvarovek. V položce nejsou zakalkulovány náklady na dodání trubek a tvarovek; tyto materiály se oceňují ve specifikaci.",null,null,null,null,null,null,null,null,"Položka je určena pro montáž potrubí z PVC nabo PP těsněných gumovým kroužkem. Volba položky se řídí vnějším průměrem trubky. V položce jsou zakalkulovány i náklady na montáž tvarovek. V položce nejsou zakalkulovány náklady na dodání trubek a tvarovek; tyto materiály se oceňují ve specifikaci.",null,null,3]
[null,null,"Přeložka stoky PVC DN400:",null,0,null,null,null,null,null,null,null,"Přeložka stoky PVC DN400:"]
[null,null,"PKS10 PVC DN150:4,10",null,4.0999999999999996,null,null,null,null,null,null,null,"PKS10 PVC DN150:4,10"]
[null,null,"PKS11 PVC DN150:4,70",null,4.7,null,null,null,null,null,null,null,"PKS11 PVC DN150:4,70"]
[null,null,"PKS12 PVC DN150:2,90",null,2.9,null,null,null,null,null,null,null,"PKS12 PVC DN150:2,90"]
[18,"871393121RRX","Montáž trubek z PVC/PP ve výkopu DN 400 mm ","m",54.2,null,{"$f":"E145*F145","v":0},1.0000000000000001E-5,{"$f":"E145*H145","v":5.4200000000000006E-4},0,{"$f":"E145*J145","v":0},null,null,null,2,null,null,null,null,null,null,null,null,null,null,null,1,1,1,null,null,null,null,null,null,null,null,null,null,null,null,null,null,null,null,null,null,null,null,null,null,1,{"$f":"IF(AZ145=1,G145,0)","v":0},{"$f":"IF(AZ145=2,G145,0)","v":0},{"$f":"IF(AZ145=3,G145,0)","v":0},{"$f":"IF(AZ145=4,G145,0)","v":0},{"$f":"IF(AZ145=5,G145,0)","v":0},null,null,null,null,null,null,null,null,null,null,null,null,null,null,null,null,null,null,null,null,null,1,1]
[null,null,"Položka je určena pro montáž potrubí PVC těsněných gumovým kroužkem. Volba položky se řídí vnějším průměrem trubky. V položce jsou zakalkulovány i náklady na montáž tvarovek. .",null,null,null,null,null,null,null,null,"Položka je určena pro montáž potrubí PVC těsněných gumovým kroužkem. Volba položky se řídí vnějším průměrem trubky. V položce jsou zakalkulovány i náklady na montáž tvarovek. .",null,null,3]
[null,null,"Přeložka stoky PVC DN400:54,20",null,54.2,null,null,null,null,null,null,null,"Přeložka stoky PVC DN400:54,20"]
[19,"892571111R00","Zkouška těsnosti kanalizace DN do 200, vodou ","m",11.7,null,{"$f":"E148*F148","v":0},0,{"$f":"E148*H148","v":0},0,{"$f":"E148*J148","v":0},null,null,null,2,null,null,null,null,null,null,null,null,null,null,null,1,1,1,null,null,null,null,null,null,null,null,null,null,null,null,null,null,null,null,null,null,null,null,null,null,1,{"$f":"IF(AZ148=1,G148,0)","v":0},{"$f":"IF(AZ148=2,G148,0)","v":0},{"$f":"IF(AZ148=3,G148,0)","v":0},{"$f":"IF(AZ148=4,G148,0)","v":0},{"$f":"IF(AZ148=5,G148,0)","v":0},null,null,null,null,null,null,null,null,null,null,null,null,null,null,null,null,null,null,null,null,null,1,1]
[null,null,"V položce jsou zakalkulovány náklady na napuštění vodou a dodání vody pro zkoušku těsnosti.",null,null,null,null,null,null,null,null,"V položce jsou zakalkulovány náklady na napuštění vodou a dodání vody pro zkoušku těsnosti.",null,null,3]
[null,null,"Přeložka stoky PVC DN400:",null,0,null,null,null,null,null,null,null,"Přeložka stoky PVC DN400:"]
[null,null,"PKS10 PVC DN150:4,10",null,4.0999999999999996,null,null,null,null,null,null,null,"PKS10 PVC DN150:4,10"]
[null,null,"PKS11 PVC DN150:4,70",null,4.7,null,null,null,null,null,null,null,"PKS11 PVC DN150:4,70"]
[null,null,"PKS12 PVC DN150:2,90",null,2.9,null,null,null,null,null,null,null,"PKS12 PVC DN150:2,90"]
[20,"892591111R00","Zkouška těsnosti kanalizace DN do 400, vodou ","m",54.2,null,{"$f":"E154*F154","v":0},0,{"$f":"E154*H154","v":0},0,{"$f":"E154*J154","v":0},null,null,null,2,null,null,null,null,null,null,null,null,null,null,null,1,1,1,null,null,null,null,null,null,null,null,null,null,null,null,null,null,null,null,null,null,null,null,null,null,1,{"$f":"IF(AZ154=1,G154,0)","v":0},{"$f":"IF(AZ154=2,G154,0)","v":0},{"$f":"IF(AZ154=3,G154,0)","v":0},{"$f":"IF(AZ154=4,G154,0)","v":0},{"$f":"IF(AZ154=5,G154,0)","v":0},null,null,null,null,null,null,null,null,null,null,null,null,null,null,null,null,null,null,null,null,null,1,1]
[null,null,"V položce jsou zakalkulovány náklady na napuštění vodou a dodání vody pro zkoušku těsnosti včetně zavakování potrubí dle zvolené technologie zhotovitele.",null,null,null,null,null,null,null,null,"V položce jsou zakalkulovány náklady na napuštění vodou a dodání vody pro zkoušku těsnosti včetně zavakování potrubí dle zvolené technologie zhotovitele.",null,null,3]
[null,null,"Přeložka stoky PVC DN400:54,20",null,54.2,null,null,null,null,null,null,null,"Přeložka stoky PVC DN400:54,20"]
[21,"892601121R00","Čištění kanalizační stoky do DN 200, do 15 m ","úsek",3,null,{"$f":"E157*F157","v":0},0,{"$f":"E157*H157","v":0},0,{"$f":"E157*J157","v":0},null,null,null,2,null,null,null,null,null,null,null,null,null,null,null,1,1,1,null,null,null,null,null,null,null,null,null,null,null,null,null,null,null,null,null,null,null,null,null,null,1,{"$f":"IF(AZ157=1,G157,0)","v":0},{"$f":"IF(AZ157=2,G157,0)","v":0},{"$f":"IF(AZ157=3,G157,0)","v":0},{"$f":"IF(AZ157=4,G157,0)","v":0},{"$f":"IF(AZ157=5,G157,0)","v":0},null,null,null,null,null,null,null,null,null,null,null,null,null,null,null,null,null,null,null,null,null,1,1]
[null,null,"V položce je zakalkulováno:",null,null,null,null,null,null,null,null,"V položce je zakalkulováno:",null,null,3]
[null,null,"a) otevření a uzavření revizních šachet a čisticích kusů",null,null,null,null,null,null,null,null,"a) otevření a uzavření revizních šachet a čisticích kusů",null,null,3]
[null,null,"b) natažení vysokotlakých hadic k místu odkud se bude kanalizace čistit",null,null,null,null,null,null,null,null,"b) natažení vysokotlakých hadic k místu odkud se bude kanalizace čistit",null,null,3]
[null,null,"c) vyčištění potrubí tlakovou vodou nebo motorovým pérem.",null,null,null,null,null,null,null,null,"c) vyčištění potrubí tlakovou vodou nebo motorovým pérem.",null,null,3]
[null,null,"Přeložka stoky PVC DN400:",null,0,null,null,null,null,null,null,null,"Přeložka stoky PVC DN400:"]
[null,null,"PKS10 PVC DN150:1",null,1,null,null,null,null,null,null,null,"PKS10 PVC DN150:1"]
[null,null,"PKS11 PVC DN150:1",null,1,null,null,null,null,null,null,null,"PKS11 PVC DN150:1"]
[null,null,"PKS12 PVC DN150:1",null,1,null,null,null,null,null,null,null,"PKS12 PVC DN150:1"]
[22,"892601153R00","Čištění kanalizační stoky do DN 500, do 100 m ","m",54.2,null,{"$f":"E166*F166","v":0},0,{"$f":"E166*H166","v":0},0,{"$f":"E166*J166","v":0},null,null,null,2,null,null,null,null,null,null,null,null,null,null,null,1,1,1,null,null,null,null,null,null,null,null,null,null,null,null,null,null,null,null,null,null,null,null,null,null,1,{"$f":"IF(AZ166=1,G166,0)","v":0},{"$f":"IF(AZ166=2,G166,0)","v":0},{"$f":"IF(AZ166=3,G166,0)","v":0},{"$f":"IF(AZ166=4,G166,0)","v":0},{"$f":"IF(AZ166=5,G166,0)","v":0},null,null,null,null,null,null,null,null,null,null,null,null,null,null,null,null,null,null,null,null,null,1,1]
[null,null,"V položce je zakalkulováno:",null,null,null,null,null,null,null,null,"V položce je zakalkulováno:",null,null,3]
[null,null,"a) otevření a uzavření revizních šachet a čisticích kusů",null,null,null,null,null,null,null,null,"a) otevření a uzavření revizních šachet a čisticích kusů",null,null,3]
[null,null,"b) natažení vysokotlakých hadic k místu odkud se bude kanalizace čistit",null,null,null,null,null,null,null,null,"b) natažení vysokotlakých hadic k místu odkud se bude kanalizace čistit",null,null,3]
[null,null,"c) vyčištění potrubí tlakovou vodou nebo motorovým pérem.",null,null,null,null,null,null,null,null,"c) vyčištění potrubí tlakovou vodou nebo motorovým pérem.",null,null,3]
[null,null,"Přeložka stoky PVC DN400:54,20",null,54.2,null,null,null,null,null,null,null,"Přeložka stoky PVC DN400:54,20"]
[23,"892855113R00","Kontrola kanalizace TV kamerou do 100 m ","m",54.2,null,{"$f":"E172*F172","v":0},0,{"$f":"E172*H172","v":0},0,{"$f":"E172*J172","v":0},null,null,null,2,null,null,null,null,null,null,null,null,null,null,null,1,1,1,null,null,null,null,null,null,null,null,null,null,null,null,null,null,null,null,null,null,null,null,null,null,1,{"$f":"IF(AZ172=1,G172,0)","v":0},{"$f":"IF(AZ172=2,G172,0)","v":0},{"$f":"IF(AZ172=3,G172,0)","v":0},{"$f":"IF(AZ172=4,G172,0)","v":0},{"$f":"IF(AZ172=5,G172,0)","v":0},null,null,null,null,null,null,null,null,null,null,null,null,null,null,null,null,null,null,null,null,null,1,1]
[null,null,"Provedení kaberové prohlídky včetně dodání elektronického záznamu na CD zadavateli a tištěné dokumentace průběhu kamerové prohlídky",null,null,null,null,null,null,null,null,"Provedení kaberové prohlídky včetně dodání elektronického záznamu na CD zadavateli a tištěné dokumentace průběhu kamerové prohlídky",null,null,3]
[null,null,"Přeložka stoky PVC DN400:54,20",null,54.2,null,null,null,null,null,null,null,"Přeložka stoky PVC DN400:54,20"]
[24,"892916111R00","Utěsnění přípojek do DN 200 při zkoušce kanal. ","sada",3,null,{"$f":"E175*F175","v":0},2.0000000000000002E-5,{"$f":"E175*H175","v":6.0000000000000008E-5},0,{"$f":"E175*J175","v":0},null,null,null,2,null,null,null,null,null,null,null,null,null,null,null,1,1,1,null,null,null,null,null,null,null,null,null,null,null,null,null,null,null,null,null,null,null,null,null,null,1,{"$f":"IF(AZ175=1,G175,0)","v":0},{"$f":"IF(AZ175=2,G175,0)","v":0},{"$f":"IF(AZ175=3,G175,0)","v":0},{"$f":"IF(AZ175=4,G175,0)","v":0},{"$f":"IF(AZ175=5,G175,0)","v":0},null,null,null,null,null,null,null,null,null,null,null,null,null,null,null,null,null,null,null,null,null,1,1]
[null,null,"Položka je určena pro utěsnění přípojek z jakéholiv druhu potrubí při zkoušce těsnosti vzduchem nebo vodou. V položce jsou zakalkulovány náklady na osazení a odstranění těsnicích uzávěrů, naplnění vzduchem a po provedení zkoušky vypuštění vzduchu.",null,null,null,null,null,null,null,null,"Položka je určena pro utěsnění přípojek z jakéholiv druhu potrubí při zkoušce těsnosti vzduchem nebo vodou. V položce jsou zakalkulovány náklady na osazení a odstranění těsnicích uzávěrů, naplnění vzduchem a po provedení zkoušky vypuštění vzduchu.",null,null,3]
[null,null,"Přeložka stoky PVC DN400:",null,0,null,null,null,null,null,null,null,"Přeložka stoky PVC DN400:"]
[null,null,"PKS10 PVC DN150:1",null,1,null,null,null,null,null,null,null,"PKS10 PVC DN150:1"]
[null,null,"PKS11 PVC DN150:1",null,1,null,null,null,null,null,null,null,"PKS11 PVC DN150:1"]
[null,null,"PKS12 PVC DN150:1",null,1,null,null,null,null,null,null,null,"PKS12 PVC DN150:1"]
[25,"894421111RT1","Osazení betonových dílců šachet skruže rovné, na kroužek, do 0,5 t","kus",4,null,{"$f":"E181*F181","v":0},0,{"$f":"E181*H181","v":0},0,{"$f":"E181*J181","v":0},null,null,null,2,null,null,null,null,null,null,null,null,null,null,null,1,1,1,null,null,null,null,null,null,null,null,null,null,null,null,null,null,null,null,null,null,null,null,null,null,1,{"$f":"IF(AZ181=1,G181,0)","v":0},{"$f":"IF(AZ181=2,G181,0)","v":0},{"$f":"IF(AZ181=3,G181,0)","v":0},{"$f":"IF(AZ181=4,G181,0)","v":0},{"$f":"IF(AZ181=5,G181,0)","v":0},null,null,null,null,null,null,null,null,null,null,null,null,null,null,null,null,null,null,null,null,null,1,1]
[null,null,"Položka je určena pro osazení betonových dílců šachet dle DIN 4034, skruže rovné na kroužek, hmotnost do 0,5 t.",null,null,null,null,null,null,null,null,"Položka je určena pro osazení betonových dílců šachet dle DIN 4034, skruže rovné na kroužek, hmotnost do 0,5 t.",null,null,3]
[null,null,"V položce nejsou zakalkulovány náklady na dodání betonových dílců; dílce se oceňují ve specifikaci.",null,null,null,null,null,null,null,null,"V položce nejsou zakalkulovány náklady na dodání betonových dílců; dílce se oceňují ve specifikaci.",null,null,3]
[null,null,"Přeložka stoky PVC DN400:",null,0,null,null,null,null,null,null,null,"Přeložka stoky PVC DN400:"]
[null,null,"Skruž H25:4",null,4,null,null,null,null,null,null,null,"Skruž H25:4"]
[26,"894422111RT1","Osazení betonových dílců šachet skruže přechodové, na kroužek","kus",4,null,{"$f":"E186*F186","v":0},0,{"$f":"E186*H186","v":0},0,{"$f":"E186*J186","v":0},null,null,null,2,null,null,null,null,null,null,null,null,null,null,null,1,1,1,null,null,null,null,null,null,null,null,null,null,null,null,null,null,null,null,null,null,null,null,null,null,1,{"$f":"IF(AZ186=1,G186,0)","v":0},{"$f":"IF(AZ186=2,G186,0)","v":0},{"$f":"IF(AZ186=3,G186,0)","v":0},{"$f":"IF(AZ186=4,G186,0)","v":0},{"$f":"IF(AZ186=5,G186,0)","v":0},null,null,null,null,null,null,null,null,null,null,null,null,null,null,null,null,null,null,null,null,null,1,1]
[null,null,"Položka je určena pro osazení betonových dílců šachet dle DIN 4034, skruže přechodové na kroužek.",null,null,null,null,null,null,null,null,"Položka je určena pro osazení betonových dílců šachet dle DIN 4034, skruže přechodové na kroužek.",null,null,3]
[null,null,"V položce nejsou zakalkulovány náklady na dodání betonových dílců",null,null,null,null,null,null,null,null,"V položce nejsou zakalkulovány náklady na dodání betonových dílců",null,null,3]
[null,null,"Přeložka stoky PVC DN400:",null,0,null,null,null,null,null,null,null,"Přeložka stoky PVC DN400:"]
[null,null,"Kónus H60:4",null,4,null,null,null,null,null,null,null,"Kónus H60:4"]
[27,"894423111RT1","Osazení betonových dílců šachet do 2,0 t šachtová dna, na kroužek, do 2,0 t","kus",4,null,{"$f":"E191*F191","v":0},0,{"$f":"E191*H191","v":0},0,{"$f":"E191*J191","v":0},null,null,null,2,null,null,null,null,null,null,null,null,null,null,null,1,1,1,null,null,null,null,null,null,null,null,null,null,null,null,null,null,null,null,null,null,null,null,null,null,1,{"$f":"IF(AZ191=1,G191,0)","v":0},{"$f":"IF(AZ191=2,G191,0)","v":0},{"$f":"IF(AZ191=3,G191,0)","v":0},{"$f":"IF(AZ191=4,G191,0)","v":0},{"$f":"IF(AZ191=5,G191,0)","v":0},null,null,null,null,null,null,null,null,null,null,null,null,null,null,null,null,null,null,null,null,null,1,1]
[null,null,"Položka je určena pro osazení betonových dílců šachet dle DIN 4034, šachtová dna na kroužek, hmotnost do 3,0 t.",null,null,null,null,null,null,null,null,"Položka je určena pro osazení betonových dílců šachet dle DIN 4034, šachtová dna na kroužek, hmotnost do 3,0 t.",null,null,3]
[null,null,"V položce nejsou zakalkulovány náklady na dodání betonových dílců;",null,null,null,null,null,null,null,null,"V položce nejsou zakalkulovány náklady na dodání betonových dílců;",null,null,3]
[null,null,"Přeložka stoky PVC DN400:",null,0,null,null,null,null,null,null,null,"Přeložka stoky PVC DN400:"]
[null,null,"ŠD DN400-885:4",null,4,null,null,null,null,null,null,null,"ŠD DN400-885:4"]
[28,"894432112R00","Osazení plastové šachty revizní prům.425 mm ","kus",3,null,{"$f":"E196*F196","v":0},0,{"$f":"E196*H196","v":0},0,{"$f":"E196*J196","v":0},null,null,null,2,null,null,null,null,null,null,null,null,null,null,null,1,1,1,null,null,null,null,null,null,null,null,null,null,null,null,null,null,null,null,null,null,null,null,null,null,1,{"$f":"IF(AZ196=1,G196,0)","v":0},{"$f":"IF(AZ196=2,G196,0)","v":0},{"$f":"IF(AZ196=3,G196,0)","v":0},{"$f":"IF(AZ196=4,G196,0)","v":0},{"$f":"IF(AZ196=5,G196,0)","v":0},null,null,null,null,null,null,null,null,null,null,null,null,null,null,null,null,null,null,null,null,null,1,1]
[null,null,"Položka je určena pro osazení plastových revizních šachet, tvořených dnem z PP nebo PE se vtoky a výtoky a šachtovou rourou korugovanou (zvlněnou) na připravený podklad. Dno z PP se používá pro potrubí o průměru 110 - 200 mm, dno z PE pro potrubí 250 - 400 mm.",null,null,null,null,null,null,null,null,"Položka je určena pro osazení plastových revizních šachet, tvořených dnem z PP nebo PE se vtoky a výtoky a šachtovou rourou korugovanou (zvlněnou) na připravený podklad. Dno z PP se používá pro potrubí o průměru 110 - 200 mm, dno z PE pro potrubí 250 - 400 mm.",null,null,3]
[null,null,"V položce nejsou zakalkulovány náklady na dodání plastových dílců; dílce se oceňují ve specifikaci. Ztratné se nedoporučuje.",null,null,null,null,null,null,null,null,"V položce nejsou zakalkulovány náklady na dodání plastových dílců; dílce se oceňují ve specifikaci. Ztratné se nedoporučuje.",null,null,3]
[null,null,"Přeložka stoky PVC DN400:",null,0,null,null,null,null,null,null,null,"Přeložka stoky PVC DN400:"]
[null,null,"PKS10 PVC DN150:1",null,1,null,null,null,null,null,null,null,"PKS10 PVC DN150:1"]
[null,null,"PKS11 PVC DN150:1",null,1,null,null,null,null,null,null,null,"PKS11 PVC DN150:1"]
[null,null,"PKS12 PVC DN150:1",null,1,null,null,null,null,null,null,null,"PKS12 PVC DN150:1"]
[29,"899104111RT2","Osazení poklopu s rámem nad 150 kg včetně dodávky poklopu šachtového lit. D 650","kus",4,null,{"$f":"E203*F203","v":0},0.16502,{"$f":"E203*H203","v":0.66008},0,{"$f":"E203*J203","v":0},null,null,null,2,null,null,null,null,null,null,null,null,null,null,null,1,1,1,null,null,null,null,null,null,null,null,null,null,null,null,null,null,null,null,null,null,null,null,null,null,1,{"$f":"IF(AZ203=1,G203,0)","v":0},{"$f":"IF(AZ203=2,G203,0)","v":0},{"$f":"IF(AZ203=3,G203,0)","v":0},{"$f":"IF(AZ203=4,G203,0)","v":0},{"$f":"IF(AZ203=5,G203,0)","v":0},null,null,null,null,null,null,null,null,null,null,null,null,null,null,null,null,null,null,null,null,null,1,1]
[null,null,"Poklop samonivelační dle PD ",null,null,null,null,null,null,null,null,"Poklop samonivelační dle PD ",null,null,3]
[null,null,"Přeložka stoky PVC DN400:",null,0,null,null,null,null,null,null,null,"Přeložka stoky PVC DN400:"]
[null,null,"Poklop:4",null,4,null,null,null,null,null,null,null,"Poklop:4"]
[30,"899227000RRX","Zaplavení potrubí do DN500 popílkocement. směsí včetně vytvoření vstupů do stáv.potrubí","m3",8.875,null,{"$f":"E207*F207","v":0},2.2000000000000002,{"$f":"E207*H207","v":19.525000000000002},0,{"$f":"E207*J207","v":0},null,null,null,2,null,null,null,null,null,null,null,null,null,null,null,1,0,0,null,null,null,null,null,null,null,null,null,null,null,null,null,null,null,null,null,null,null,null,null,null,1,{"$f":"IF(AZ207=1,G207,0)","v":0},{"$f":"IF(AZ207=2,G207,0)","v":0},{"$f":"IF(AZ207=3,G207,0)","v":0},{"$f":"IF(AZ207=4,G207,0)","v":0},{"$f":"IF(AZ207=5,G207,0)","v":0},null,null,null,null,null,null,null,null,null,null,null,null,null,null,null,null,null,null,null,null,null,1,0]
[null,null,"Součástí položky je i vyčištění stávající stoky a odbourání části stávajících RŠ a jejich zaplavení",null,null,null,null,null,null,null,null,"Součástí položky je i vyčištění stávající stoky a odbourání části stávajících RŠ a jejich zaplavení",null,null,3]
[null,null,"Přeložka stoky PVC DN400:",null,0,null,null,null,null,null,null,null,"Přeložka stoky PVC DN400:"]
[null,null,"Stávající stoka DN400:8,8750",null,8.875,null,null,null,null,null,null,null,"Stávající stoka DN400:8,8750"]
[31,"286111903","Trubka kanalizační PVC SN min. 12 DN 150","kus",12.7881,null,{"$f":"E211*F211","v":0},3.0599999999999999E-2,{"$f":"E211*H211","v":0.39131585999999996},null,{"$f":"E211*J211","v":0},null,null,null,2,null,null,null,null,null,null,null,null,null,null,null,3,1,286111903,null,null,null,null,null,null,null,null,null,null,null,null,null,null,null,null,null,null,null,null,null,null,1,{"$f":"IF(AZ211=1,G211,0)","v":0},{"$f":"IF(AZ211=2,G211,0)","v":0},{"$f":"IF(AZ211=3,G211,0)","v":0},{"$f":"IF(AZ211=4,G211,0)","v":0},{"$f":"IF(AZ211=5,G211,0)","v":0},null,null,null,null,null,null,null,null,null,null,null,null,null,null,null,null,null,null,null,null,null,3,1]
[null,null,"Jedná  se  o  plnostěnné kanalizační trubky DN 150 – DN 400, min. SN 12 kN/m2 , zvenčí  i  zevnitř  hladké. Jsou  opatřeny hrdlem,  v  němž  je  vložen vysoce  elastický  jazýčkový  kroužek.  konce  trubek  (dříků)  jsou opatřeny  zkosením  pod  úhlem  15°.  Způsob  použití  trubek  je  „U“  dle  normy  ČSN  EN  1401-1, tj. mimo budovy. Spolehlivá  funkce  těsnění  je  jištěna  výztužným  kroužkem  z  elastomeru.  Je  tak  zamezeno  vypad-nutí nebo vytlačení kroužku při manipulaci a montáži. Tento systém zaručuje při správné montáži ",null,null,null,null,null,null,null,null,"Jedná  se  o  plnostěnné kanalizační trubky DN 150 – DN 400, min. SN 12 kN/m2 , zvenčí  i  zevnitř  hladké. Jsou  opatřeny hrdlem,  v  němž  je  vložen vysoce  elastický  jazýčkový  kroužek.  konce  trubek  (dříků)  jsou opatřeny  zkosením  pod  úhlem  15°.  Způsob  použití  trubek  je  „U“  dle  normy  ČSN  EN  1401-1, tj. mimo budovy. Spolehlivá  funkce  těsnění  je  jištěna  výztužným  kroužkem  z  elastomeru.  Je  tak  zamezeno  vypad-nutí nebo vytlačení kroužku při manipulaci a montáži. Tento systém zaručuje při správné montáži ",null,null,3]
[null,null,"dokonalou  těsnost  do  výšky  vodního  sloupce  5  metrů.",null,null,null,null,null,null,null,null,"dokonalou  těsnost  do  výšky  vodního  sloupce  5  metrů.",null,null,3]
[null,null,"Teplota při pokládce: min. -10 °C, max. 50 °C",null,null,null,null,null,null,null,null,"Teplota při pokládce: min. -10 °C, max. 50 °C",null,null,3]
[null,null,"Max. teplota média: trvale do 40 °C, krátkodobě do 60 °C",null,null,null,null,null,null,null,null,"Max. teplota média: trvale do 40 °C, krátkodobě do 60 °C",null,null,3]
[null,null,"Orientační výška krytí: min. 0,5 m, max. 10 m",null,null,null,null,null,null,null,null,"Orientační výška krytí: min. 0,5 m, max. 10 m",null,null,3]
[null,null,"Max. rychlost média: 12 m/s",null,null,null,null,null,null,null,null,"Max. rychlost média: 12 m/s",null,null,3]
[null,null,"Přeložka stoky PVC DN400:",null,0,null,null,null,null,null,null,null,"Přeložka stoky PVC DN400:"]
[null,null,"PKS10 PVC DN150:4,10*1,093",null,4.4813000000000001,null,null,null,null,null,null,null,"PKS10 PVC DN150:4,10*1,093"]
[null,null,"PKS11 PVC DN150:4,70*1,093",null,5.1371000000000002,null,null,null,null,null,null,null,"PKS11 PVC DN150:4,70*1,093"]
[null,null,"PKS12 PVC DN150:2,90*1,093",null,3.1697000000000002,null,null,null,null,null,null,null,"PKS12 PVC DN150:2,90*1,093"]
[32,"286111943.A","Trubka kanalizační PVC SN min. 12 DN 400","m",59.240600000000001,null,{"$f":"E222*F222","v":0},1.2699999999999999E-2,{"$f":"E222*H222","v":0.75235562},null,{"$f":"E222*J222","v":0},null,null,null,2,null,null,null,null,null,null,null,null,null,null,null,3,1,"286111943.A",null,null,null,null,null,null,null,null,null,null,null,null,null,null,null,null,null,null,null,null,null,null,1,{"$f":"IF(AZ222=1,G222,0)","v":0},{"$f":"IF(AZ222=2,G222,0)","v":0},{"$f":"IF(AZ222=3,G222,0)","v":0},{"$f":"IF(AZ222=4,G222,0)","v":0},{"$f":"IF(AZ222=5,G222,0)","v":0},null,null,null,null,null,null,null,null,null,null,null,null,null,null,null,null,null,null,null,null,null,3,1]
[null,null,"Jedná  se  o  plnostěnné kanalizační trubky DN 150 – DN 400, min. SN 12 kN/m2 , zvenčí  i  zevnitř  hladké. Jsou  opatřeny hrdlem,  v  němž  je  vložen vysoce  elastický  jazýčkový  kroužek.  konce  trubek  (dříků)  jsou opatřeny  zkosením  pod  úhlem  15°.  Způsob  použití  trubek  je  „U“  dle  normy  ČSN  EN  1401-1, tj. mimo budovy. Spolehlivá  funkce  těsnění  je  jištěna  výztužným  kroužkem  z  elastomeru.  Je  tak  zamezeno  vypad-nutí nebo vytlačení kroužku při manipulaci a montáži. Tento systém zaručuje při správné montáži ",null,null,null,null,null,null,null,null,"Jedná  se  o  plnostěnné kanalizační trubky DN 150 – DN 400, min. SN 12 kN/m2 , zvenčí  i  zevnitř  hladké. Jsou  opatřeny hrdlem,  v  němž  je  vložen vysoce  elastický  jazýčkový  kroužek.  konce  trubek  (dříků)  jsou opatřeny  zkosením  pod  úhlem  15°.  Způsob  použití  trubek  je  „U“  dle  normy  ČSN  EN  1401-1, tj. mimo budovy. Spolehlivá  funkce  těsnění  je  jištěna  výztužným  kroužkem  z  elastomeru.  Je  tak  zamezeno  vypad-nutí nebo vytlačení kroužku při manipulaci a montáži. Tento systém zaručuje při správné montáži ",null,null,3]
[null,null,"dokonalou  těsnost  do  výšky  vodního  sloupce  5  metrů.",null,null,null,null,null,null,null,null,"dokonalou  těsnost  do  výšky  vodního  sloupce  5  metrů.",null,null,3]
[null,null,"Teplota při pokládce: min. -10 °C, max. 50 °C",null,null,null,null,null,null,null,null,"Teplota při pokládce: min. -10 °C, max. 50 °C",null,null,3]
[null,null,"Max. teplota média: trvale do 40 °C, krátkodobě do 60 °C",null,null,null,null,null,null,null,null,"Max. teplota média: trvale do 40 °C, krátkodobě do 60 °C",null,null,3]
[null,null,"Orientační výška krytí: min. 0,5 m, max. 10 m",null,null,null,null,null,null,null,null,"Orientační výška krytí: min. 0,5 m, max. 10 m",null,null,3]
[null,null,"Max. rychlost média: 12 m/s",null,null,null,null,null,null,null,null,"Max. rychlost média: 12 m/s",null,null,3]
[null,null,"Přeložka stoky PVC DN400:54,20*1,093",null,59.240600000000001,null,null,null,null,null,null,null,"Přeložka stoky PVC DN400:54,20*1,093"]
[33,"286506003","Koleno kanalizační PVC SDR 34 DN 150/45°","kus",9.1349999999999998,null,{"$f":"E230*F230","v":0},1.2700000000000001E-3,{"$f":"E230*H230","v":1.1601450000000001E-2},null,{"$f":"E230*J230","v":0},null,null,null,2,null,null,null,null,null,null,null,null,null,null,null,3,1,286506003,null,null,null,null,null,null,null,null,null,null,null,null,null,null,null,null,null,null,null,null,null,null,1,{"$f":"IF(AZ230=1,G230,0)","v":0},{"$f":"IF(AZ230=2,G230,0)","v":0},{"$f":"IF(AZ230=3,G230,0)","v":0},{"$f":"IF(AZ230=4,G230,0)","v":0},{"$f":"IF(AZ230=5,G230,0)","v":0},null,null,null,null,null,null,null,null,null,null,null,null,null,null,null,null,null,null,null,null,null,3,1]
[null,null,"Tvarovky kanalizačního systému PVC SDR 34",null,null,null,null,null,null,null,null,"Tvarovky kanalizačního systému PVC SDR 34",null,null,3]
[null,null,"Teplota při pokládce: min. -10 °C, max. 50 °C",null,null,null,null,null,null,null,null,"Teplota při pokládce: min. -10 °C, max. 50 °C",null,null,3]
[null,null,"Max. teplota média: trvale do 40 °C, krátkodobě do 60 °C",null,null,null,null,null,null,null,null,"Max. teplota média: trvale do 40 °C, krátkodobě do 60 °C",null,null,3]
[null,null,"Orientační výška krytí: min. 0,5 m, max. 10 m",null,null,null,null,null,null,null,null,"Orientační výška krytí: min. 0,5 m, max. 10 m",null,null,3]
[null,null,"Max. rychlost média: 12 m/s",null,null,null,null,null,null,null,null,"Max. rychlost média: 12 m/s",null,null,3]
[null,null,"Přeložka stoky PVC DN400:",null,0,null,null,null,null,null,null,null,"Přeložka stoky PVC DN400:"]
[null,null,"PKS10 PVC DN150:3*1,015",null,3.0449999999999999,null,null,null,null,null,null,null,"PKS10 PVC DN150:3*1,015"]
[null,null,"PKS11 PVC DN150:3*1,015",null,3.0449999999999999,null,null,null,null,null,null,null,"PKS11 PVC DN150:3*1,015"]
[null,null,"PKS12 PVC DN150:3*1,015",null,3.0449999999999999,null,null,null,null,null,null,null,"PKS12 PVC DN150:3*1,015"]
[34,"286506141","Odbočka kanaliz. DN 400/150/45°","kus",4.0599999999999996,null,{"$f":"E240*F240","v":0},1.2999999999999999E-2,{"$f":"E240*H240","v":5.2779999999999994E-2},null,{"$f":"E240*J240","v":0},null,null,null,2,null,null,null,null,null,null,null,null,null,null,null,3,1,286506141,null,null,null,null,null,null,null,null,null,null,null,null,null,null,null,null,null,null,null,null,null,null,1,{"$f":"IF(AZ240=1,G240,0)","v":0},{"$f":"IF(AZ240=2,G240,0)","v":0},{"$f":"IF(AZ240=3,G240,0)","v":0},{"$f":"IF(AZ240=4,G240,0)","v":0},{"$f":"IF(AZ240=5,G240,0)","v":0},null,null,null,null,null,null,null,null,null,null,null,null,null,null,null,null,null,null,null,null,null,3,1]
[null,null,"Tvarovky kanalizačního systému PVC SDR 34",null,null,null,null,null,null,null,null,"Tvarovky kanalizačního systému PVC SDR 34",null,null,3]
[null,null,"Teplota při pokládce: min. -10 °C, max. 50 °C",null,null,null,null,null,null,null,null,"Teplota při pokládce: min. -10 °C, max. 50 °C",null,null,3]
[null,null,"Max. teplota média: trvale do 40 °C, krátkodobě do 60 °C",null,null,null,null,null,null,null,null,"Max. teplota média: trvale do 40 °C, krátkodobě do 60 °C",null,null,3]
[null,null,"Orientační výška krytí: min. 0,5 m, max. 10 m",null,null,null,null,null,null,null,null,"Orientační výška krytí: min. 0,5 m, max. 10 m",null,null,3]
[null,null,"Max. rychlost média: 12 m/s",null,null,null,null,null,null,null,null,"Max. rychlost média: 12 m/s",null,null,3]
[null,null,"Přeložka stoky PVC DN400:",null,0,null,null,null,null,null,null,null,"Přeložka stoky PVC DN400:"]
[null,null,"Odbočka PVC DN400/150/45° pro PKS:2*1,015",null,2.0299999999999998,null,null,null,null,null,null,null,"Odbočka PVC DN400/150/45° pro PKS:2*1,015"]
[null,null,"Odbočka PVC DN400/150/45° pro napojení UV:1*1,015",null,1.0149999999999999,null,null,null,null,null,null,null,"Odbočka PVC DN400/150/45° pro napojení UV:1*1,015"]
[null,null,"Odbočka PVC DN400/150/45° pro napojení ŽL1:1*1,015",null,1.0149999999999999,null,null,null,null,null,null,null,"Odbočka PVC DN400/150/45° pro napojení ŽL1:1*1,015"]
[35,"28697057.A","Dno šachtové DN 400 RML DN 160 - 3x vtok 1x výtok","kus",3.0449999999999999,null,{"$f":"E250*F250","v":0},7.6400000000000001E-3,{"$f":"E250*H250","v":2.3263800000000001E-2},null,{"$f":"E250*J250","v":0},null,null,null,2,null,null,null,null,null,null,null,null,null,null,null,3,1,"28697057.A",null,null,null,null,null,null,null,null,null,null,null,null,null,null,null,null,null,null,null,null,null,null,1,{"$f":"IF(AZ250=1,G250,0)","v":0},{"$f":"IF(AZ250=2,G250,0)","v":0},{"$f":"IF(AZ250=3,G250,0)","v":0},{"$f":"IF(AZ250=4,G250,0)","v":0},{"$f":"IF(AZ250=5,G250,0)","v":0},null,null,null,null,null,null,null,null,null,null,null,null,null,null,null,null,null,null,null,null,null,3,1]
[null,null,"Přeložka stoky PVC DN400:",null,0,null,null,null,null,null,null,null,"Přeložka stoky PVC DN400:"]
[null,null,"PKS10 PVC DN150:1*1,015",null,1.0149999999999999,null,null,null,null,null,null,null,"PKS10 PVC DN150:1*1,015"]
[null,null,"PKS11 PVC DN150:1*1,015",null,1.0149999999999999,null,null,null,null,null,null,null,"PKS11 PVC DN150:1*1,015"]
[null,null,"PKS12 PVC DN150:1*1,015",null,1.0149999999999999,null,null,null,null,null,null,null,"PKS12 PVC DN150:1*1,015"]
[36,"28697065.A","Kus prodlužovací DN 315 délka 1000 mm","kus",3.0449999999999999,null,{"$f":"E255*F255","v":0},8.3999999999999995E-3,{"$f":"E255*H255","v":2.5577999999999997E-2},null,{"$f":"E255*J255","v":0},null,null,null,2,null,null,null,null,null,null,null,null,null,null,null,3,1,"28697065.A",null,null,null,null,null,null,null,null,null,null,null,null,null,null,null,null,null,null,null,null,null,null,1,{"$f":"IF(AZ255=1,G255,0)","v":0},{"$f":"IF(AZ255=2,G255,0)","v":0},{"$f":"IF(AZ255=3,G255,0)","v":0},{"$f":"IF(AZ255=4,G255,0)","v":0},{"$f":"IF(AZ255=5,G255,0)","v":0},null,null,null,null,null,null,null,null,null,null,null,null,null,null,null,null,null,null,null,null,null,3,1]
[null,null,"Přeložka stoky PVC DN400:",null,0,null,null,null,null,null,null,null,"Přeložka stoky PVC DN400:"]
[null,null,"PKS10 PVC DN150:1*1,015",null,1.0149999999999999,null,null,null,null,null,null,null,"PKS10 PVC DN150:1*1,015"]
[null,null,"PKS11 PVC DN150:1*1,015",null,1.0149999999999999,null,null,null,null,null,null,null,"PKS11 PVC DN150:1*1,015"]
[null,null,"PKS12 PVC DN150:1*1,015",null,1.0149999999999999,null,null,null,null,null,null,null,"PKS12 PVC DN150:1*1,015"]
[37,"28697068.A","Manžeta teleskopická DN 400/315 z EPDM","kus",3.0449999999999999,null,{"$f":"E260*F260","v":0},2.15E-3,{"$f":"E260*H260","v":6.5467499999999996E-3},null,{"$f":"E260*J260","v":0},null,null,null,2,null,null,null,null,null,null,null,null,null,null,null,3,1,"28697068.A",null,null,null,null,null,null,null,null,null,null,null,null,null,null,null,null,null,null,null,null,null,null,1,{"$f":"IF(AZ260=1,G260,0)","v":0},{"$f":"IF(AZ260=2,G260,0)","v":0},{"$f":"IF(AZ260=3,G260,0)","v":0},{"$f":"IF(AZ260=4,G260,0)","v":0},{"$f":"IF(AZ260=5,G260,0)","v":0},null,null,null,null,null,null,null,null,null,null,null,null,null,null,null,null,null,null,null,null,null,3,1]
[null,null,"Přeložka stoky PVC DN400:",null,0,null,null,null,null,null,null,null,"Přeložka stoky PVC DN400:"]
[null,null,"PKS10 PVC DN150:1*1,015",null,1.0149999999999999,null,null,null,null,null,null,null,"PKS10 PVC DN150:1*1,015"]
[null,null,"PKS11 PVC DN150:1*1,015",null,1.0149999999999999,null,null,null,null,null,null,null,"PKS11 PVC DN150:1*1,015"]
[null,null,"PKS12 PVC DN150:1*1,015",null,1.0149999999999999,null,null,null,null,null,null,null,"PKS12 PVC DN150:1*1,015"]
[38,"286971471","Těsnění šachtové roury a teleskopu 425 mm","kus",3.0449999999999999,null,{"$f":"E265*F265","v":0},1E-3,{"$f":"E265*H265","v":3.045E-3},null,{"$f":"E265*J265","v":0},null,null,null,2,null,null,null,null,null,null,null,null,null,null,null,3,1,286971471,null,null,null,null,null,null,null,null,null,null,null,null,null,null,null,null,null,null,null,null,null,null,1,{"$f":"IF(AZ265=1,G265,0)","v":0},{"$f":"IF(AZ265=2,G265,0)","v":0},{"$f":"IF(AZ265=3,G265,0)","v":0},{"$f":"IF(AZ265=4,G265,0)","v":0},{"$f":"IF(AZ265=5,G265,0)","v":0},null,null,null,null,null,null,null,null,null,null,null,null,null,null,null,null,null,null,null,null,null,3,1]
[null,null,"Přeložka stoky PVC DN400:",null,0,null,null,null,null,null,null,null,"Přeložka stoky PVC DN400:"]
[null,null,"PKS10 PVC DN150:1*1,015",null,1.0149999999999999,null,null,null,null,null,null,null,"PKS10 PVC DN150:1*1,015"]
[null,null,"PKS11 PVC DN150:1*1,015",null,1.0149999999999999,null,null,null,null,null,null,null,"PKS11 PVC DN150:1*1,015"]
[null,null,"PKS12 PVC DN150:1*1,015",null,1.0149999999999999,null,null,null,null,null,null,null,"PKS12 PVC DN150:1*1,015"]
[39,"286971491","Roura šachtová korugovaná bez hrdla 400/2000 mm","kus",3.0449999999999999,null,{"$f":"E270*F270","v":0},8.0599999999999995E-3,{"$f":"E270*H270","v":2.4542699999999997E-2},null,{"$f":"E270*J270","v":0},null,null,null,2,null,null,null,null,null,null,null,null,null,null,null,3,1,286971491,null,null,null,null,null,null,null,null,null,null,null,null,null,null,null,null,null,null,null,null,null,null,1,{"$f":"IF(AZ270=1,G270,0)","v":0},{"$f":"IF(AZ270=2,G270,0)","v":0},{"$f":"IF(AZ270=3,G270,0)","v":0},{"$f":"IF(AZ270=4,G270,0)","v":0},{"$f":"IF(AZ270=5,G270,0)","v":0},null,null,null,null,null,null,null,null,null,null,null,null,null,null,null,null,null,null,null,null,null,3,1]
[null,null,"Přeložka stoky PVC DN400:",null,0,null,null,null,null,null,null,null,"Přeložka stoky PVC DN400:"]
[null,null,"PKS10 PVC DN150:1*1,015",null,1.0149999999999999,null,null,null,null,null,null,null,"PKS10 PVC DN150:1*1,015"]
[null,null,"PKS11 PVC DN150:1*1,015",null,1.0149999999999999,null,null,null,null,null,null,null,"PKS11 PVC DN150:1*1,015"]
[null,null,"PKS12 PVC DN150:1*1,015",null,1.0149999999999999,null,null,null,null,null,null,null,"PKS12 PVC DN150:1*1,015"]
[40,"55243064.A","Poklop litina 425/40 t kruhový do teleskopu","kus",3,null,{"$f":"E275*F275","v":0},5.5E-2,{"$f":"E275*H275","v":0.16500000000000001},null,{"$f":"E275*J275","v":0},null,null,null,2,null,null,null,null,null,null,null,null,null,null,null,3,1,"55243064.A",null,null,null,null,null,null,null,null,null,null,null,null,null,null,null,null,null,null,null,null,null,null,1,{"$f":"IF(AZ275=1,G275,0)","v":0},{"$f":"IF(AZ275=2,G275,0)","v":0},{"$f":"IF(AZ275=3,G275,0)","v":0},{"$f":"IF(AZ275=4,G275,0)","v":0},{"$f":"IF(AZ275=5,G275,0)","v":0},null,null,null,null,null,null,null,null,null,null,null,null,null,null,null,null,null,null,null,null,null,3,1]
[null,null,"Přeložka stoky PVC DN400:",null,0,null,null,null,null,null,null,null,"Přeložka stoky PVC DN400:"]
[null,null,"PKS10 PVC DN150:1",null,1,null,null,null,null,null,null,null,"PKS10 PVC DN150:1"]
[null,null,"PKS11 PVC DN150:1",null,1,null,null,null,null,null,null,null,"PKS11 PVC DN150:1"]
[null,null,"PKS12 PVC DN150:1",null,1,null,null,null,null,null,null,null,"PKS12 PVC DN150:1"]
[41,"59224353.B","Konus šachetní TBR-Q 600/1000x625/120 SPK","kus",4.04,null,{"$f":"E280*F280","v":0},0.59499999999999997,{"$f":"E280*H280","v":2.4037999999999999},null,{"$f":"E280*J280","v":0},null,null,null,2,null,null,null,null,null,null,null,null,null,null,null,3,1,"59224353.B",null,null,null,null,null,null,null,null,null,null,null,null,null,null,null,null,null,null,null,null,null,null,1,{"$f":"IF(AZ280=1,G280,0)","v":0},{"$f":"IF(AZ280=2,G280,0)","v":0},{"$f":"IF(AZ280=3,G280,0)","v":0},{"$f":"IF(AZ280=4,G280,0)","v":0},{"$f":"IF(AZ280=5,G280,0)","v":0},null,null,null,null,null,null,null,null,null,null,null,null,null,null,null,null,null,null,null,null,null,3,1]
[null,null,"Přeložka stoky PVC DN400:",null,0,null,null,null,null,null,null,null,"Přeložka stoky PVC DN400:"]
[null,null,"Kónus H60:4*1,01",null,4.04,null,null,null,null,null,null,null,"Kónus H60:4*1,01"]
[42,"592243554.B","Skruž šachetní TBS-Q 1000/250/120 SP","kus",4.04,null,{"$f":"E283*F283","v":0},0.24,{"$f":"E283*H283","v":0.96960000000000002},null,{"$f":"E283*J283","v":0},null,null,null,2,null,null,null,null,null,null,null,null,null,null,null,3,1,"592243554.B",null,null,null,null,null,null,null,null,null,null,null,null,null,null,null,null,null,null,null,null,null,null,1,{"$f":"IF(AZ283=1,G283,0)","v":0},{"$f":"IF(AZ283=2,G283,0)","v":0},{"$f":"IF(AZ283=3,G283,0)","v":0},{"$f":"IF(AZ283=4,G283,0)","v":0},{"$f":"IF(AZ283=5,G283,0)","v":0},null,null,null,null,null,null,null,null,null,null,null,null,null,null,null,null,null,null,null,null,null,3,1]
[null,null,"Přeložka stoky PVC DN400:",null,0,null,null,null,null,null,null,null,"Přeložka stoky PVC DN400:"]
[null,null,"Skruž H25:4*1,01",null,4.04,null,null,null,null,null,null,null,"Skruž H25:4*1,01"]
[43,"59224369.B","Dno šachetní TBZ-Q 400 - 885 včetně kynety dle PD","kus",4.04,null,{"$f":"E286*F286","v":0},1.83,{"$f":"E286*H286","v":7.3932000000000002},null,{"$f":"E286*J286","v":0},null,null,null,2,null,null,null,null,null,null,null,null,null,null,null,3,1,"59224369.B",null,null,null,null,null,null,null,null,null,null,null,null,null,null,null,null,null,null,null,null,null,null,1,{"$f":"IF(AZ286=1,G286,0)","v":0},{"$f":"IF(AZ286=2,G286,0)","v":0},{"$f":"IF(AZ286=3,G286,0)","v":0},{"$f":"IF(AZ286=4,G286,0)","v":0},{"$f":"IF(AZ286=5,G286,0)","v":0},null,null,null,null,null,null,null,null,null,null,null,null,null,null,null,null,null,null,null,null,null,3,1]
[null,null,"Přeložka stoky PVC DN400:",null,0,null,null,null,null,null,null,null,"Přeložka stoky PVC DN400:"]
[null,null,"ŠD DN400-885:4*1,01",null,4.04,null,null,null,null,null,null,null,"ŠD DN400-885:4*1,01"]
[44,"59224373.A","Těsnění elastom pro šach díly EMT 100/1.7 - DN1000","kus",8.08,null,{"$f":"E289*F289","v":0},2E-3,{"$f":"E289*H289","v":1.6160000000000001E-2},null,{"$f":"E289*J289","v":0},null,null,null,2,null,null,null,null,null,null,null,null,null,null,null,3,1,"59224373.A",null,null,null,null,null,null,null,null,null,null,null,null,null,null,null,null,null,null,null,null,null,null,1,{"$f":"IF(AZ289=1,G289,0)","v":0},{"$f":"IF(AZ289=2,G289,0)","v":0},{"$f":"IF(AZ289=3,G289,0)","v":0},{"$f":"IF(AZ289=4,G289,0)","v":0},{"$f":"IF(AZ289=5,G289,0)","v":0},null,null,null,null,null,null,null,null,null,null,null,null,null,null,null,null,null,null,null,null,null,3,1]
[null,null,"Přeložka stoky PVC DN400:",null,0,null,null,null,null,null,null,null,"Přeložka stoky PVC DN400:"]
[null,null,"Těsnění:8*1,01",null,8.08,null,null,null,null,null,null,null,"Těsnění:8*1,01"]
[null,"Celkem za","8 Trubní vedení",null,null,null,{"$f":"SUM(G128:G291)","v":0},null,{"$f":"SUM(I128:I291)","v":36.519261180000001},null,{"$f":"SUM(K128:K291)","v":0},null,null,null,4,null,null,null,null,null,null,null,null,null,null,null,null,null,null,null,null,null,null,null,null,null,null,null,null,null,null,null,null,null,null,null,null,null,null,null,null,null,{"$f":"SUM(BA128:BA291)","v":0},{"$f":"SUM(BB128:BB291)","v":0},{"$f":"SUM(BC128:BC291)","v":0},{"$f":"SUM(BD128:BD291)","v":0},{"$f":"SUM(BE128:BE291)","v":0}]
["Díl:","99","Staveništní přesun hmot",null,null,null,null,null,null,null,null,null,null,null,1]
[45,"998276101R00","Přesun hmot, trubní vedení plastová, otevř. výkop ","t",193.51935209999999,null,{"$f":"E294*F294","v":0},0,{"$f":"E294*H294","v":0},null,{"$f":"E294*J294","v":0},null,null,null,2,null,null,null,null,null,null,null,null,null,null,null,7,1,2,null,null,null,null,null,null,null,null,null,null,null,null,null,null,null,null,null,null,null,null,null,null,1,{"$f":"IF(AZ294=1,G294,0)","v":0},{"$f":"IF(AZ294=2,G294,0)","v":0},{"$f":"IF(AZ294=3,G294,0)","v":0},{"$f":"IF(AZ294=4,G294,0)","v":0},{"$f":"IF(AZ294=5,G294,0)","v":0},null,null,null,null,null,null,null,null,null,null,null,null,null,null,null,null,null,null,null,null,null,7,1]
[null,null,"Položka je určena pro trubní vedení (vodovod nebo kanalizace) hloubené nebo ražené z trub z plastických hmot nebo sklolaminátových včetně drobných objektů. Platnost položky je vymezena pro nejmenší skladovací plochu 50 m2 + 1,30 m2/t, pro největší dopravní vzdálenost 15 m od hrany výkopu na povrchu nebo 15 m od okraje šachty k těžišti skládek na povrchu. ",null,null,null,null,null,null,null,null,"Položka je určena pro trubní vedení (vodovod nebo kanalizace) hloubené nebo ražené z trub z plastických hmot nebo sklolaminátových včetně drobných objektů. Platnost položky je vymezena pro nejmenší skladovací plochu 50 m2 + 1,30 m2/t, pro největší dopravní vzdálenost 15 m od hrany výkopu na povrchu nebo 15 m od okraje šachty k těžišti skládek na povrchu. ",null,null,3]
[null,"Celkem za","99 Staveništní přesun hmot",null,null,null,{"$f":"SUM(G293:G295)","v":0},null,{"$f":"SUM(I293:I295)","v":0},null,{"$f":"SUM(K293:K295)","v":0},null,null,null,4,null,null,null,null,null,null,null,null,null,null,null,null,null,null,null,null,null,null,null,null,null,null,null,null,null,null,null,null,null,null,null,null,null,null,null,null,null,{"$f":"SUM(BA293:BA295)","v":0},{"$f":"SUM(BB293:BB295)","v":0},{"$f":"SUM(BC293:BC295)","v":0},{"$f":"SUM(BD293:BD295)","v":0},{"$f":"SUM(BE293:BE295)","v":0}]

{"sheet":"302 3236302 KL","index":13,"n_rows":45,"n_cols":8,"rows_kept":45,"cut":false,"hidden":false,"merged":[[22,0,22,1],[7,2,7,4],[8,2,8,4],[9,2,9,4],[10,2,10,4],[11,2,11,4],[50,1,50,6],[29,5,29,6],[30,5,30,6],[31,5,31,6],[32,5,32,6],[33,5,33,6],[36,1,44,6],[45,1,45,6],[46,1,46,6],[47,1,47,6],[48,1,48,6],[49,1,49,6]]}
["POLOŽKOVÝ ROZPOČET"]
["Rozpočet",null,"3236/302","Přeložka vodovodu TLT DN250",null,"JKSO ","827.11.A3"]
[]
["Objekt",null,null,null,null,"SKP "]
["302",null,"Přeložka vodovodu TLT DN250",null,null,"Měrná jednotka","m"]
["Stavba",null,null,null,null,"Počet jednotek",0]
["3236",null,"Bytová zóna Hruštice - Károvsko - Etapa VII.",null,null,"Náklady na m.j.",{"$f":"IF(G6=0,,ROUND((F30+F32)/G6,1))","v":0}]
["Projektant",null,"PROFES PROJEKT spol.s r.o.",null,null,"Typ rozpočtu"]
["Zpracovatel projektu"]
["Objednatel",null,"Město TURNOV"]
["Dodavatel",null,".",null,null,"Zakázkové číslo "]
["Rozpočtoval",null,null,null,null,"Počet listů"]
["ROZPOČTOVÉ NÁKLADY"]
["Základní rozpočtové náklady"]
[null,"HSV celkem",{"$f":"'302 3236302 Rek'!E11","v":0}]
["Z","PSV celkem",{"$f":"'302 3236302 Rek'!F11","v":0}]
["R","M práce celkem",{"$f":"'302 3236302 Rek'!H11","v":0}]
["N","M dodávky celkem",{"$f":"'302 3236302 Rek'!G11","v":0}]
["ZRN celkem",null,{"$f":"SUM(C15:C18)","v":0}]
[]
["HZS",null,{"$f":"'302 3236302 Rek'!I11","v":0}]
["ZRN+HZS",null,{"$f":"C19+C21","v":0}]
["ZRN+ost.náklady+HZS",null,{"$f":"C22+G23","v":0}]
["Vypracoval",null,null,"Za zhotovitele",null,"Za objednatele"]
["Jméno :",null,null,"Jméno :",null,"Jméno :"]
["Datum :",null,null,"Datum :",null,"Datum :"]
[]
["Podpis :",null,null,"Podpis:",null,"Podpis:"]
[]
["Základ pro DPH",null,21,"%  ",null,{"$f":"C23-F32","v":0}]
["DPH",null,{"$f":"C30","v":21},"% ",null,{"$f":"ROUND(PRODUCT(F30,C31/100),0)","v":0}]
["Základ pro DPH",null,0,"% ",null,0]
["DPH",null,{"$f":"C32","v":0},"% ",null,{"$f":"ROUND(PRODUCT(F32,C33/100),0)","v":0}]
["CENA ZA OBJEKT CELKEM",null,null,null,null,{"$f":"ROUND(SUM(F30:F33),0)","v":0}]
[]
["Poznámka :",null,null,null,null,null,null," "]
[null,null,null,null,null,null,null," "]
[null,null,null,null,null,null,null," "]
[null,null,null,null,null,null,null," "]
[null,null,null,null,null,null,null," "]
[null,null,null,null,null,null,null," "]
[null,null,null,null,null,null,null," "]
[null,null,null,null,null,null,null," "]
[null,null,null,null,null,null,null," "]
[null,null,null,null,null,null,null," "]

{"sheet":"302 3236302 Rek","index":14,"n_rows":11,"n_cols":9,"rows_kept":11,"cut":false,"hidden":false,"merged":[[0,0,0,1],[1,0,1,1],[1,6,1,8]]}
["Stavba :",null,"3236 Bytová zóna Hruštice - Károvsko - Etapa VII.",null,null,null,"Rozpočet :","3236/302"]
["Objekt :",null,"302 Přeložka vodovodu TLT DN250",null,null,null,"Přeložka vodovodu TLT DN250"]
[]
["REKAPITULACE  STAVEBNÍCH  DÍLŮ"]
[]
[null,"Stavební díl",null,null,"HSV","PSV","Dodávka","Montáž","HZS"]
[{"$f":"'302 3236302 Pol'!B7","v":"1"},{"$f":"'302 3236302 Pol'!C7","v":"Zemní práce"},null,null,{"$f":"'302 3236302 Pol'!BA58","v":0},{"$f":"'302 3236302 Pol'!BB58","v":0},{"$f":"'302 3236302 Pol'!BC58","v":0},{"$f":"'302 3236302 Pol'!BD58","v":0},{"$f":"'302 3236302 Pol'!BE58","v":0}]
[{"$f":"'302 3236302 Pol'!B59","v":"45"},{"$f":"'302 3236302 Pol'!C59","v":"Podkladní a vedlejší konstrukce"},null,null,{"$f":"'302 3236302 Pol'!BA63","v":0},{"$f":"'302 3236302 Pol'!BB63","v":0},{"$f":"'302 3236302 Pol'!BC63","v":0},{"$f":"'302 3236302 Pol'!BD63","v":0},{"$f":"'302 3236302 Pol'!BE63","v":0}]
[{"$f":"'302 3236302 Pol'!B64","v":"8"},{"$f":"'302 3236302 Pol'!C64","v":"Trubní vedení"},null,null,{"$f":"'302 3236302 Pol'!BA103","v":0},{"$f":"'302 3236302 Pol'!BB103","v":0},{"$f":"'302 3236302 Pol'!BC103","v":0},{"$f":"'302 3236302 Pol'!BD103","v":0},{"$f":"'302 3236302 Pol'!BE103","v":0}]
[{"$f":"'302 3236302 Pol'!B104","v":"99"},{"$f":"'302 3236302 Pol'!C104","v":"Staveništní přesun hmot"},null,null,{"$f":"'302 3236302 Pol'!BA107","v":0},{"$f":"'302 3236302 Pol'!BB107","v":0},{"$f":"'302 3236302 Pol'!BC107","v":0},{"$f":"'302 3236302 Pol'!BD107","v":0},{"$f":"'302 3236302 Pol'!BE107","v":0}]
[null,"CELKEM  OBJEKT",null,null,{"$f":"SUM(E7:E10)","v":0},{"$f":"SUM(F7:F10)","v":0},{"$f":"SUM(G7:G10)","v":0},{"$f":"SUM(H7:H10)","v":0},{"$f":"SUM(I7:I10)","v":0}]

{"sheet":"302 3236302 Pol","index":15,"n_rows":107,"n_cols":80,"rows_kept":107,"cut":false,"hidden":false,"merged":[[9,2,9,6],[10,2,10,3],[11,2,11,3],[0,0,0,6],[2,0,2,1],[3,0,3,1],[3,4,3,6],[8,2,8,6],[25,2,25,3],[12,2,12,3],[13,2,13,3],[15,2,15,6],[16,2,16,6],[17,2,17,3],[18,2,18,3],[19,2,19,3],[20,2,20,3],[22,2,22,3],[23,2,23,3],[24,2,24,3],[40,2,40,3],[27,2,27,6],[28,2,28,6],[29,2,29,3],[30,2,30,3],[31,2,31,3],[32,2,32,3],[34,2,34,3],[35,2,35,3],[36,2,36,3],[37,2,37,3],[39,2,39,3],[56,2,56,3],[41,2,41,3],[42,2,42,3],[43,2,43,3],[45,2,45,3],[47,2,47,6],[48,2,48,3],[50,2,50,3],[52,2,52,3],[53,2,53,3],[54,2,54,3],[55,2,55,3],[77,2,77,3],[60,2,60,3],[65,2,65,6],[66,2,66,6],[67,2,67,6],[68,2,68,6],[69,2,69,6],[70,2,70,6],[71,2,71,6],[72,2,72,6],[74,2,74,3],[76,2,76,3],[95,2,95,3],[78,2,78,3],[79,2,79,3],[81,2,81,6],[82,2,82,3],[84,2,84,6],[85,2,85,3],[87,2,87,3],[89,2,89,6],[90,2,90,3],[92,2,92,3],[93,2,93,3],[97,2,97,3],[98,2,98,3],[100,2,100,3],[101,2,101,3],[105,2,105,6]]}
["Položkový rozpočet "]
[]
["Stavba :",null,"3236 Bytová zóna Hruštice - Károvsko - Etapa VII.",null,"Rozpočet:",{"$f":"'302 3236302 Rek'!H1","v":"3236/302"}]
["Objekt :",null,"302 Přeložka vodovodu TLT DN250",null,{"$f":"'302 3236302 Rek'!G2","v":"Přeložka vodovodu TLT DN250"}]
[]
["P.č.","Číslo položky","Název položky","MJ","množství","cena / MJ","celkem (Kč)","Jednotková hmotnost","Celková hmotnost","Jednotková dem.hmot.","Celková dem.hmot."]
["Díl:","1","Zemní práce",null,null,null,null,null,null,null,null,null,null,null,1]
[1,"120001101RRX","Příplatek za ztížení vykopávky v blízkosti vedení ","m3",8.8033000000000001,null,{"$f":"E8*F8","v":0},0,{"$f":"E8*H8","v":0},0,{"$f":"E8*J8","v":0},null,null,null,2,null,null,null,null,null,null,null,null,null,null,null,1,1,1,null,null,null,null,null,null,null,null,null,null,null,null,null,null,null,null,null,null,null,null,null,null,1,{"$f":"IF(AZ8=1,G8,0)","v":0},{"$f":"IF(AZ8=2,G8,0)","v":0},{"$f":"IF(AZ8=3,G8,0)","v":0},{"$f":"IF(AZ8=4,G8,0)","v":0},{"$f":"IF(AZ8=5,G8,0)","v":0},null,null,null,null,null,null,null,null,null,null,null,null,null,null,null,null,null,null,null,null,null,1,1]
[null,null,"Včetně ruční dokopávky a ručního výkopu.",null,null,null,null,null,null,null,null,"Včetně ruční dokopávky a ručního výkopu.",null,null,3]
[null,null,"Součástí položky je i případná potřeba dočasnéhon zajištění potrubí a kabelových vedení ve výkopu.",null,null,null,null,null,null,null,null,"Součástí položky je i případná potřeba dočasnéhon zajištění potrubí a kabelových vedení ve výkopu.",null,null,3]
[null,null,"Začátek provozního součtu",null,0,null,null,null,null,null,null,null,"Začátek provozního součtu"]
[null,null,"Přeložka řadu TLT DN250:58,30*1,00*((1,88+1,94)/2-0,40)",null,88.033000000000001,null,null,null,null,null,null,null,"Přeložka řadu TLT DN250:58,30*1,00*((1,88+1,94)/2-0,40)"]
[null,null,"Konec provozního součtu",null,88.033000000000001,null,null,null,null,null,null,null,"Konec provozního součtu"]
[null,null,"V hornině tř. 3 - 4 - 20%:88,0330*0,1",null,8.8033000000000001,null,null,null,null,null,null,null,"V hornině tř. 3 - 4 - 20%:88,0330*0,1"]
[2,"132201211RRX","Hloubení rýh š.do 200 cm hor.3 do 100 m3,STROJNĚ ","m3",44.016500000000001,null,{"$f":"E15*F15","v":0},0,{"$f":"E15*H15","v":0},0,{"$f":"E15*J15","v":0},null,null,null,2,null,null,null,null,null,null,null,null,null,null,null,1,1,1,null,null,null,null,null,null,null,null,null,null,null,null,null,null,null,null,null,null,null,null,null,null,1,{"$f":"IF(AZ15=1,G15,0)","v":0},{"$f":"IF(AZ15=2,G15,0)","v":0},{"$f":"IF(AZ15=3,G15,0)","v":0},{"$f":"IF(AZ15=4,G15,0)","v":0},{"$f":"IF(AZ15=5,G15,0)","v":0},null,null,null,null,null,null,null,null,null,null,null,null,null,null,null,null,null,null,null,null,null,1,1]
[null,null,"Položka obsahuje hloubení rýh traktorbagrem, naložení výkopku na dopravní prostředek pro svislé, nebo vodorovné přemístění, popř. přemístění výkopku do 3 m (po povrchu území), případné zajištění rypadel polštáři, udržování pracoviště a ochranu výkopiště proti stékání srážkové vody z okolního terénu i s jejím odvodněním, nebo odvedením, přesekání a odstranění kořenů ve výkopišti, odstranění napadávek, urovnání dna výkopu.",null,null,null,null,null,null,null,null,"Položka obsahuje hloubení rýh traktorbagrem, naložení výkopku na dopravní prostředek pro svislé, nebo vodorovné přemístění, popř. přemístění výkopku do 3 m (po povrchu území), případné zajištění rypadel polštáři, udržování pracoviště a ochranu výkopiště proti stékání srážkové vody z okolního terénu i s jejím odvodněním, nebo odvedením, přesekání a odstranění kořenů ve výkopišti, odstranění napadávek, urovnání dna výkopu.",null,null,3]
[null,null,"Součástí položky je i zřízení a odstranění pažení rýhy v souladu s předpisy BOZP.",null,null,null,null,null,null,null,null,"Součástí položky je i zřízení a odstranění pažení rýhy v souladu s předpisy BOZP.",null,null,3]
[null,null,"Začátek provozního součtu",null,0,null,null,null,null,null,null,null,"Začátek provozního součtu"]
[null,null,"Přeložka řadu TLT DN250:58,30*1,00*((1,88+1,94)/2-0,40)",null,88.033000000000001,null,null,null,null,null,null,null,"Přeložka řadu TLT DN250:58,30*1,00*((1,88+1,94)/2-0,40)"]
[null,null,"Konec provozního součtu",null,88.033000000000001,null,null,null,null,null,null,null,"Konec provozního součtu"]
[null,null,"V hornině tř. 3 - 50%:88,0330*0,5",null,44.016500000000001,null,null,null,null,null,null,null,"V hornině tř. 3 - 50%:88,0330*0,5"]
[3,"132201219R00","Přípl.za lepivost,hloubení rýh 200cm,hor.3,STROJNĚ ","m3",22.008299999999998,null,{"$f":"E22*F22","v":0},0,{"$f":"E22*H22","v":0},0,{"$f":"E22*J22","v":0},null,null,null,2,null,null,null,null,null,null,null,null,null,null,null,1,1,1,null,null,null,null,null,null,null,null,null,null,null,null,null,null,null,null,null,null,null,null,null,null,1,{"$f":"IF(AZ22=1,G22,0)","v":0},{"$f":"IF(AZ22=2,G22,0)","v":0},{"$f":"IF(AZ22=3,G22,0)","v":0},{"$f":"IF(AZ22=4,G22,0)","v":0},{"$f":"IF(AZ22=5,G22,0)","v":0},null,null,null,null,null,null,null,null,null,null,null,null,null,null,null,null,null,null,null,null,null,1,1]
[null,null,"Začátek provozního součtu",null,0,null,null,null,null,null,null,null,"Začátek provozního součtu"]
[null,null,"Přeložka řadu TLT DN250:58,30*1,00*((1,88+1,94)/2-0,40)",null,88.033000000000001,null,null,null,null,null,null,null,"Přeložka řadu TLT DN250:58,30*1,00*((1,88+1,94)/2-0,40)"]
[null,null,"Konec provozního součtu",null,88.033000000000001,null,null,null,null,null,null,null,"Konec provozního součtu"]
[null,null,"V hornině tř. 3 - 50%:88,0330*0,5*0,5",null,22.008299999999998,null,null,null,null,null,null,null,"V hornině tř. 3 - 50%:88,0330*0,5*0,5"]
[4,"132301211RRX","Hloubení rýh š.do 200 cm hor.4 do 100 m3, STROJNĚ ","m3",44.016500000000001,null,{"$f":"E27*F27","v":0},0,{"$f":"E27*H27","v":0},0,{"$f":"E27*J27","v":0},null,null,null,2,null,null,null,null,null,null,null,null,null,null,null,1,1,1,null,null,null,null,null,null,null,null,null,null,null,null,null,null,null,null,null,null,null,null,null,null,1,{"$f":"IF(AZ27=1,G27,0)","v":0},{"$f":"IF(AZ27=2,G27,0)","v":0},{"$f":"IF(AZ27=3,G27,0)","v":0},{"$f":"IF(AZ27=4,G27,0)","v":0},{"$f":"IF(AZ27=5,G27,0)","v":0},null,null,null,null,null,null,null,null,null,null,null,null,null,null,null,null,null,null,null,null,null,1,1]
[null,null,"Položka obsahuje hloubení rýh traktorbagrem, naložení výkopku na dopravní prostředek pro svislé, nebo vodorovné přemístění, popř. přemístění výkopku do 3 m (po povrchu území), případné zajištění rypadel polštáři, udržování pracoviště a ochranu výkopiště proti stékání srážkové vody z okolního terénu i s jejím odvodněním, nebo odvedením, přesekání a odstranění kořenů ve výkopišti, odstranění napadávek, urovnání dna výkopu.",null,null,null,null,null,null,null,null,"Položka obsahuje hloubení rýh traktorbagrem, naložení výkopku na dopravní prostředek pro svislé, nebo vodorovné přemístění, popř. přemístění výkopku do 3 m (po povrchu území), případné zajištění rypadel polštáři, udržování pracoviště a ochranu výkopiště proti stékání srážkové vody z okolního terénu i s jejím odvodněním, nebo odvedením, přesekání a odstranění kořenů ve výkopišti, odstranění napadávek, urovnání dna výkopu.",null,null,3]
[null,null,"Součástí položky je i zřízení a odstranění pažení rýhy v souladu s předpisy BOZP.",null,null,null,null,null,null,null,null,"Součástí položky je i zřízení a odstranění pažení rýhy v souladu s předpisy BOZP.",null,null,3]
[null,null,"Začátek provozního součtu",null,0,null,null,null,null,null,null,null,"Začátek provozního součtu"]
[null,null,"Přeložka řadu TLT DN250:58,30*1,00*((1,88+1,94)/2-0,40)",null,88.033000000000001,null,null,null,null,null,null,null,"Přeložka řadu TLT DN250:58,30*1,00*((1,88+1,94)/2-0,40)"]
[null,null,"Konec provozního součtu",null,88.033000000000001,null,null,null,null,null,null,null,"Konec provozního součtu"]
[null,null,"V hornině tř. 4 - 50%:88,0330*0,5",null,44.016500000000001,null,null,null,null,null,null,null,"V hornině tř. 4 - 50%:88,0330*0,5"]
[5,"132301219R00","Přípl.za lepivost,hloubení rýh 200cm,hor.4,STROJNĚ ","m3",22.008299999999998,null,{"$f":"E34*F34","v":0},0,{"$f":"E34*H34","v":0},0,{"$f":"E34*J34","v":0},null,null,null,2,null,null,null,null,null,null,null,null,null,null,null,1,1,1,null,null,null,null,null,null,null,null,null,null,null,null,null,null,null,null,null,null,null,null,null,null,1,{"$f":"IF(AZ34=1,G34,0)","v":0},{"$f":"IF(AZ34=2,G34,0)","v":0},{"$f":"IF(AZ34=3,G34,0)","v":0},{"$f":"IF(AZ34=4,G34,0)","v":0},{"$f":"IF(AZ34=5,G34,0)","v":0},null,null,null,null,null,null,null,null,null,null,null,null,null,null,null,null,null,null,null,null,null,1,1]
[null,null,"Začátek provozního součtu",null,0,null,null,null,null,null,null,null,"Začátek provozního součtu"]
[null,null,"Přeložka řadu TLT DN250:58,30*1,00*((1,88+1,94)/2-0,40)",null,88.033000000000001,null,null,null,null,null,null,null,"Přeložka řadu TLT DN250:58,30*1,00*((1,88+1,94)/2-0,40)"]
[null,null,"Konec provozního součtu",null,88.033000000000001,null,null,null,null,null,null,null,"Konec provozního součtu"]
[null,null,"V hornině tř. 4 - 50%:88,0330*0,5*0,5",null,22.008299999999998,null,null,null,null,null,null,null,"V hornině tř. 4 - 50%:88,0330*0,5*0,5"]
[6,"162701105RSZ","Vodorovné přemístění výkopku z hor.1-7 na skládku zhotovitele","m3",64.712999999999994,null,{"$f":"E39*F39","v":0},0,{"$f":"E39*H39","v":0},0,{"$f":"E39*J39","v":0},null,null,null,2,null,null,null,null,null,null,null,null,null,null,null,1,1,1,null,null,null,null,null,null,null,null,null,null,null,null,null,null,null,null,null,null,null,null,null,null,1,{"$f":"IF(AZ39=1,G39,0)","v":0},{"$f":"IF(AZ39=2,G39,0)","v":0},{"$f":"IF(AZ39=3,G39,0)","v":0},{"$f":"IF(AZ39=4,G39,0)","v":0},{"$f":"IF(AZ39=5,G39,0)","v":0},null,null,null,null,null,null,null,null,null,null,null,null,null,null,null,null,null,null,null,null,null,1,1]
[null,null,"Začátek provozního součtu",null,0,null,null,null,null,null,null,null,"Začátek provozního součtu"]
[null,null,"Přeložka řadu TLT DN250:58,30*1,00*((1,88+1,94)/2-0,40)",null,88.033000000000001,null,null,null,null,null,null,null,"Přeložka řadu TLT DN250:58,30*1,00*((1,88+1,94)/2-0,40)"]
[null,null,"Konec provozního součtu",null,88.033000000000001,null,null,null,null,null,null,null,"Konec provozního součtu"]
[null,null,"V hornině tř. 3 - 4:88,0330",null,88.033000000000001,null,null,null,null,null,null,null,"V hornině tř. 3 - 4:88,0330"]
[null,null,"Odpočet zásypů zeminou:-23,3200",null,-23.32,null,null,null,null,null,null,null,"Odpočet zásypů zeminou:-23,3200"]
[7,"174100050RAA","Zásyp jam,rýh a šachet štěrkodrtí fr. 0-63 mm včetně dovozu štěrkodrtě","m3",55.968000000000004,null,{"$f":"E45*F45","v":0},1.873,{"$f":"E45*H45","v":104.82806400000001},0,{"$f":"E45*J45","v":0},null,null,null,2,null,null,null,null,null,null,null,null,null,null,null,1,1,1,null,null,null,null,null,null,null,null,null,null,null,null,null,null,null,null,null,null,null,null,null,null,1,{"$f":"IF(AZ45=1,G45,0)","v":0},{"$f":"IF(AZ45=2,G45,0)","v":0},{"$f":"IF(AZ45=3,G45,0)","v":0},{"$f":"IF(AZ45=4,G45,0)","v":0},{"$f":"IF(AZ45=5,G45,0)","v":0},null,null,null,null,null,null,null,null,null,null,null,null,null,null,null,null,null,null,null,null,null,1,1]
[null,null,"Přeložka řadu TLT DN250:58,30*1,00*((1,88+1,94)/2-0,10-0,25-0,30-0,30)",null,55.968000000000004,null,null,null,null,null,null,null,"Přeložka řadu TLT DN250:58,30*1,00*((1,88+1,94)/2-0,10-0,25-0,30-0,30)"]
[8,"174101101R00","Zásyp jam, rýh, šachet se zhutněním ","m3",23.32,null,{"$f":"E47*F47","v":0},0,{"$f":"E47*H47","v":0},0,{"$f":"E47*J47","v":0},null,null,null,2,null,null,null,null,null,null,null,null,null,null,null,1,1,1,null,null,null,null,null,null,null,null,null,null,null,null,null,null,null,null,null,null,null,null,null,null,1,{"$f":"IF(AZ47=1,G47,0)","v":0},{"$f":"IF(AZ47=2,G47,0)","v":0},{"$f":"IF(AZ47=3,G47,0)","v":0},{"$f":"IF(AZ47=4,G47,0)","v":0},{"$f":"IF(AZ47=5,G47,0)","v":0},null,null,null,null,null,null,null,null,null,null,null,null,null,null,null,null,null,null,null,null,null,1,1]
[null,null,"včetně strojního přemístění materiálu pro zásyp ze vzdálenosti do 10 m od okraje zásypu",null,null,null,null,null,null,null,null,"včetně strojního přemístění materiálu pro zásyp ze vzdálenosti do 10 m od okraje zásypu",null,null,3]
[null,null,"Přeložka řadu TLT DN250:58,30*1,00*0,40",null,23.32,null,null,null,null,null,null,null,"Přeložka řadu TLT DN250:58,30*1,00*0,40"]
[9,"175100020RAA","Obsyp potrubí štěrkopískem včetně dovozu štěrkopísku","m3",29.203199999999999,null,{"$f":"E50*F50","v":0},1.873,{"$f":"E50*H50","v":54.697593599999998},0,{"$f":"E50*J50","v":0},null,null,null,2,null,null,null,null,null,null,null,null,null,null,null,1,1,1,null,null,null,null,null,null,null,null,null,null,null,null,null,null,null,null,null,null,null,null,null,null,1,{"$f":"IF(AZ50=1,G50,0)","v":0},{"$f":"IF(AZ50=2,G50,0)","v":0},{"$f":"IF(AZ50=3,G50,0)","v":0},{"$f":"IF(AZ50=4,G50,0)","v":0},{"$f":"IF(AZ50=5,G50,0)","v":0},null,null,null,null,null,null,null,null,null,null,null,null,null,null,null,null,null,null,null,null,null,1,1]
[null,null,"Přeložka řadu TLT DN250:58,30*(1,00*(0,25+0,30)-0,125^2*Pi)",null,29.203199999999999,null,null,null,null,null,null,null,"Přeložka řadu TLT DN250:58,30*(1,00*(0,25+0,30)-0,125^2*Pi)"]
[10,"199000002R00","Poplatek za skládku horniny 1- 7 ","m3",64.712999999999994,null,{"$f":"E52*F52","v":0},0,{"$f":"E52*H52","v":0},0,{"$f":"E52*J52","v":0},null,null,null,2,null,null,null,null,null,null,null,null,null,null,null,1,1,1,null,null,null,null,null,null,null,null,null,null,null,null,null,null,null,null,null,null,null,null,null,null,1,{"$f":"IF(AZ52=1,G52,0)","v":0},{"$f":"IF(AZ52=2,G52,0)","v":0},{"$f":"IF(AZ52=3,G52,0)","v":0},{"$f":"IF(AZ52=4,G52,0)","v":0},{"$f":"IF(AZ52=5,G52,0)","v":0},null,null,null,null,null,null,null,null,null,null,null,null,null,null,null,null,null,null,null,null,null,1,1]
[null,null,"Začátek provozního součtu",null,0,null,null,null,null,null,null,null,"Začátek provozního součtu"]
[null,null,"Přeložka řadu TLT DN250:58,30*1,00*((1,88+1,94)/2-0,40)",null,88.033000000000001,null,null,null,null,null,null,null,"Přeložka řadu TLT DN250:58,30*1,00*((1,88+1,94)/2-0,40)"]
[null,null,"Konec provozního součtu",null,88.033000000000001,null,null,null,null,null,null,null,"Konec provozního součtu"]
[null,null,"V hornině tř. 3 - 4:88,0330",null,88.033000000000001,null,null,null,null,null,null,null,"V hornině tř. 3 - 4:88,0330"]
[null,null,"Odpočet zásypů zeminou:-23,3200",null,-23.32,null,null,null,null,null,null,null,"Odpočet zásypů zeminou:-23,3200"]
[null,"Celkem za","1 Zemní práce",null,null,null,{"$f":"SUM(G7:G57)","v":0},null,{"$f":"SUM(I7:I57)","v":159.52565760000002},null,{"$f":"SUM(K7:K57)","v":0},null,null,null,4,null,null,null,null,null,null,null,null,null,null,null,null,null,null,null,null,null,null,null,null,null,null,null,null,null,null,null,null,null,null,null,null,null,null,null,null,null,{"$f":"SUM(BA7:BA57)","v":0},{"$f":"SUM(BB7:BB57)","v":0},{"$f":"SUM(BC7:BC57)","v":0},{"$f":"SUM(BD7:BD57)","v":0},{"$f":"SUM(BE7:BE57)","v":0}]
["Díl:","45","Podkladní a vedlejší konstrukce",null,null,null,null,null,null,null,null,null,null,null,1]
[11,"451572111R00","Lože pod potrubí z kameniva těženého 0 - 4 mm ","m3",5.83,null,{"$f":"E60*F60","v":0},0.43051,{"$f":"E60*H60","v":2.5098733000000002},0,{"$f":"E60*J60","v":0},null,null,null,2,null,null,null,null,null,null,null,null,null,null,null,1,1,1,null,null,null,null,null,null,null,null,null,null,null,null,null,null,null,null,null,null,null,null,null,null,1,{"$f":"IF(AZ60=1,G60,0)","v":0},{"$f":"IF(AZ60=2,G60,0)","v":0},{"$f":"IF(AZ60=3,G60,0)","v":0},{"$f":"IF(AZ60=4,G60,0)","v":0},{"$f":"IF(AZ60=5,G60,0)","v":0},null,null,null,null,null,null,null,null,null,null,null,null,null,null,null,null,null,null,null,null,null,1,1]
[null,null,"Přeložka řadu TLT DN250:58,30*1,00*0,10",null,5.83,null,null,null,null,null,null,null,"Přeložka řadu TLT DN250:58,30*1,00*0,10"]
[12,"452313131R00","Bloky pro potrubí z betonu C 12/15 ","m3",1.65,null,{"$f":"E62*F62","v":0},2.5,{"$f":"E62*H62","v":4.125},0,{"$f":"E62*J62","v":0},null,null,null,2,null,null,null,null,null,null,null,null,null,null,null,1,1,1,null,null,null,null,null,null,null,null,null,null,null,null,null,null,null,null,null,null,null,null,null,null,1,{"$f":"IF(AZ62=1,G62,0)","v":0},{"$f":"IF(AZ62=2,G62,0)","v":0},{"$f":"IF(AZ62=3,G62,0)","v":0},{"$f":"IF(AZ62=4,G62,0)","v":0},{"$f":"IF(AZ62=5,G62,0)","v":0},null,null,null,null,null,null,null,null,null,null,null,null,null,null,null,null,null,null,null,null,null,1,1]
[null,"Celkem za","45 Podkladní a vedlejší konstrukce",null,null,null,{"$f":"SUM(G59:G62)","v":0},null,{"$f":"SUM(I59:I62)","v":6.6348733000000006},null,{"$f":"SUM(K59:K62)","v":0},null,null,null,4,null,null,null,null,null,null,null,null,null,null,null,null,null,null,null,null,null,null,null,null,null,null,null,null,null,null,null,null,null,null,null,null,null,null,null,null,null,{"$f":"SUM(BA59:BA62)","v":0},{"$f":"SUM(BB59:BB62)","v":0},{"$f":"SUM(BC59:BC62)","v":0},{"$f":"SUM(BD59:BD62)","v":0},{"$f":"SUM(BE59:BE62)","v":0}]
["Díl:","8","Trubní vedení",null,null,null,null,null,null,null,null,null,null,null,1]
[13,"850365121R00","Výřez nebo výsek na potrubí litinovém DN 250 ","kus",2,null,{"$f":"E65*F65","v":0},0,{"$f":"E65*H65","v":0},0,{"$f":"E65*J65","v":0},null,null,null,2,null,null,null,null,null,null,null,null,null,null,null,1,1,1,null,null,null,null,null,null,null,null,null,null,null,null,null,null,null,null,null,null,null,null,null,null,1,{"$f":"IF(AZ65=1,G65,0)","v":0},{"$f":"IF(AZ65=2,G65,0)","v":0},{"$f":"IF(AZ65=3,G65,0)","v":0},{"$f":"IF(AZ65=4,G65,0)","v":0},{"$f":"IF(AZ65=5,G65,0)","v":0},null,null,null,null,null,null,null,null,null,null,null,null,null,null,null,null,null,null,null,null,null,1,1]
[null,null,"Položky výřezu nebo výseku na potrubí z trub litinových tlakových jsou určeny pro dva řezy nebo seky prováděné na potrubí dodatečně. V položkách jsou zakalkulovány náklady na",null,null,null,null,null,null,null,null,"Položky výřezu nebo výseku na potrubí z trub litinových tlakových jsou určeny pro dva řezy nebo seky prováděné na potrubí dodatečně. V položkách jsou zakalkulovány náklady na",null,null,3]
[null,null,"- ohlášení uzavírání vody",null,null,null,null,null,null,null,null,"- ohlášení uzavírání vody",null,null,3]
[null,null,"- uzavření a otevření šoupat",null,null,null,null,null,null,null,null,"- uzavření a otevření šoupat",null,null,3]
[null,null,"- vypuštění a napuštění vody",null,null,null,null,null,null,null,null,"- vypuštění a napuštění vody",null,null,3]
[null,null,"- odvzdušnění potrubí",null,null,null,null,null,null,null,null,"- odvzdušnění potrubí",null,null,3]
[null,null,"- strojní nebo ruční výřez potrubí",null,null,null,null,null,null,null,null,"- strojní nebo ruční výřez potrubí",null,null,3]
[null,null,"- nutné úpravy výkopu v prostoru provádění",null,null,null,null,null,null,null,null,"- nutné úpravy výkopu v prostoru provádění",null,null,3]
[null,null,"- montáž tvarovky",null,null,null,null,null,null,null,null,"- montáž tvarovky",null,null,3]
[14,"851601106RT1","Montáž potrubí tlakového, tvárná litina DN 250 hrdlové, pružný spoj, ve výkopu","m",58.3,null,{"$f":"E74*F74","v":0},0,{"$f":"E74*H74","v":0},0,{"$f":"E74*J74","v":0},null,null,null,2,null,null,null,null,null,null,null,null,null,null,null,1,1,1,null,null,null,null,null,null,null,null,null,null,null,null,null,null,null,null,null,null,null,null,null,null,1,{"$f":"IF(AZ74=1,G74,0)","v":0},{"$f":"IF(AZ74=2,G74,0)","v":0},{"$f":"IF(AZ74=3,G74,0)","v":0},{"$f":"IF(AZ74=4,G74,0)","v":0},{"$f":"IF(AZ74=5,G74,0)","v":0},null,null,null,null,null,null,null,null,null,null,null,null,null,null,null,null,null,null,null,null,null,1,1]
[null,null,"Přeložka řadu TLT DN250:58,30",null,58.3,null,null,null,null,null,null,null,"Přeložka řadu TLT DN250:58,30"]
[15,"857601106R00","Montáž tvarovek jednoosých, tvárná litina DN 250 ","kus",5,null,{"$f":"E76*F76","v":0},0,{"$f":"E76*H76","v":0},0,{"$f":"E76*J76","v":0},null,null,null,2,null,null,null,null,null,null,null,null,null,null,null,1,1,1,null,null,null,null,null,null,null,null,null,null,null,null,null,null,null,null,null,null,null,null,null,null,1,{"$f":"IF(AZ76=1,G76,0)","v":0},{"$f":"IF(AZ76=2,G76,0)","v":0},{"$f":"IF(AZ76=3,G76,0)","v":0},{"$f":"IF(AZ76=4,G76,0)","v":0},{"$f":"IF(AZ76=5,G76,0)","v":0},null,null,null,null,null,null,null,null,null,null,null,null,null,null,null,null,null,null,null,null,null,1,1]
[null,null,"Přeložka řadu TLT DN250:",null,0,null,null,null,null,null,null,null,"Přeložka řadu TLT DN250:"]
[null,null,"MMK 11° DN250:2",null,2,null,null,null,null,null,null,null,"MMK 11° DN250:2"]
[null,null,"MMK 22° DN250:1",null,1,null,null,null,null,null,null,null,"MMK 22° DN250:1"]
[null,null,"Synoflex DN250:2",null,2,null,null,null,null,null,null,null,"Synoflex DN250:2"]
[16,"892381111RRX","Tlaková zkouška vodovodního potrubí DN 350 včetně zajištění konců potrubí","m",58.3,null,{"$f":"E81*F81","v":0},0,{"$f":"E81*H81","v":0},0,{"$f":"E81*J81","v":0},null,null,null,2,null,null,null,null,null,null,null,null,null,null,null,1,1,1,null,null,null,null,null,null,null,null,null,null,null,null,null,null,null,null,null,null,null,null,null,null,1,{"$f":"IF(AZ81=1,G81,0)","v":0},{"$f":"IF(AZ81=2,G81,0)","v":0},{"$f":"IF(AZ81=3,G81,0)","v":0},{"$f":"IF(AZ81=4,G81,0)","v":0},{"$f":"IF(AZ81=5,G81,0)","v":0},null,null,null,null,null,null,null,null,null,null,null,null,null,null,null,null,null,null,null,null,null,1,1]
[null,null,"V položce jsou započteny náklady na přísun, montáž, demontáž a odsun zkoušecího čerpadla, napuštění tlakovou vodou a dodání vody pro tlakovou zkoušku.",null,null,null,null,null,null,null,null,"V položce jsou započteny náklady na přísun, montáž, demontáž a odsun zkoušecího čerpadla, napuštění tlakovou vodou a dodání vody pro tlakovou zkoušku.",null,null,3]
[null,null,"Přeložka řadu TLT DN250:58,30",null,58.3,null,null,null,null,null,null,null,"Přeložka řadu TLT DN250:58,30"]
[17,"892383111R00","Desinfekce vodovodního potrubí DN 350 ","m",58.3,null,{"$f":"E84*F84","v":0},0,{"$f":"E84*H84","v":0},0,{"$f":"E84*J84","v":0},null,null,null,2,null,null,null,null,null,null,null,null,null,null,null,1,1,1,null,null,null,null,null,null,null,null,null,null,null,null,null,null,null,null,null,null,null,null,null,null,1,{"$f":"IF(AZ84=1,G84,0)","v":0},{"$f":"IF(AZ84=2,G84,0)","v":0},{"$f":"IF(AZ84=3,G84,0)","v":0},{"$f":"IF(AZ84=4,G84,0)","v":0},{"$f":"IF(AZ84=5,G84,0)","v":0},null,null,null,null,null,null,null,null,null,null,null,null,null,null,null,null,null,null,null,null,null,1,1]
[null,null,"Položka obsahuje strojní přemístění materiálu pro zásyp ze vzdálenosti do 10 m od okraje zásypu",null,null,null,null,null,null,null,null,"Položka obsahuje strojní přemístění materiálu pro zásyp ze vzdálenosti do 10 m od okraje zásypu",null,null,3]
[null,null,"Přeložka řadu TLT DN250:58,30",null,58.3,null,null,null,null,null,null,null,"Přeložka řadu TLT DN250:58,30"]
[18,"899711122R00","Fólie výstražná z PVC, šířka 30 cm ","m",58.3,null,{"$f":"E87*F87","v":0},0,{"$f":"E87*H87","v":0},0,{"$f":"E87*J87","v":0},null,null,null,2,null,null,null,null,null,null,null,null,null,null,null,1,1,1,null,null,null,null,null,null,null,null,null,null,null,null,null,null,null,null,null,null,null,null,null,null,1,{"$f":"IF(AZ87=1,G87,0)","v":0},{"$f":"IF(AZ87=2,G87,0)","v":0},{"$f":"IF(AZ87=3,G87,0)","v":0},{"$f":"IF(AZ87=4,G87,0)","v":0},{"$f":"IF(AZ87=5,G87,0)","v":0},null,null,null,null,null,null,null,null,null,null,null,null,null,null,null,null,null,null,null,null,null,1,1]
[null,null,"Přeložka řadu TLT DN250:58,30",null,58.3,null,null,null,null,null,null,null,"Přeložka řadu TLT DN250:58,30"]
[19,"899731114R00","Vodič signalizační CYY 6 mm2 ","m",58.3,null,{"$f":"E89*F89","v":0},8.0000000000000007E-5,{"$f":"E89*H89","v":4.6639999999999997E-3},0,{"$f":"E89*J89","v":0},null,null,null,2,null,null,null,null,null,null,null,null,null,null,null,1,1,1,null,null,null,null,null,null,null,null,null,null,null,null,null,null,null,null,null,null,null,null,null,null,1,{"$f":"IF(AZ89=1,G89,0)","v":0},{"$f":"IF(AZ89=2,G89,0)","v":0},{"$f":"IF(AZ89=3,G89,0)","v":0},{"$f":"IF(AZ89=4,G89,0)","v":0},{"$f":"IF(AZ89=5,G89,0)","v":0},null,null,null,null,null,null,null,null,null,null,null,null,null,null,null,null,null,null,null,null,null,1,1]
[null,null,"Součástí položky je zajištění proměření vodiče a výchozí revize.",null,null,null,null,null,null,null,null,"Součástí položky je zajištění proměření vodiče a výchozí revize.",null,null,3]
[null,null,"Přeložka řadu TLT DN250:58,30",null,58.3,null,null,null,null,null,null,null,"Přeložka řadu TLT DN250:58,30"]
[20,"42207974.6","Synoflex spojka DN250 (265-310)","kus",2,null,{"$f":"E92*F92","v":0},4.8599999999999997E-2,{"$f":"E92*H92","v":9.7199999999999995E-2},null,{"$f":"E92*J92","v":0},null,null,null,2,null,null,null,null,null,null,null,null,null,null,null,3,1,42207974.600000001,null,null,null,null,null,null,null,null,null,null,null,null,null,null,null,null,null,null,null,null,null,null,1,{"$f":"IF(AZ92=1,G92,0)","v":0},{"$f":"IF(AZ92=2,G92,0)","v":0},{"$f":"IF(AZ92=3,G92,0)","v":0},{"$f":"IF(AZ92=4,G92,0)","v":0},{"$f":"IF(AZ92=5,G92,0)","v":0},null,null,null,null,null,null,null,null,null,null,null,null,null,null,null,null,null,null,null,null,null,3,1]
[null,null,"Přeložka řadu TLT DN250:",null,0,null,null,null,null,null,null,null,"Přeložka řadu TLT DN250:"]
[null,null,"Synoflex DN250:2",null,2,null,null,null,null,null,null,null,"Synoflex DN250:2"]
[21,"55251111","Trouba vod.lit.tlak.DN 250 mm spoj TYTON","m",58.883000000000003,null,{"$f":"E95*F95","v":0},4.8000000000000001E-2,{"$f":"E95*H95","v":2.826384},null,{"$f":"E95*J95","v":0},null,null,null,2,null,null,null,null,null,null,null,null,null,null,null,3,1,55251111,null,null,null,null,null,null,null,null,null,null,null,null,null,null,null,null,null,null,null,null,null,null,1,{"$f":"IF(AZ95=1,G95,0)","v":0},{"$f":"IF(AZ95=2,G95,0)","v":0},{"$f":"IF(AZ95=3,G95,0)","v":0},{"$f":"IF(AZ95=4,G95,0)","v":0},{"$f":"IF(AZ95=5,G95,0)","v":0},null,null,null,null,null,null,null,null,null,null,null,null,null,null,null,null,null,null,null,null,null,3,1]
[null,null,"Přeložka řadu TLT DN250:58,30*1,01",null,58.883000000000003,null,null,null,null,null,null,null,"Přeložka řadu TLT DN250:58,30*1,01"]
[22,"55259416","Koleno hrdlové MMK DN250-11 1/4°","kus",2,null,{"$f":"E97*F97","v":0},2.75E-2,{"$f":"E97*H97","v":5.5E-2},null,{"$f":"E97*J97","v":0},null,null,null,2,null,null,null,null,null,null,null,null,null,null,null,3,1,55259416,null,null,null,null,null,null,null,null,null,null,null,null,null,null,null,null,null,null,null,null,null,null,1,{"$f":"IF(AZ97=1,G97,0)","v":0},{"$f":"IF(AZ97=2,G97,0)","v":0},{"$f":"IF(AZ97=3,G97,0)","v":0},{"$f":"IF(AZ97=4,G97,0)","v":0},{"$f":"IF(AZ97=5,G97,0)","v":0},null,null,null,null,null,null,null,null,null,null,null,null,null,null,null,null,null,null,null,null,null,3,1]
[null,null,"Přeložka řadu TLT DN250:",null,0,null,null,null,null,null,null,null,"Přeložka řadu TLT DN250:"]
[null,null,"MMK 11° DN250:2",null,2,null,null,null,null,null,null,null,"MMK 11° DN250:2"]
[23,"55259436","Koleno hrdlové MMK DN250-22 1/2°","kus",1,null,{"$f":"E100*F100","v":0},0.03,{"$f":"E100*H100","v":0.03},null,{"$f":"E100*J100","v":0},null,null,null,2,null,null,null,null,null,null,null,null,null,null,null,3,1,55259436,null,null,null,null,null,null,null,null,null,null,null,null,null,null,null,null,null,null,null,null,null,null,1,{"$f":"IF(AZ100=1,G100,0)","v":0},{"$f":"IF(AZ100=2,G100,0)","v":0},{"$f":"IF(AZ100=3,G100,0)","v":0},{"$f":"IF(AZ100=4,G100,0)","v":0},{"$f":"IF(AZ100=5,G100,0)","v":0},null,null,null,null,null,null,null,null,null,null,null,null,null,null,null,null,null,null,null,null,null,3,1]
[null,null,"Přeložka řadu TLT DN250:",null,0,null,null,null,null,null,null,null,"Přeložka řadu TLT DN250:"]
[null,null,"MMK 22° DN250:1",null,1,null,null,null,null,null,null,null,"MMK 22° DN250:1"]
[null,"Celkem za","8 Trubní vedení",null,null,null,{"$f":"SUM(G64:G102)","v":0},null,{"$f":"SUM(I64:I102)","v":3.0132479999999999},null,{"$f":"SUM(K64:K102)","v":0},null,null,null,4,null,null,null,null,null,null,null,null,null,null,null,null,null,null,null,null,null,null,null,null,null,null,null,null,null,null,null,null,null,null,null,null,null,null,null,null,null,{"$f":"SUM(BA64:BA102)","v":0},{"$f":"SUM(BB64:BB102)","v":0},{"$f":"SUM(BC64:BC102)","v":0},{"$f":"SUM(BD64:BD102)","v":0},{"$f":"SUM(BE64:BE102)","v":0}]
["Díl:","99","Staveništní přesun hmot",null,null,null,null,null,null,null,null,null,null,null,1]
[24,"998273101R00","Přesun hmot, trubní vedení litinové, otevř. výkop ","t",169.1737789,null,{"$f":"E105*F105","v":0},0,{"$f":"E105*H105","v":0},null,{"$f":"E105*J105","v":0},null,null,null,2,null,null,null,null,null,null,null,null,null,null,null,7,1,2,null,null,null,null,null,null,null,null,null,null,null,null,null,null,null,null,null,null,null,null,null,null,1,{"$f":"IF(AZ105=1,G105,0)","v":0},{"$f":"IF(AZ105=2,G105,0)","v":0},{"$f":"IF(AZ105=3,G105,0)","v":0},{"$f":"IF(AZ105=4,G105,0)","v":0},{"$f":"IF(AZ105=5,G105,0)","v":0},null,null,null,null,null,null,null,null,null,null,null,null,null,null,null,null,null,null,null,null,null,7,1]
[null,null,"Položka je určena pro trubní vedení (vodovod nebo kanalizace) hloubené nebo ražené z trub litinových včetně drobných objektů. Platnost položky je vymezena pro nejmenší skladovací plochu 100 m2 + 0,24 m2/t, pro největší dopravní vzdálenost 15 m od hrany výkopu na povrchu nebo 15 m od okraje šachty k těžišti skládek na povrchu.",null,null,null,null,null,null,null,null,"Položka je určena pro trubní vedení (vodovod nebo kanalizace) hloubené nebo ražené z trub litinových včetně drobných objektů. Platnost položky je vymezena pro nejmenší skladovací plochu 100 m2 + 0,24 m2/t, pro největší dopravní vzdálenost 15 m od hrany výkopu na povrchu nebo 15 m od okraje šachty k těžišti skládek na povrchu.",null,null,3]
[null,"Celkem za","99 Staveništní přesun hmot",null,null,null,{"$f":"SUM(G104:G106)","v":0},null,{"$f":"SUM(I104:I106)","v":0},null,{"$f":"SUM(K104:K106)","v":0},null,null,null,4,null,null,null,null,null,null,null,null,null,null,null,null,null,null,null,null,null,null,null,null,null,null,null,null,null,null,null,null,null,null,null,null,null,null,null,null,null,{"$f":"SUM(BA104:BA106)","v":0},{"$f":"SUM(BB104:BB106)","v":0},{"$f":"SUM(BC104:BC106)","v":0},{"$f":"SUM(BD104:BD106)","v":0},{"$f":"SUM(BE104:BE106)","v":0}]

{"sheet":"303 3236303 KL","index":16,"n_rows":45,"n_cols":8,"rows_kept":45,"cut":false,"hidden":false,"merged":[[22,0,22,1],[7,2,7,4],[8,2,8,4],[9,2,9,4],[10,2,10,4],[11,2,11,4],[50,1,50,6],[29,5,29,6],[30,5,30,6],[31,5,31,6],[32,5,32,6],[33,5,33,6],[36,1,44,6],[45,1,45,6],[46,1,46,6],[47,1,47,6],[48,1,48,6],[49,1,49,6]]}
["POLOŽKOVÝ ROZPOČET"]
["Rozpočet",null,"3236/303","Přeložka vodovodu TLT DN100",null,"JKSO ","827.11.A1"]
[]
["Objekt",null,null,null,null,"SKP "]
["303",null,"Přeložka vodovodu TLT DN100",null,null,"Měrná jednotka","m"]
["Stavba",null,null,null,null,"Počet jednotek",0]
["3236",null,"Bytová zóna Hruštice - Károvsko - Etapa VII.",null,null,"Náklady na m.j.",{"$f":"IF(G6=0,,ROUND((F30+F32)/G6,1))","v":0}]
["Projektant",null,"PROFES PROJEKT spol.s r.o.",null,null,"Typ rozpočtu"]
["Zpracovatel projektu"]
["Objednatel",null,"Město TURNOV"]
["Dodavatel",null,".",null,null,"Zakázkové číslo "]
["Rozpočtoval",null,null,null,null,"Počet listů"]
["ROZPOČTOVÉ NÁKLADY"]
["Základní rozpočtové náklady"]
[null,"HSV celkem",{"$f":"'303 3236303 Rek'!E11","v":0}]
["Z","PSV celkem",{"$f":"'303 3236303 Rek'!F11","v":0}]
["R","M práce celkem",{"$f":"'303 3236303 Rek'!H11","v":0}]
["N","M dodávky celkem",{"$f":"'303 3236303 Rek'!G11","v":0}]
["ZRN celkem",null,{"$f":"SUM(C15:C18)","v":0}]
[]
["HZS",null,{"$f":"'303 3236303 Rek'!I11","v":0}]
["ZRN+HZS",null,{"$f":"C19+C21","v":0}]
["ZRN+ost.náklady+HZS",null,{"$f":"C22+G23","v":0}]
["Vypracoval",null,null,"Za zhotovitele",null,"Za objednatele"]
["Jméno :",null,null,"Jméno :",null,"Jméno :"]
["Datum :",null,null,"Datum :",null,"Datum :"]
[]
["Podpis :",null,null,"Podpis:",null,"Podpis:"]
[]
["Základ pro DPH",null,21,"%  ",null,{"$f":"C23-F32","v":0}]
["DPH",null,{"$f":"C30","v":21},"% ",null,{"$f":"ROUND(PRODUCT(F30,C31/100),0)","v":0}]
["Základ pro DPH",null,0,"% ",null,0]
["DPH",null,{"$f":"C32","v":0},"% ",null,{"$f":"ROUND(PRODUCT(F32,C33/100),0)","v":0}]
["CENA ZA OBJEKT CELKEM",null,null,null,null,{"$f":"ROUND(SUM(F30:F33),0)","v":0}]
[]
["Poznámka :",null,null,null,null,null,null," "]
[null,null,null,null,null,null,null," "]
[null,null,null,null,null,null,null," "]
[null,null,null,null,null,null,null," "]
[null,null,null,null,null,null,null," "]
[null,null,null,null,null,null,null," "]
[null,null,null,null,null,null,null," "]
[null,null,null,null,null,null,null," "]
[null,null,null,null,null,null,null," "]
[null,null,null,null,null,null,null," "]

{"sheet":"303 3236303 Rek","index":17,"n_rows":11,"n_cols":9,"rows_kept":11,"cut":false,"hidden":false,"merged":[[0,0,0,1],[1,0,1,1],[1,6,1,8]]}
["Stavba :",null,"3236 Bytová zóna Hruštice - Károvsko - Etapa VII.",null,null,null,"Rozpočet :","3236/303"]
["Objekt :",null,"303 Přeložka vodovodu TLT DN100",null,null,null,"Přeložka vodovodu TLT DN100"]
[]
["REKAPITULACE  STAVEBNÍCH  DÍLŮ"]
[]
[null,"Stavební díl",null,null,"HSV","PSV","Dodávka","Montáž","HZS"]
[{"$f":"'303 3236303 Pol'!B7","v":"1"},{"$f":"'303 3236303 Pol'!C7","v":"Zemní práce"},null,null,{"$f":"'303 3236303 Pol'!BA88","v":0},{"$f":"'303 3236303 Pol'!BB88","v":0},{"$f":"'303 3236303 Pol'!BC88","v":0},{"$f":"'303 3236303 Pol'!BD88","v":0},{"$f":"'303 3236303 Pol'!BE88","v":0}]
[{"$f":"'303 3236303 Pol'!B89","v":"45"},{"$f":"'303 3236303 Pol'!C89","v":"Podkladní a vedlejší konstrukce"},null,null,{"$f":"'303 3236303 Pol'!BA94","v":0},{"$f":"'303 3236303 Pol'!BB94","v":0},{"$f":"'303 3236303 Pol'!BC94","v":0},{"$f":"'303 3236303 Pol'!BD94","v":0},{"$f":"'303 3236303 Pol'!BE94","v":0}]
[{"$f":"'303 3236303 Pol'!B95","v":"8"},{"$f":"'303 3236303 Pol'!C95","v":"Trubní vedení"},null,null,{"$f":"'303 3236303 Pol'!BA235","v":0},{"$f":"'303 3236303 Pol'!BB235","v":0},{"$f":"'303 3236303 Pol'!BC235","v":0},{"$f":"'303 3236303 Pol'!BD235","v":0},{"$f":"'303 3236303 Pol'!BE235","v":0}]
[{"$f":"'303 3236303 Pol'!B236","v":"99"},{"$f":"'303 3236303 Pol'!C236","v":"Staveništní přesun hmot"},null,null,{"$f":"'303 3236303 Pol'!BA239","v":0},{"$f":"'303 3236303 Pol'!BB239","v":0},{"$f":"'303 3236303 Pol'!BC239","v":0},{"$f":"'303 3236303 Pol'!BD239","v":0},{"$f":"'303 3236303 Pol'!BE239","v":0}]
[null,"CELKEM  OBJEKT",null,null,{"$f":"SUM(E7:E10)","v":0},{"$f":"SUM(F7:F10)","v":0},{"$f":"SUM(G7:G10)","v":0},{"$f":"SUM(H7:H10)","v":0},{"$f":"SUM(I7:I10)","v":0}]

{"sheet":"303 3236303 Pol","index":18,"n_rows":239,"n_cols":80,"rows_kept":239,"cut":false,"hidden":false,"merged":[[12,2,12,3],[13,2,13,3],[14,2,14,3],[15,2,15,3],[17,2,17,3],[18,2,18,3],[0,0,0,6],[2,0,2,1],[3,0,3,1],[3,4,3,6],[8,2,8,6],[9,2,9,6],[10,2,10,3],[11,2,11,3],[26,2,26,3],[28,2,28,3],[29,2,29,3],[30,2,30,3],[31,2,31,3],[32,2,32,3],[20,2,20,6],[21,2,21,6],[22,2,22,3],[23,2,23,3],[24,2,24,3],[25,2,25,3],[40,2,40,3],[42,2,42,3],[43,2,43,3],[44,2,44,3],[45,2,45,3],[46,2,46,3],[34,2,34,6],[35,2,35,6],[36,2,36,3],[37,2,37,3],[38,2,38,3],[39,2,39,3],[54,2,54,3],[56,2,56,3],[57,2,57,3],[58,2,58,3],[59,2,59,3],[60,2,60,3],[48,2,48,3],[49,2,49,3],[50,2,50,3],[51,2,51,3],[52,2,52,3],[53,2,53,3],[68,2,68,3],[69,2,69,3],[70,2,70,3],[71,2,71,3],[72,2,72,3],[73,2,73,3],[61,2,61,3],[62,2,62,3],[63,2,63,3],[64,2,64,3],[66,2,66,6],[67,2,67,3],[82,2,82,3],[83,2,83,3],[84,2,84,3],[85,2,85,3],[86,2,86,3],[74,2,74,3],[75,2,75,3],[77,2,77,3],[78,2,78,3],[80,2,80,3],[81,2,81,3],[101,2,101,6],[102,2,102,6],[103,2,103,6],[105,2,105,3],[107,2,107,6],[108,2,108,6],[90,2,90,3],[91,2,91,3],[96,2,96,6],[97,2,97,6],[98,2,98,6],[99,2,99,6],[100,2,100,6],[116,2,116,3],[118,2,118,3],[119,2,119,3],[120,2,120,3],[122,2,122,3],[123,2,123,3],[109,2,109,3],[110,2,110,3],[111,2,111,3],[113,2,113,6],[114,2,114,6],[115,2,115,3],[133,2,133,3],[134,2,134,3],[136,2,136,6],[137,2,137,3],[138,2,138,3],[140,2,140,6],[125,2,125,6],[126,2,126,3],[127,2,127,3],[129,2,129,3],[130,2,130,3],[132,2,132,6],[149,2,149,3],[151,2,151,6],[152,2,152,3],[154,2,154,6],[155,2,155,3],[156,2,156,3],[141,2,141,3],[142,2,142,3],[144,2,144,6],[145,2,145,3],[146,2,146,3],[148,2,148,6],[166,2,166,3],[167,2,167,3],[169,2,169,6],[170,2,170,3],[171,2,171,3],[172,2,172,3],[158,2,158,6],[159,2,159,3],[160,2,160,3],[162,2,162,6],[163,2,163,3],[164,2,164,3],[181,2,181,3],[182,2,182,3],[184,2,184,6],[185,2,185,3],[186,2,186,3],[188,2,188,3],[174,2,174,6],[175,2,175,3],[176,2,176,3],[177,2,177,3],[178,2,178,3],[179,2,179,3],[197,2,197,3],[198,2,198,3],[200,2,200,3],[201,2,201,3],[189,2,189,3],[191,2,191,3],[192,2,192,3],[194,2,194,3],[195,2,195,3],[209,2,209,6],[210,2,210,6],[211,2,211,6],[212,2,212,3],[213,2,213,3],[215,2,215,3],[203,2,203,3],[204,2,204,3],[206,2,206,6],[207,2,207,6],[208,2,208,6],[237,2,237,6],[226,2,226,3],[227,2,227,3],[229,2,229,3],[230,2,230,3],[232,2,232,3],[233,2,233,3],[216,2,216,3],[218,2,218,3],[220,2,220,3],[221,2,221,3],[223,2,223,3],[224,2,224,3]]}
["Položkový rozpočet "]
[]
["Stavba :",null,"3236 Bytová zóna Hruštice - Károvsko - Etapa VII.",null,"Rozpočet:",{"$f":"'303 3236303 Rek'!H1","v":"3236/303"}]
["Objekt :",null,"303 Přeložka vodovodu TLT DN100",null,{"$f":"'303 3236303 Rek'!G2","v":"Přeložka vodovodu TLT DN100"}]
[]
["P.č.","Číslo položky","Název položky","MJ","množství","cena / MJ","celkem (Kč)","Jednotková hmotnost","Celková hmotnost","Jednotková dem.hmot.","Celková dem.hmot."]
["Díl:","1","Zemní práce",null,null,null,null,null,null,null,null,null,null,null,1]
[1,"120001101RRX","Příplatek za ztížení vykopávky v blízkosti vedení ","m3",4.7149000000000001,null,{"$f":"E8*F8","v":0},0,{"$f":"E8*H8","v":0},0,{"$f":"E8*J8","v":0},null,null,null,2,null,null,null,null,null,null,null,null,null,null,null,1,1,1,null,null,null,null,null,null,null,null,null,null,null,null,null,null,null,null,null,null,null,null,null,null,1,{"$f":"IF(AZ8=1,G8,0)","v":0},{"$f":"IF(AZ8=2,G8,0)","v":0},{"$f":"IF(AZ8=3,G8,0)","v":0},{"$f":"IF(AZ8=4,G8,0)","v":0},{"$f":"IF(AZ8=5,G8,0)","v":0},null,null,null,null,null,null,null,null,null,null,null,null,null,null,null,null,null,null,null,null,null,1,1]
[null,null,"Včetně ruční dokopávky a ručního výkopu.",null,null,null,null,null,null,null,null,"Včetně ruční dokopávky a ručního výkopu.",null,null,3]
[null,null,"Součástí položky je i případná potřeba dočasnéhon zajištění potrubí a kabelových vedení ve výkopu.",null,null,null,null,null,null,null,null,"Součástí položky je i případná potřeba dočasnéhon zajištění potrubí a kabelových vedení ve výkopu.",null,null,3]
[null,null,"Výkopy:",null,0,null,null,null,null,null,null,null,"Výkopy:"]
[null,null,"Začátek provozního součtu",null,0,null,null,null,null,null,null,null,"Začátek provozního součtu"]
[null,null,"Přeložka řadu \"V\" TLT DN100:30,80*0,80*(1,63-0,40)",null,30.307200000000002,null,null,null,null,null,null,null,"Přeložka řadu \"V\" TLT DN100:30,80*0,80*(1,63-0,40)"]
[null,null,"VP1 PE D 32x3,0 mm:11,30*0,80*(1,60-0,40)+1,80*1,80*(2,00-0,15)",null,16.841999999999999,null,null,null,null,null,null,null,"VP1 PE D 32x3,0 mm:11,30*0,80*(1,60-0,40)+1,80*1,80*(2,00-0,15)"]
[null,null,"Konec provozního součtu",null,47.1492,null,null,null,null,null,null,null,"Konec provozního součtu"]
[null,null,"V hornině tř. 3 - 4 - 10%:47,1492*0,1",null,4.7149000000000001,null,null,null,null,null,null,null,"V hornině tř. 3 - 4 - 10%:47,1492*0,1"]
[2,"121100002RAA","Sejmutí ornice a uložení na deponii zpětný přesun, rozprostření v tl. 15 cm","m3",1.35,null,{"$f":"E17*F17","v":0},0,{"$f":"E17*H17","v":0},0,{"$f":"E17*J17","v":0},null,null,null,2,null,null,null,null,null,null,null,null,null,null,null,1,1,1,null,null,null,null,null,null,null,null,null,null,null,null,null,null,null,null,null,null,null,null,null,null,1,{"$f":"IF(AZ17=1,G17,0)","v":0},{"$f":"IF(AZ17=2,G17,0)","v":0},{"$f":"IF(AZ17=3,G17,0)","v":0},{"$f":"IF(AZ17=4,G17,0)","v":0},{"$f":"IF(AZ17=5,G17,0)","v":0},null,null,null,null,null,null,null,null,null,null,null,null,null,null,null,null,null,null,null,null,null,1,1]
[null,null,"Přeložka řadu \"V\" TLT DN100:",null,0,null,null,null,null,null,null,null,"Přeložka řadu \"V\" TLT DN100:"]
[null,null,"VP1 PE D 32x3,0 mm:3,00*3,00*0,15",null,1.35,null,null,null,null,null,null,null,"VP1 PE D 32x3,0 mm:3,00*3,00*0,15"]
[3,"132201210RRX","Hloubení rýh š.do 200 cm hor.3 do 50 m3,STROJNĚ ","m3",23.5746,null,{"$f":"E20*F20","v":0},0,{"$f":"E20*H20","v":0},0,{"$f":"E20*J20","v":0},null,null,null,2,null,null,null,null,null,null,null,null,null,null,null,1,1,1,null,null,null,null,null,null,null,null,null,null,null,null,null,null,null,null,null,null,null,null,null,null,1,{"$f":"IF(AZ20=1,G20,0)","v":0},{"$f":"IF(AZ20=2,G20,0)","v":0},{"$f":"IF(AZ20=3,G20,0)","v":0},{"$f":"IF(AZ20=4,G20,0)","v":0},{"$f":"IF(AZ20=5,G20,0)","v":0},null,null,null,null,null,null,null,null,null,null,null,null,null,null,null,null,null,null,null,null,null,1,1]
[null,null,"Položka obsahuje hloubení rýh traktorbagrem, naložení výkopku na dopravní prostředek pro svislé, nebo vodorovné přemístění, popř. přemístění výkopku do 3 m (po povrchu území), případné zajištění rypadel polštáři, udržování pracoviště a ochranu výkopiště proti stékání srážkové vody z okolního terénu i s jejím odvodněním, nebo odvedením, přesekání a odstranění kořenů ve výkopišti, odstranění napadávek, urovnání dna výkopu.",null,null,null,null,null,null,null,null,"Položka obsahuje hloubení rýh traktorbagrem, naložení výkopku na dopravní prostředek pro svislé, nebo vodorovné přemístění, popř. přemístění výkopku do 3 m (po povrchu území), případné zajištění rypadel polštáři, udržování pracoviště a ochranu výkopiště proti stékání srážkové vody z okolního terénu i s jejím odvodněním, nebo odvedením, přesekání a odstranění kořenů ve výkopišti, odstranění napadávek, urovnání dna výkopu.",null,null,3]
[null,null,"Součástí položky je i zřízení a odstranění pažení rýhy v souladu s předpisy BOZP.",null,null,null,null,null,null,null,null,"Součástí položky je i zřízení a odstranění pažení rýhy v souladu s předpisy BOZP.",null,null,3]
[null,null,"Začátek provozního součtu",null,0,null,null,null,null,null,null,null,"Začátek provozního součtu"]
[null,null,"Přeložka řadu \"V\" TLT DN100:30,80*0,80*(1,63-0,40)",null,30.307200000000002,null,null,null,null,null,null,null,"Přeložka řadu \"V\" TLT DN100:30,80*0,80*(1,63-0,40)"]
[null,null,"VP1 PE D 32x3,0 mm:11,30*0,80*(1,60-0,40)+1,80*1,80*(2,00-0,15)",null,16.841999999999999,null,null,null,null,null,null,null,"VP1 PE D 32x3,0 mm:11,30*0,80*(1,60-0,40)+1,80*1,80*(2,00-0,15)"]
[null,null,"Konec provozního součtu",null,47.1492,null,null,null,null,null,null,null,"Konec provozního součtu"]
[null,null,"V hornině tř. 3 - 50%:47,1492*0,5",null,23.5746,null,null,null,null,null,null,null,"V hornině tř. 3 - 50%:47,1492*0,5"]
[4,"132201219R00","Přípl.za lepivost,hloubení rýh 200cm,hor.3,STROJNĚ ","m3",11.7873,null,{"$f":"E28*F28","v":0},0,{"$f":"E28*H28","v":0},0,{"$f":"E28*J28","v":0},null,null,null,2,null,null,null,null,null,null,null,null,null,null,null,1,1,1,null,null,null,null,null,null,null,null,null,null,null,null,null,null,null,null,null,null,null,null,null,null,1,{"$f":"IF(AZ28=1,G28,0)","v":0},{"$f":"IF(AZ28=2,G28,0)","v":0},{"$f":"IF(AZ28=3,G28,0)","v":0},{"$f":"IF(AZ28=4,G28,0)","v":0},{"$f":"IF(AZ28=5,G28,0)","v":0},null,null,null,null,null,null,null,null,null,null,null,null,null,null,null,null,null,null,null,null,null,1,1]
[null,null,"Začátek provozního součtu",null,0,null,null,null,null,null,null,null,"Začátek provozního součtu"]
[null,null,"Přeložka řadu \"V\" TLT DN100:30,80*0,80*(1,63-0,40)",null,30.307200000000002,null,null,null,null,null,null,null,"Přeložka řadu \"V\" TLT DN100:30,80*0,80*(1,63-0,40)"]
[null,null,"VP1 PE D 32x3,0 mm:11,30*0,80*(1,60-0,40)+1,80*1,80*(2,00-0,15)",null,16.841999999999999,null,null,null,null,null,null,null,"VP1 PE D 32x3,0 mm:11,30*0,80*(1,60-0,40)+1,80*1,80*(2,00-0,15)"]
[null,null,"Konec provozního součtu",null,47.1492,null,null,null,null,null,null,null,"Konec provozního součtu"]
[null,null,"V hornině tř. 3 - 50%:47,1492*0,5*0,5",null,11.7873,null,null,null,null,null,null,null,"V hornině tř. 3 - 50%:47,1492*0,5*0,5"]
[5,"132301210RRX","Hloubení rýh š.do 200 cm hor.4 do 50 m3, STROJNĚ ","m3",23.5746,null,{"$f":"E34*F34","v":0},0,{"$f":"E34*H34","v":0},0,{"$f":"E34*J34","v":0},null,null,null,2,null,null,null,null,null,null,null,null,null,null,null,1,1,1,null,null,null,null,null,null,null,null,null,null,null,null,null,null,null,null,null,null,null,null,null,null,1,{"$f":"IF(AZ34=1,G34,0)","v":0},{"$f":"IF(AZ34=2,G34,0)","v":0},{"$f":"IF(AZ34=3,G34,0)","v":0},{"$f":"IF(AZ34=4,G34,0)","v":0},{"$f":"IF(AZ34=5,G34,0)","v":0},null,null,null,null,null,null,null,null,null,null,null,null,null,null,null,null,null,null,null,null,null,1,1]
[null,null,"Položka obsahuje hloubení rýh traktorbagrem, naložení výkopku na dopravní prostředek pro svislé, nebo vodorovné přemístění, popř. přemístění výkopku do 3 m (po povrchu území), případné zajištění rypadel polštáři, udržování pracoviště a ochranu výkopiště proti stékání srážkové vody z okolního terénu i s jejím odvodněním, nebo odvedením, přesekání a odstranění kořenů ve výkopišti, odstranění napadávek, urovnání dna výkopu.",null,null,null,null,null,null,null,null,"Položka obsahuje hloubení rýh traktorbagrem, naložení výkopku na dopravní prostředek pro svislé, nebo vodorovné přemístění, popř. přemístění výkopku do 3 m (po povrchu území), případné zajištění rypadel polštáři, udržování pracoviště a ochranu výkopiště proti stékání srážkové vody z okolního terénu i s jejím odvodněním, nebo odvedením, přesekání a odstranění kořenů ve výkopišti, odstranění napadávek, urovnání dna výkopu.",null,null,3]
[null,null,"Součástí položky je i zřízení a odstranění pažení rýhy v souladu s předpisy BOZP.",null,null,null,null,null,null,null,null,"Součástí položky je i zřízení a odstranění pažení rýhy v souladu s předpisy BOZP.",null,null,3]
[null,null,"Začátek provozního součtu",null,0,null,null,null,null,null,null,null,"Začátek provozního součtu"]
[null,null,"Přeložka řadu \"V\" TLT DN100:30,80*0,80*(1,63-0,40)",null,30.307200000000002,null,null,null,null,null,null,null,"Přeložka řadu \"V\" TLT DN100:30,80*0,80*(1,63-0,40)"]
[null,null,"VP1 PE D 32x3,0 mm:11,30*0,80*(1,60-0,40)+1,80*1,80*(2,00-0,15)",null,16.841999999999999,null,null,null,null,null,null,null,"VP1 PE D 32x3,0 mm:11,30*0,80*(1,60-0,40)+1,80*1,80*(2,00-0,15)"]
[null,null,"Konec provozního součtu",null,47.1492,null,null,null,null,null,null,null,"Konec provozního součtu"]
[null,null,"V hornině tř. 4 - 50%:47,1492*0,5",null,23.5746,null,null,null,null,null,null,null,"V hornině tř. 4 - 50%:47,1492*0,5"]
[6,"132301219R00","Přípl.za lepivost,hloubení rýh 200cm,hor.4,STROJNĚ ","m3",11.7873,null,{"$f":"E42*F42","v":0},0,{"$f":"E42*H42","v":0},0,{"$f":"E42*J42","v":0},null,null,null,2,null,null,null,null,null,null,null,null,null,null,null,1,1,1,null,null,null,null,null,null,null,null,null,null,null,null,null,null,null,null,null,null,null,null,null,null,1,{"$f":"IF(AZ42=1,G42,0)","v":0},{"$f":"IF(AZ42=2,G42,0)","v":0},{"$f":"IF(AZ42=3,G42,0)","v":0},{"$f":"IF(AZ42=4,G42,0)","v":0},{"$f":"IF(AZ42=5,G42,0)","v":0},null,null,null,null,null,null,null,null,null,null,null,null,null,null,null,null,null,null,null,null,null,1,1]
[null,null,"Začátek provozního součtu",null,0,null,null,null,null,null,null,null,"Začátek provozního součtu"]
[null,null,"Přeložka řadu \"V\" TLT DN100:30,80*0,80*(1,63-0,40)",null,30.307200000000002,null,null,null,null,null,null,null,"Přeložka řadu \"V\" TLT DN100:30,80*0,80*(1,63-0,40)"]
[null,null,"VP1 PE D 32x3,0 mm:11,30*0,80*(1,60-0,40)+1,80*1,80*(2,00-0,15)",null,16.841999999999999,null,null,null,null,null,null,null,"VP1 PE D 32x3,0 mm:11,30*0,80*(1,60-0,40)+1,80*1,80*(2,00-0,15)"]
[null,null,"Konec provozního součtu",null,47.1492,null,null,null,null,null,null,null,"Konec provozního součtu"]
[null,null,"V hornině tř. 4 - 50%:47,1492*0,5*0,5",null,11.7873,null,null,null,null,null,null,null,"V hornině tř. 4 - 50%:47,1492*0,5*0,5"]
[7,"162701105RSZ","Vodorovné přemístění výkopku z hor.1-7 na skládku zhotovitele","m3",30.091899999999999,null,{"$f":"E48*F48","v":0},0,{"$f":"E48*H48","v":0},0,{"$f":"E48*J48","v":0},null,null,null,2,null,null,null,null,null,null,null,null,null,null,null,1,1,1,null,null,null,null,null,null,null,null,null,null,null,null,null,null,null,null,null,null,null,null,null,null,1,{"$f":"IF(AZ48=1,G48,0)","v":0},{"$f":"IF(AZ48=2,G48,0)","v":0},{"$f":"IF(AZ48=3,G48,0)","v":0},{"$f":"IF(AZ48=4,G48,0)","v":0},{"$f":"IF(AZ48=5,G48,0)","v":0},null,null,null,null,null,null,null,null,null,null,null,null,null,null,null,null,null,null,null,null,null,1,1]
[null,null,"Výkopy:",null,0,null,null,null,null,null,null,null,"Výkopy:"]
[null,null,"Začátek provozního součtu",null,0,null,null,null,null,null,null,null,"Začátek provozního součtu"]
[null,null,"Přeložka řadu \"V\" TLT DN100:30,80*0,80*(1,63-0,40)",null,30.307200000000002,null,null,null,null,null,null,null,"Přeložka řadu \"V\" TLT DN100:30,80*0,80*(1,63-0,40)"]
[null,null,"VP1 PE D 32x3,0 mm:11,30*0,80*(1,60-0,40)+1,80*1,80*(2,00-0,15)",null,16.841999999999999,null,null,null,null,null,null,null,"VP1 PE D 32x3,0 mm:11,30*0,80*(1,60-0,40)+1,80*1,80*(2,00-0,15)"]
[null,null,"Konec provozního součtu",null,47.1492,null,null,null,null,null,null,null,"Konec provozního součtu"]
[null,null,"V hornině tř. 3 - 4 :47,1492",null,47.1492,null,null,null,null,null,null,null,"V hornině tř. 3 - 4 :47,1492"]
[null,null,"Odpočet zásypů zeminou:-17,0573",null,-17.057300000000001,null,null,null,null,null,null,null,"Odpočet zásypů zeminou:-17,0573"]
[8,"174100050RAA","Zásyp jam,rýh a šachet štěrkodrtí fr. 0-63 mm včetně dovozu štěrkodrtě","m3",12.8573,null,{"$f":"E56*F56","v":0},1.873,{"$f":"E56*H56","v":24.081722899999999},0,{"$f":"E56*J56","v":0},null,null,null,2,null,null,null,null,null,null,null,null,null,null,null,1,1,1,null,null,null,null,null,null,null,null,null,null,null,null,null,null,null,null,null,null,null,null,null,null,1,{"$f":"IF(AZ56=1,G56,0)","v":0},{"$f":"IF(AZ56=2,G56,0)","v":0},{"$f":"IF(AZ56=3,G56,0)","v":0},{"$f":"IF(AZ56=4,G56,0)","v":0},{"$f":"IF(AZ56=5,G56,0)","v":0},null,null,null,null,null,null,null,null,null,null,null,null,null,null,null,null,null,null,null,null,null,1,1]
[null,null,"Výkopy:",null,0,null,null,null,null,null,null,null,"Výkopy:"]
[null,null,"Začátek provozního součtu",null,0,null,null,null,null,null,null,null,"Začátek provozního součtu"]
[null,null,"Přeložka řadu \"V\" TLT DN100:30,80*0,80*(1,63-0,40)",null,30.307200000000002,null,null,null,null,null,null,null,"Přeložka řadu \"V\" TLT DN100:30,80*0,80*(1,63-0,40)"]
[null,null,"VP1 PE D 32x3,0 mm:11,30*0,80*(1,60-0,40)",null,10.848000000000001,null,null,null,null,null,null,null,"VP1 PE D 32x3,0 mm:11,30*0,80*(1,60-0,40)"]
[null,null,"Konec provozního součtu",null,41.155200000000001,null,null,null,null,null,null,null,"Konec provozního součtu"]
[null,null,"V hornině tř. 3 - 4 :41,1552",null,41.155200000000001,null,null,null,null,null,null,null,"V hornině tř. 3 - 4 :41,1552"]
[null,null,"Odpočet lože, potrubí a obsyů:",null,0,null,null,null,null,null,null,null,"Odpočet lože, potrubí a obsyů:"]
[null,null,"Přeložka řadu \"V\" TLT DN100:-30,80*0,80*(1,63-0,30-0,10-0,10-0,30)",null,-20.4512,null,null,null,null,null,null,null,"Přeložka řadu \"V\" TLT DN100:-30,80*0,80*(1,63-0,30-0,10-0,10-0,30)"]
[null,null,"VP1 PE D 32x3,0 mm:-11,30*0,80*(1,60-0,30-0,10-0,032-0,30)",null,-7.8467000000000002,null,null,null,null,null,null,null,"VP1 PE D 32x3,0 mm:-11,30*0,80*(1,60-0,30-0,10-0,032-0,30)"]
[9,"174101101R00","Zásyp jam, rýh, šachet se zhutněním ","m3",17.057300000000001,null,{"$f":"E66*F66","v":0},0,{"$f":"E66*H66","v":0},0,{"$f":"E66*J66","v":0},null,null,null,2,null,null,null,null,null,null,null,null,null,null,null,1,1,1,null,null,null,null,null,null,null,null,null,null,null,null,null,null,null,null,null,null,null,null,null,null,1,{"$f":"IF(AZ66=1,G66,0)","v":0},{"$f":"IF(AZ66=2,G66,0)","v":0},{"$f":"IF(AZ66=3,G66,0)","v":0},{"$f":"IF(AZ66=4,G66,0)","v":0},{"$f":"IF(AZ66=5,G66,0)","v":0},null,null,null,null,null,null,null,null,null,null,null,null,null,null,null,null,null,null,null,null,null,1,1]
[null,null,"včetně strojního přemístění materiálu pro zásyp ze vzdálenosti do 10 m od okraje zásypu",null,null,null,null,null,null,null,null,"včetně strojního přemístění materiálu pro zásyp ze vzdálenosti do 10 m od okraje zásypu",null,null,3]
[null,null,"Výkopy:",null,0,null,null,null,null,null,null,null,"Výkopy:"]
[null,null,"Začátek provozního součtu",null,0,null,null,null,null,null,null,null,"Začátek provozního součtu"]
[null,null,"Přeložka řadu \"V\" TLT DN100:",null,0,null,null,null,null,null,null,null,"Přeložka řadu \"V\" TLT DN100:"]
[null,null,"VP1 PE D 32x3,0 mm:1,80*1,80*(2,00-0,15)",null,5.9939999999999998,null,null,null,null,null,null,null,"VP1 PE D 32x3,0 mm:1,80*1,80*(2,00-0,15)"]
[null,null,"Konec provozního součtu",null,5.9939999999999998,null,null,null,null,null,null,null,"Konec provozního součtu"]
[null,null,"V hornině tř. 3 - 4:5,9940",null,5.9939999999999998,null,null,null,null,null,null,null,"V hornině tř. 3 - 4:5,9940"]
[null,null,"Odpočet objemu VŠ:-(1,80*1,80*0,15+0,60^2*Pi*(2,00-0,15*2))",null,-2.4087000000000001,null,null,null,null,null,null,null,"Odpočet objemu VŠ:-(1,80*1,80*0,15+0,60^2*Pi*(2,00-0,15*2))"]
[null,null,"Přeložka řadu \"V\" TLT DN100:30,80*0,80*0,40",null,9.8559999999999999,null,null,null,null,null,null,null,"Přeložka řadu \"V\" TLT DN100:30,80*0,80*0,40"]
[null,null,"VP1 PE D 32x3,0 mm:11,30*0,80*0,40",null,3.6160000000000001,null,null,null,null,null,null,null,"VP1 PE D 32x3,0 mm:11,30*0,80*0,40"]
[10,"175100020RAA","Obsyp potrubí štěrkopískem včetně dovozu štěrkopísku","m3",12.606299999999999,null,{"$f":"E77*F77","v":0},1.873,{"$f":"E77*H77","v":23.611599899999998},0,{"$f":"E77*J77","v":0},null,null,null,2,null,null,null,null,null,null,null,null,null,null,null,1,1,1,null,null,null,null,null,null,null,null,null,null,null,null,null,null,null,null,null,null,null,null,null,null,1,{"$f":"IF(AZ77=1,G77,0)","v":0},{"$f":"IF(AZ77=2,G77,0)","v":0},{"$f":"IF(AZ77=3,G77,0)","v":0},{"$f":"IF(AZ77=4,G77,0)","v":0},{"$f":"IF(AZ77=5,G77,0)","v":0},null,null,null,null,null,null,null,null,null,null,null,null,null,null,null,null,null,null,null,null,null,1,1]
[null,null,"Přeložka řadu \"V\" TLT DN100:30,80*(0,80*(0,10+0,30)-0,05^2*Pi)",null,9.6141000000000005,null,null,null,null,null,null,null,"Přeložka řadu \"V\" TLT DN100:30,80*(0,80*(0,10+0,30)-0,05^2*Pi)"]
[null,null,"VP1 PE D 32x3,0 mm:11,30*(0,80*(0,032+0,30)-0,016^2*Pi)",null,2.9922,null,null,null,null,null,null,null,"VP1 PE D 32x3,0 mm:11,30*(0,80*(0,032+0,30)-0,016^2*Pi)"]
[11,"199000002R00","Poplatek za skládku horniny 1- 7 ","m3",30.091899999999999,null,{"$f":"E80*F80","v":0},0,{"$f":"E80*H80","v":0},0,{"$f":"E80*J80","v":0},null,null,null,2,null,null,null,null,null,null,null,null,null,null,null,1,1,1,null,null,null,null,null,null,null,null,null,null,null,null,null,null,null,null,null,null,null,null,null,null,1,{"$f":"IF(AZ80=1,G80,0)","v":0},{"$f":"IF(AZ80=2,G80,0)","v":0},{"$f":"IF(AZ80=3,G80,0)","v":0},{"$f":"IF(AZ80=4,G80,0)","v":0},{"$f":"IF(AZ80=5,G80,0)","v":0},null,null,null,null,null,null,null,null,null,null,null,null,null,null,null,null,null,null,null,null,null,1,1]
[null,null,"Výkopy:",null,0,null,null,null,null,null,null,null,"Výkopy:"]
[null,null,"Začátek provozního součtu",null,0,null,null,null,null,null,null,null,"Začátek provozního součtu"]
[null,null,"Přeložka řadu \"V\" TLT DN100:30,80*0,80*(1,63-0,40)",null,30.307200000000002,null,null,null,null,null,null,null,"Přeložka řadu \"V\" TLT DN100:30,80*0,80*(1,63-0,40)"]
[null,null,"VP1 PE D 32x3,0 mm:11,30*0,80*(1,60-0,40)+1,80*1,80*(2,00-0,15)",null,16.841999999999999,null,null,null,null,null,null,null,"VP1 PE D 32x3,0 mm:11,30*0,80*(1,60-0,40)+1,80*1,80*(2,00-0,15)"]
[null,null,"Konec provozního součtu",null,47.1492,null,null,null,null,null,null,null,"Konec provozního součtu"]
[null,null,"V hornině tř. 3 - 4 :47,1492",null,47.1492,null,null,null,null,null,null,null,"V hornině tř. 3 - 4 :47,1492"]
[null,null,"Odpočet zásypů zeminou:-17,0573",null,-17.057300000000001,null,null,null,null,null,null,null,"Odpočet zásypů zeminou:-17,0573"]
[null,"Celkem za","1 Zemní práce",null,null,null,{"$f":"SUM(G7:G87)","v":0},null,{"$f":"SUM(I7:I87)","v":47.693322799999997},null,{"$f":"SUM(K7:K87)","v":0},null,null,null,4,null,null,null,null,null,null,null,null,null,null,null,null,null,null,null,null,null,null,null,null,null,null,null,null,null,null,null,null,null,null,null,null,null,null,null,null,null,{"$f":"SUM(BA7:BA87)","v":0},{"$f":"SUM(BB7:BB87)","v":0},{"$f":"SUM(BC7:BC87)","v":0},{"$f":"SUM(BD7:BD87)","v":0},{"$f":"SUM(BE7:BE87)","v":0}]
["Díl:","45","Podkladní a vedlejší konstrukce",null,null,null,null,null,null,null,null,null,null,null,1]
[12,"451572111R00","Lože pod potrubí z kameniva těženého 0 - 4 mm ","m3",3.3679999999999999,null,{"$f":"E90*F90","v":0},0.43051,{"$f":"E90*H90","v":1.44995768},0,{"$f":"E90*J90","v":0},null,null,null,2,null,null,null,null,null,null,null,null,null,null,null,1,1,1,null,null,null,null,null,null,null,null,null,null,null,null,null,null,null,null,null,null,null,null,null,null,1,{"$f":"IF(AZ90=1,G90,0)","v":0},{"$f":"IF(AZ90=2,G90,0)","v":0},{"$f":"IF(AZ90=3,G90,0)","v":0},{"$f":"IF(AZ90=4,G90,0)","v":0},{"$f":"IF(AZ90=5,G90,0)","v":0},null,null,null,null,null,null,null,null,null,null,null,null,null,null,null,null,null,null,null,null,null,1,1]
[null,null,"Přeložka řadu \"V\" TLT DN100:30,80*0,80*0,10",null,2.464,null,null,null,null,null,null,null,"Přeložka řadu \"V\" TLT DN100:30,80*0,80*0,10"]
[null,null,"VP1 PE D 32x3,0 mm:11,30*0,80*0,10",null,0.90400000000000003,null,null,null,null,null,null,null,"VP1 PE D 32x3,0 mm:11,30*0,80*0,10"]
[13,"452313131R00","Bloky pro potrubí z betonu C 12/15 ","m3",0.47799999999999998,null,{"$f":"E93*F93","v":0},2.5,{"$f":"E93*H93","v":1.1949999999999998},0,{"$f":"E93*J93","v":0},null,null,null,2,null,null,null,null,null,null,null,null,null,null,null,1,1,1,null,null,null,null,null,null,null,null,null,null,null,null,null,null,null,null,null,null,null,null,null,null,1,{"$f":"IF(AZ93=1,G93,0)","v":0},{"$f":"IF(AZ93=2,G93,0)","v":0},{"$f":"IF(AZ93=3,G93,0)","v":0},{"$f":"IF(AZ93=4,G93,0)","v":0},{"$f":"IF(AZ93=5,G93,0)","v":0},null,null,null,null,null,null,null,null,null,null,null,null,null,null,null,null,null,null,null,null,null,1,1]
[null,"Celkem za","45 Podkladní a vedlejší konstrukce",null,null,null,{"$f":"SUM(G89:G93)","v":0},null,{"$f":"SUM(I89:I93)","v":2.6449576800000001},null,{"$f":"SUM(K89:K93)","v":0},null,null,null,4,null,null,null,null,null,null,null,null,null,null,null,null,null,null,null,null,null,null,null,null,null,null,null,null,null,null,null,null,null,null,null,null,null,null,null,null,null,{"$f":"SUM(BA89:BA93)","v":0},{"$f":"SUM(BB89:BB93)","v":0},{"$f":"SUM(BC89:BC93)","v":0},{"$f":"SUM(BD89:BD93)","v":0},{"$f":"SUM(BE89:BE93)","v":0}]
["Díl:","8","Trubní vedení",null,null,null,null,null,null,null,null,null,null,null,1]
[14,"850265121R00","Výřez nebo výsek na potrubí litinovém DN 100 ","kus",2,null,{"$f":"E96*F96","v":0},0,{"$f":"E96*H96","v":0},0,{"$f":"E96*J96","v":0},null,null,null,2,null,null,null,null,null,null,null,null,null,null,null,1,1,1,null,null,null,null,null,null,null,null,null,null,null,null,null,null,null,null,null,null,null,null,null,null,1,{"$f":"IF(AZ96=1,G96,0)","v":0},{"$f":"IF(AZ96=2,G96,0)","v":0},{"$f":"IF(AZ96=3,G96,0)","v":0},{"$f":"IF(AZ96=4,G96,0)","v":0},{"$f":"IF(AZ96=5,G96,0)","v":0},null,null,null,null,null,null,null,null,null,null,null,null,null,null,null,null,null,null,null,null,null,1,1]
[null,null,"Položky výřezu nebo výseku na potrubí z trub litinových tlakových jsou určeny pro dva řezy nebo seky prováděné na potrubí dodatečně. V položkách jsou zakalkulovány náklady na",null,null,null,null,null,null,null,null,"Položky výřezu nebo výseku na potrubí z trub litinových tlakových jsou určeny pro dva řezy nebo seky prováděné na potrubí dodatečně. V položkách jsou zakalkulovány náklady na",null,null,3]
[null,null,"- ohlášení uzavírání vody",null,null,null,null,null,null,null,null,"- ohlášení uzavírání vody",null,null,3]
[null,null,"- uzavření a otevření šoupat",null,null,null,null,null,null,null,null,"- uzavření a otevření šoupat",null,null,3]
[null,null,"- vypuštění a napuštění vody",null,null,null,null,null,null,null,null,"- vypuštění a napuštění vody",null,null,3]
[null,null,"- odvzdušnění potrubí",null,null,null,null,null,null,null,null,"- odvzdušnění potrubí",null,null,3]
[null,null,"- strojní nebo ruční výřez potrubí",null,null,null,null,null,null,null,null,"- strojní nebo ruční výřez potrubí",null,null,3]
[null,null,"- nutné úpravy výkopu v prostoru provádění",null,null,null,null,null,null,null,null,"- nutné úpravy výkopu v prostoru provádění",null,null,3]
[null,null,"- montáž tvarovky",null,null,null,null,null,null,null,null,"- montáž tvarovky",null,null,3]
[15,"851601102RT1","Montáž potrubí tlakového, tvárná litina DN 100 hrdlové, pružný spoj, ve výkopu","m",30.8,null,{"$f":"E105*F105","v":0},0,{"$f":"E105*H105","v":0},0,{"$f":"E105*J105","v":0},null,null,null,2,null,null,null,null,null,null,null,null,null,null,null,1,1,1,null,null,null,null,null,null,null,null,null,null,null,null,null,null,null,null,null,null,null,null,null,null,1,{"$f":"IF(AZ105=1,G105,0)","v":0},{"$f":"IF(AZ105=2,G105,0)","v":0},{"$f":"IF(AZ105=3,G105,0)","v":0},{"$f":"IF(AZ105=4,G105,0)","v":0},{"$f":"IF(AZ105=5,G105,0)","v":0},null,null,null,null,null,null,null,null,null,null,null,null,null,null,null,null,null,null,null,null,null,1,1]
[null,null,"Přeložka řadu \"V\" TLT DN100:30,80",null,30.8,null,null,null,null,null,null,null,"Přeložka řadu \"V\" TLT DN100:30,80"]
[16,"857262121R00","Montáž tvarovek litin. jednoos. přír. výkop DN 100 ","kus",4,null,{"$f":"E107*F107","v":0},4.0999999999999999E-4,{"$f":"E107*H107","v":1.64E-3},0,{"$f":"E107*J107","v":0},null,null,null,2,null,null,null,null,null,null,null,null,null,null,null,1,1,1,null,null,null,null,null,null,null,null,null,null,null,null,null,null,null,null,null,null,null,null,null,null,1,{"$f":"IF(AZ107=1,G107,0)","v":0},{"$f":"IF(AZ107=2,G107,0)","v":0},{"$f":"IF(AZ107=3,G107,0)","v":0},{"$f":"IF(AZ107=4,G107,0)","v":0},{"$f":"IF(AZ107=5,G107,0)","v":0},null,null,null,null,null,null,null,null,null,null,null,null,null,null,null,null,null,null,null,null,null,1,1]
[null,null,"Položka je určena pro montáž litinových tvarovek na potrubí litinovém tlakovém přírubovém jednoosých v otevřeném výkopu, v otevřeném kanálu nebo v šachtě.",null,null,null,null,null,null,null,null,"Položka je určena pro montáž litinových tvarovek na potrubí litinovém tlakovém přírubovém jednoosých v otevřeném výkopu, v otevřeném kanálu nebo v šachtě.",null,null,3]
[null,null,"Součástí položky je i dodávka nerezových spojovacích prvků (šrouby, podložky, matky) a kompletního obandážování spojů.",null,null,null,null,null,null,null,null,"Součástí položky je i dodávka nerezových spojovacích prvků (šrouby, podložky, matky) a kompletního obandážování spojů.",null,null,3]
[null,null,"Přeložka řadu \"V\" TLT DN100:",null,0,null,null,null,null,null,null,null,"Přeložka řadu \"V\" TLT DN100:"]
[null,null,"Synoflex spojka DN100:2",null,2,null,null,null,null,null,null,null,"Synoflex spojka DN100:2"]
[null,null,"EU DN100:2",null,2,null,null,null,null,null,null,null,"EU DN100:2"]
[17,"857264121R00","Montáž tvarovek litin. odboč. přír. výkop DN 100 ","kus",1,null,{"$f":"E113*F113","v":0},6.2E-4,{"$f":"E113*H113","v":6.2E-4},0,{"$f":"E113*J113","v":0},null,null,null,2,null,null,null,null,null,null,null,null,null,null,null,1,1,1,null,null,null,null,null,null,null,null,null,null,null,null,null,null,null,null,null,null,null,null,null,null,1,{"$f":"IF(AZ113=1,G113,0)","v":0},{"$f":"IF(AZ113=2,G113,0)","v":0},{"$f":"IF(AZ113=3,G113,0)","v":0},{"$f":"IF(AZ113=4,G113,0)","v":0},{"$f":"IF(AZ113=5,G113,0)","v":0},null,null,null,null,null,null,null,null,null,null,null,null,null,null,null,null,null,null,null,null,null,1,1]
[null,null,"Položka je určena pro montáž litinových tvarovek na potrubí litinovém tlakovém přírubovém odbočných v otevřeném výkopu, v otevřeném kanálu nebo v šachtě.",null,null,null,null,null,null,null,null,"Položka je určena pro montáž litinových tvarovek na potrubí litinovém tlakovém přírubovém odbočných v otevřeném výkopu, v otevřeném kanálu nebo v šachtě.",null,null,3]
[null,null,"Součástí položky je i dodávka nerezových spojovacích prvků (šrouby, podložky, matky) a kompletního obandážování spojů.",null,null,null,null,null,null,null,null,"Součástí položky je i dodávka nerezových spojovacích prvků (šrouby, podložky, matky) a kompletního obandážování spojů.",null,null,3]
[null,null,"Přeložka řadu \"V\" TLT DN100:",null,0,null,null,null,null,null,null,null,"Přeložka řadu \"V\" TLT DN100:"]
[null,null,"T DN100/100:1",null,1,null,null,null,null,null,null,null,"T DN100/100:1"]
[18,"857601102R00","Montáž tvarovek jednoosých, tvárná litina DN 100 ","kus",3,null,{"$f":"E118*F118","v":0},0,{"$f":"E118*H118","v":0},0,{"$f":"E118*J118","v":0},null,null,null,2,null,null,null,null,null,null,null,null,null,null,null,1,1,1,null,null,null,null,null,null,null,null,null,null,null,null,null,null,null,null,null,null,null,null,null,null,1,{"$f":"IF(AZ118=1,G118,0)","v":0},{"$f":"IF(AZ118=2,G118,0)","v":0},{"$f":"IF(AZ118=3,G118,0)","v":0},{"$f":"IF(AZ118=4,G118,0)","v":0},{"$f":"IF(AZ118=5,G118,0)","v":0},null,null,null,null,null,null,null,null,null,null,null,null,null,null,null,null,null,null,null,null,null,1,1]
[null,null,"Přeložka řadu \"V\" TLT DN100:",null,0,null,null,null,null,null,null,null,"Přeložka řadu \"V\" TLT DN100:"]
[null,null,"MMK 11° DN100:1",null,1,null,null,null,null,null,null,null,"MMK 11° DN100:1"]
[null,null,"MMK 22° DN100:2",null,2,null,null,null,null,null,null,null,"MMK 22° DN100:2"]
[19,"857701102R00","Montáž tvarovek odbočných, tvárná litina DN 100 ","kus",1,null,{"$f":"E122*F122","v":0},2.1000000000000001E-4,{"$f":"E122*H122","v":2.1000000000000001E-4},0,{"$f":"E122*J122","v":0},null,null,null,2,null,null,null,null,null,null,null,null,null,null,null,1,1,1,null,null,null,null,null,null,null,null,null,null,null,null,null,null,null,null,null,null,null,null,null,null,1,{"$f":"IF(AZ122=1,G122,0)","v":0},{"$f":"IF(AZ122=2,G122,0)","v":0},{"$f":"IF(AZ122=3,G122,0)","v":0},{"$f":"IF(AZ122=4,G122,0)","v":0},{"$f":"IF(AZ122=5,G122,0)","v":0},null,null,null,null,null,null,null,null,null,null,null,null,null,null,null,null,null,null,null,null,null,1,1]
[null,null,"Přeložka řadu \"V\" TLT DN100:",null,0,null,null,null,null,null,null,null,"Přeložka řadu \"V\" TLT DN100:"]
[null,null,"MMA DN100/100:1",null,1,null,null,null,null,null,null,null,"MMA DN100/100:1"]
[20,"871161121R00","Montáž trubek polyetylenových ve výkopu d 32 mm ","m",11.3,null,{"$f":"E125*F125","v":0},0,{"$f":"E125*H125","v":0},0,{"$f":"E125*J125","v":0},null,null,null,2,null,null,null,null,null,null,null,null,null,null,null,1,1,1,null,null,null,null,null,null,null,null,null,null,null,null,null,null,null,null,null,null,null,null,null,null,1,{"$f":"IF(AZ125=1,G125,0)","v":0},{"$f":"IF(AZ125=2,G125,0)","v":0},{"$f":"IF(AZ125=3,G125,0)","v":0},{"$f":"IF(AZ125=4,G125,0)","v":0},{"$f":"IF(AZ125=5,G125,0)","v":0},null,null,null,null,null,null,null,null,null,null,null,null,null,null,null,null,null,null,null,null,null,1,1]
[null,null,"V položce je uvažováno použití svitku.",null,null,null,null,null,null,null,null,"V položce je uvažováno použití svitku.",null,null,3]
[null,null,"Přeložka řadu \"V\" TLT DN100:",null,0,null,null,null,null,null,null,null,"Přeložka řadu \"V\" TLT DN100:"]
[null,null,"VP1 PE D 32x3,0 mm:11,30",null,11.3,null,null,null,null,null,null,null,"VP1 PE D 32x3,0 mm:11,30"]
[21,"891163111R00","Montáž ventilů hlavních pro přípojky DN 25 ","kus",1,null,{"$f":"E129*F129","v":0},2.0000000000000002E-5,{"$f":"E129*H129","v":2.0000000000000002E-5},0,{"$f":"E129*J129","v":0},null,null,null,2,null,null,null,null,null,null,null,null,null,null,null,1,1,1,null,null,null,null,null,null,null,null,null,null,null,null,null,null,null,null,null,null,null,null,null,null,1,{"$f":"IF(AZ129=1,G129,0)","v":0},{"$f":"IF(AZ129=2,G129,0)","v":0},{"$f":"IF(AZ129=3,G129,0)","v":0},{"$f":"IF(AZ129=4,G129,0)","v":0},{"$f":"IF(AZ129=5,G129,0)","v":0},null,null,null,null,null,null,null,null,null,null,null,null,null,null,null,null,null,null,null,null,null,1,1]
[null,null,"Přeložka řadu \"V\" TLT DN100:",null,0,null,null,null,null,null,null,null,"Přeložka řadu \"V\" TLT DN100:"]
[null,null,"Pro VP1 PE D 32x3,0 mm:1",null,1,null,null,null,null,null,null,null,"Pro VP1 PE D 32x3,0 mm:1"]
[22,"891261111R00","Montáž vodovodních šoupátek ve výkopu DN 100 ","kus",1,null,{"$f":"E132*F132","v":0},4.0999999999999999E-4,{"$f":"E132*H132","v":4.0999999999999999E-4},0,{"$f":"E132*J132","v":0},null,null,null,2,null,null,null,null,null,null,null,null,null,null,null,1,1,1,null,null,null,null,null,null,null,null,null,null,null,null,null,null,null,null,null,null,null,null,null,null,1,{"$f":"IF(AZ132=1,G132,0)","v":0},{"$f":"IF(AZ132=2,G132,0)","v":0},{"$f":"IF(AZ132=3,G132,0)","v":0},{"$f":"IF(AZ132=4,G132,0)","v":0},{"$f":"IF(AZ132=5,G132,0)","v":0},null,null,null,null,null,null,null,null,null,null,null,null,null,null,null,null,null,null,null,null,null,1,1]
[null,null,"Položka je určena pro montáž vodovodních šoupátek v otevřeném výkopu nebo v šachtách s osazením zemní soupravy (bez poklopů). V položce jsou zakalkulovány i náklady na vytvoření otvorů ve stropech šachet pro prostup zemních souprav šoupátek. ",null,null,null,null,null,null,null,null,"Položka je určena pro montáž vodovodních šoupátek v otevřeném výkopu nebo v šachtách s osazením zemní soupravy (bez poklopů). V položce jsou zakalkulovány i náklady na vytvoření otvorů ve stropech šachet pro prostup zemních souprav šoupátek. ",null,null,3]
[null,null,"Přeložka řadu \"V\" TLT DN100:",null,0,null,null,null,null,null,null,null,"Přeložka řadu \"V\" TLT DN100:"]
[null,null,"Š DN100:1",null,1,null,null,null,null,null,null,null,"Š DN100:1"]
[23,"891269111R00","Montáž navrtávacích pasů DN 100 ","kus",1,null,{"$f":"E136*F136","v":0},0,{"$f":"E136*H136","v":0},0,{"$f":"E136*J136","v":0},null,null,null,2,null,null,null,null,null,null,null,null,null,null,null,1,1,1,null,null,null,null,null,null,null,null,null,null,null,null,null,null,null,null,null,null,null,null,null,null,1,{"$f":"IF(AZ136=1,G136,0)","v":0},{"$f":"IF(AZ136=2,G136,0)","v":0},{"$f":"IF(AZ136=3,G136,0)","v":0},{"$f":"IF(AZ136=4,G136,0)","v":0},{"$f":"IF(AZ136=5,G136,0)","v":0},null,null,null,null,null,null,null,null,null,null,null,null,null,null,null,null,null,null,null,null,null,1,1]
[null,null,"Položka je určena pro montáž navrtávacích pasů s ventilem na potrubí z trub osinkocementových, litinových, ocelových nebo plastckých hmot.",null,null,null,null,null,null,null,null,"Položka je určena pro montáž navrtávacích pasů s ventilem na potrubí z trub osinkocementových, litinových, ocelových nebo plastckých hmot.",null,null,3]
[null,null,"Přeložka řadu \"V\" TLT DN100:",null,0,null,null,null,null,null,null,null,"Přeložka řadu \"V\" TLT DN100:"]
[null,null,"Pro VP1 PE D 32x3,0 mm:1",null,1,null,null,null,null,null,null,null,"Pro VP1 PE D 32x3,0 mm:1"]
[24,"892233111R00","Desinfekce vodovodního potrubí DN 70 ","m",11.3,null,{"$f":"E140*F140","v":0},0,{"$f":"E140*H140","v":0},0,{"$f":"E140*J140","v":0},null,null,null,2,null,null,null,null,null,null,null,null,null,null,null,1,1,1,null,null,null,null,null,null,null,null,null,null,null,null,null,null,null,null,null,null,null,null,null,null,1,{"$f":"IF(AZ140=1,G140,0)","v":0},{"$f":"IF(AZ140=2,G140,0)","v":0},{"$f":"IF(AZ140=3,G140,0)","v":0},{"$f":"IF(AZ140=4,G140,0)","v":0},{"$f":"IF(AZ140=5,G140,0)","v":0},null,null,null,null,null,null,null,null,null,null,null,null,null,null,null,null,null,null,null,null,null,1,1]
[null,null,"V položce jsou zakalkulovány náklady na napuštění a vypuštění vody, dodání vody a desinfekčního prostředku a na bakteriologický rozbor vody.",null,null,null,null,null,null,null,null,"V položce jsou zakalkulovány náklady na napuštění a vypuštění vody, dodání vody a desinfekčního prostředku a na bakteriologický rozbor vody.",null,null,3]
[null,null,"Přeložka řadu \"V\" TLT DN100:",null,0,null,null,null,null,null,null,null,"Přeložka řadu \"V\" TLT DN100:"]
[null,null,"VP1 PE D 32x3,0 mm:11,30",null,11.3,null,null,null,null,null,null,null,"VP1 PE D 32x3,0 mm:11,30"]
[25,"892241111R00","Tlaková zkouška vodovodního potrubí DN 80 včetně zajištění konců potrubí","m",11.3,null,{"$f":"E144*F144","v":0},0,{"$f":"E144*H144","v":0},0,{"$f":"E144*J144","v":0},null,null,null,2,null,null,null,null,null,null,null,null,null,null,null,1,1,1,null,null,null,null,null,null,null,null,null,null,null,null,null,null,null,null,null,null,null,null,null,null,1,{"$f":"IF(AZ144=1,G144,0)","v":0},{"$f":"IF(AZ144=2,G144,0)","v":0},{"$f":"IF(AZ144=3,G144,0)","v":0},{"$f":"IF(AZ144=4,G144,0)","v":0},{"$f":"IF(AZ144=5,G144,0)","v":0},null,null,null,null,null,null,null,null,null,null,null,null,null,null,null,null,null,null,null,null,null,1,1]
[null,null,"V položce jsou započteny náklady na přísun, montáž, demontáž a odsun zkoušecího čerpadla, napuštění tlakovou vodou a dodání vody pro tlakovou zkoušku.",null,null,null,null,null,null,null,null,"V položce jsou započteny náklady na přísun, montáž, demontáž a odsun zkoušecího čerpadla, napuštění tlakovou vodou a dodání vody pro tlakovou zkoušku.",null,null,3]
[null,null,"Přeložka řadu \"V\" TLT DN100:",null,0,null,null,null,null,null,null,null,"Přeložka řadu \"V\" TLT DN100:"]
[null,null,"VP1 PE D 32x3,0 mm:11,30",null,11.3,null,null,null,null,null,null,null,"VP1 PE D 32x3,0 mm:11,30"]
[26,"892271111R00","Tlaková zkouška vodovodního potrubí DN 125 včetně zajištění konců potrubí","m",30.8,null,{"$f":"E148*F148","v":0},0,{"$f":"E148*H148","v":0},0,{"$f":"E148*J148","v":0},null,null,null,2,null,null,null,null,null,null,null,null,null,null,null,1,1,1,null,null,null,null,null,null,null,null,null,null,null,null,null,null,null,null,null,null,null,null,null,null,1,{"$f":"IF(AZ148=1,G148,0)","v":0},{"$f":"IF(AZ148=2,G148,0)","v":0},{"$f":"IF(AZ148=3,G148,0)","v":0},{"$f":"IF(AZ148=4,G148,0)","v":0},{"$f":"IF(AZ148=5,G148,0)","v":0},null,null,null,null,null,null,null,null,null,null,null,null,null,null,null,null,null,null,null,null,null,1,1]
[null,null,"V položce jsou započteny náklady na přísun, montáž, demontáž a odsun zkoušecího čerpadla, napuštění tlakovou vodou a dodání vody pro tlakovou zkoušku.",null,null,null,null,null,null,null,null,"V položce jsou započteny náklady na přísun, montáž, demontáž a odsun zkoušecího čerpadla, napuštění tlakovou vodou a dodání vody pro tlakovou zkoušku.",null,null,3]
[null,null,"Přeložka řadu \"V\" TLT DN100:30,80",null,30.8,null,null,null,null,null,null,null,"Přeložka řadu \"V\" TLT DN100:30,80"]
[27,"892273111R00","Desinfekce vodovodního potrubí DN 125 ","m",30.8,null,{"$f":"E151*F151","v":0},0,{"$f":"E151*H151","v":0},0,{"$f":"E151*J151","v":0},null,null,null,2,null,null,null,null,null,null,null,null,null,null,null,1,1,1,null,null,null,null,null,null,null,null,null,null,null,null,null,null,null,null,null,null,null,null,null,null,1,{"$f":"IF(AZ151=1,G151,0)","v":0},{"$f":"IF(AZ151=2,G151,0)","v":0},{"$f":"IF(AZ151=3,G151,0)","v":0},{"$f":"IF(AZ151=4,G151,0)","v":0},{"$f":"IF(AZ151=5,G151,0)","v":0},null,null,null,null,null,null,null,null,null,null,null,null,null,null,null,null,null,null,null,null,null,1,1]
[null,null,"V položce jsou zakalkulovány náklady na napuštění a vypuštění vody, dodání vody a desinfekčního prostředku a na bakteriologický rozbor vody.",null,null,null,null,null,null,null,null,"V položce jsou zakalkulovány náklady na napuštění a vypuštění vody, dodání vody a desinfekčního prostředku a na bakteriologický rozbor vody.",null,null,3]
[null,null,"Přeložka řadu \"V\" TLT DN100:30,80",null,30.8,null,null,null,null,null,null,null,"Přeložka řadu \"V\" TLT DN100:30,80"]
[28,"893151111R00","Montáž šachty vodoměrné a revizní plastové kruhové ","kus",1,null,{"$f":"E154*F154","v":0},0.51066,{"$f":"E154*H154","v":0.51066},0,{"$f":"E154*J154","v":0},null,null,null,2,null,null,null,null,null,null,null,null,null,null,null,1,1,1,null,null,null,null,null,null,null,null,null,null,null,null,null,null,null,null,null,null,null,null,null,null,1,{"$f":"IF(AZ154=1,G154,0)","v":0},{"$f":"IF(AZ154=2,G154,0)","v":0},{"$f":"IF(AZ154=3,G154,0)","v":0},{"$f":"IF(AZ154=4,G154,0)","v":0},{"$f":"IF(AZ154=5,G154,0)","v":0},null,null,null,null,null,null,null,null,null,null,null,null,null,null,null,null,null,null,null,null,null,1,1]
[null,null,"Včetně zřízení podkladního betonu v tl. 15 cm ",null,null,null,null,null,null,null,null,"Včetně zřízení podkladního betonu v tl. 15 cm ",null,null,3]
[null,null,"Přeložka řadu \"V\" TLT DN100:",null,0,null,null,null,null,null,null,null,"Přeložka řadu \"V\" TLT DN100:"]
[null,null,"Pro VP1 PE D 32x3,0 mm:1",null,1,null,null,null,null,null,null,null,"Pro VP1 PE D 32x3,0 mm:1"]
[29,"899401111R00","Osazení poklopů litinových ventilových ","kus",1,null,{"$f":"E158*F158","v":0},6.3829999999999998E-2,{"$f":"E158*H158","v":6.3829999999999998E-2},0,{"$f":"E158*J158","v":0},null,null,null,2,null,null,null,null,null,null,null,null,null,null,null,1,1,1,null,null,null,null,null,null,null,null,null,null,null,null,null,null,null,null,null,null,null,null,null,null,1,{"$f":"IF(AZ158=1,G158,0)","v":0},{"$f":"IF(AZ158=2,G158,0)","v":0},{"$f":"IF(AZ158=3,G158,0)","v":0},{"$f":"IF(AZ158=4,G158,0)","v":0},{"$f":"IF(AZ158=5,G158,0)","v":0},null,null,null,null,null,null,null,null,null,null,null,null,null,null,null,null,null,null,null,null,null,1,1]
[null,null,"V položkách osazení poklopů jsou zakalkulovány i náklady na jejich podezdění nebo osazení poklopů samonivelačních.",null,null,null,null,null,null,null,null,"V položkách osazení poklopů jsou zakalkulovány i náklady na jejich podezdění nebo osazení poklopů samonivelačních.",null,null,3]
[null,null,"Přeložka řadu \"V\" TLT DN100:",null,0,null,null,null,null,null,null,null,"Přeložka řadu \"V\" TLT DN100:"]
[null,null,"Pro VP1 PE D 32x3,0 mm:1",null,1,null,null,null,null,null,null,null,"Pro VP1 PE D 32x3,0 mm:1"]
[30,"899401112R00","Osazení poklopů litinových šoupátkových ","kus",1,null,{"$f":"E162*F162","v":0},0.11178,{"$f":"E162*H162","v":0.11178},0,{"$f":"E162*J162","v":0},null,null,null,2,null,null,null,null,null,null,null,null,null,null,null,1,1,1,null,null,null,null,null,null,null,null,null,null,null,null,null,null,null,null,null,null,null,null,null,null,1,{"$f":"IF(AZ162=1,G162,0)","v":0},{"$f":"IF(AZ162=2,G162,0)","v":0},{"$f":"IF(AZ162=3,G162,0)","v":0},{"$f":"IF(AZ162=4,G162,0)","v":0},{"$f":"IF(AZ162=5,G162,0)","v":0},null,null,null,null,null,null,null,null,null,null,null,null,null,null,null,null,null,null,null,null,null,1,1]
[null,null,"V položkách osazení poklopů jsou zakalkulovány i náklady na jejich podezdění nebo osazení poklopů samonivelačních.",null,null,null,null,null,null,null,null,"V položkách osazení poklopů jsou zakalkulovány i náklady na jejich podezdění nebo osazení poklopů samonivelačních.",null,null,3]
[null,null,"Přeložka řadu \"V\" TLT DN100:",null,0,null,null,null,null,null,null,null,"Přeložka řadu \"V\" TLT DN100:"]
[null,null,"Pro Š DN100:1",null,1,null,null,null,null,null,null,null,"Pro Š DN100:1"]
[31,"899711122R00","Fólie výstražná z PVC, šířka 30 cm ","m",42.1,null,{"$f":"E166*F166","v":0},0,{"$f":"E166*H166","v":0},0,{"$f":"E166*J166","v":0},null,null,null,2,null,null,null,null,null,null,null,null,null,null,null,1,1,1,null,null,null,null,null,null,null,null,null,null,null,null,null,null,null,null,null,null,null,null,null,null,1,{"$f":"IF(AZ166=1,G166,0)","v":0},{"$f":"IF(AZ166=2,G166,0)","v":0},{"$f":"IF(AZ166=3,G166,0)","v":0},{"$f":"IF(AZ166=4,G166,0)","v":0},{"$f":"IF(AZ166=5,G166,0)","v":0},null,null,null,null,null,null,null,null,null,null,null,null,null,null,null,null,null,null,null,null,null,1,1]
[null,null,"Přeložka řadu \"V\" TLT DN100:30,80",null,30.8,null,null,null,null,null,null,null,"Přeložka řadu \"V\" TLT DN100:30,80"]
[null,null,"VP1 PE D 32x3,0 mm:11,30",null,11.3,null,null,null,null,null,null,null,"VP1 PE D 32x3,0 mm:11,30"]
[32,"899713111RRX","Orientační tabulky na sloupku ocelovém, betonovém ","kus",2,null,{"$f":"E169*F169","v":0},2.4000000000000001E-4,{"$f":"E169*H169","v":4.8000000000000001E-4},0,{"$f":"E169*J169","v":0},null,null,null,2,null,null,null,null,null,null,null,null,null,null,null,1,1,1,null,null,null,null,null,null,null,null,null,null,null,null,null,null,null,null,null,null,null,null,null,null,1,{"$f":"IF(AZ169=1,G169,0)","v":0},{"$f":"IF(AZ169=2,G169,0)","v":0},{"$f":"IF(AZ169=3,G169,0)","v":0},{"$f":"IF(AZ169=4,G169,0)","v":0},{"$f":"IF(AZ169=5,G169,0)","v":0},null,null,null,null,null,null,null,null,null,null,null,null,null,null,null,null,null,null,null,null,null,1,1]
[null,null,"Položka platí pro orientační tabulky na vodovodních a kanalizačních řadech. V položce jsou zakalkulovány náklady na dodání a připevnění tabulky a na osazení sloupku. V položce jsou zakalkulovány náklady na zemní práce a na dodání sloupků (betonových nebo ocelových s betonovými patkami)",null,null,null,null,null,null,null,null,"Položka platí pro orientační tabulky na vodovodních a kanalizačních řadech. V položce jsou zakalkulovány náklady na dodání a připevnění tabulky a na osazení sloupku. V položce jsou zakalkulovány náklady na zemní práce a na dodání sloupků (betonových nebo ocelových s betonovými patkami)",null,null,3]
[null,null,"Přeložka řadu \"V\" TLT DN100:",null,0,null,null,null,null,null,null,null,"Přeložka řadu \"V\" TLT DN100:"]
[null,null,"Pro Š DN100:1",null,1,null,null,null,null,null,null,null,"Pro Š DN100:1"]
[null,null,"Pro VP1 PE D 32x3,0 mm:1",null,1,null,null,null,null,null,null,null,"Pro VP1 PE D 32x3,0 mm:1"]
[33,"899731114R00","Vodič signalizační CYY 6 mm2 ","m",50.1,null,{"$f":"E174*F174","v":0},8.0000000000000007E-5,{"$f":"E174*H174","v":4.0080000000000003E-3},0,{"$f":"E174*J174","v":0},null,null,null,2,null,null,null,null,null,null,null,null,null,null,null,1,1,1,null,null,null,null,null,null,null,null,null,null,null,null,null,null,null,null,null,null,null,null,null,null,1,{"$f":"IF(AZ174=1,G174,0)","v":0},{"$f":"IF(AZ174=2,G174,0)","v":0},{"$f":"IF(AZ174=3,G174,0)","v":0},{"$f":"IF(AZ174=4,G174,0)","v":0},{"$f":"IF(AZ174=5,G174,0)","v":0},null,null,null,null,null,null,null,null,null,null,null,null,null,null,null,null,null,null,null,null,null,1,1]
[null,null,"Součástí položky je zajištění proměření vodiče a výchozí revize.",null,null,null,null,null,null,null,null,"Součástí položky je zajištění proměření vodiče a výchozí revize.",null,null,3]
[null,null,"Přeložka řadu \"V\" TLT DN100:30,80",null,30.8,null,null,null,null,null,null,null,"Přeložka řadu \"V\" TLT DN100:30,80"]
[null,null,"VP1 PE D 32x3,0 mm:11,30",null,11.3,null,null,null,null,null,null,null,"VP1 PE D 32x3,0 mm:11,30"]
[null,null,"Vyvedení :",null,0,null,null,null,null,null,null,null,"Vyvedení :"]
[null,null,"Pro Š DN100:2,00*2*1",null,4,null,null,null,null,null,null,null,"Pro Š DN100:2,00*2*1"]
[null,null,"Pro VP1 PE D 32x3,0 mm:2,00*2*1",null,4,null,null,null,null,null,null,null,"Pro VP1 PE D 32x3,0 mm:2,00*2*1"]
[34,"28613565","Trubka PE100RC2 SDR11  32x3,0 mm L 100 m","m",11.4695,null,{"$f":"E181*F181","v":0},1.4400000000000001E-3,{"$f":"E181*H181","v":1.6516080000000002E-2},null,{"$f":"E181*J181","v":0},null,null,null,2,null,null,null,null,null,null,null,null,null,null,null,3,1,28613565,null,null,null,null,null,null,null,null,null,null,null,null,null,null,null,null,null,null,null,null,null,null,1,{"$f":"IF(AZ181=1,G181,0)","v":0},{"$f":"IF(AZ181=2,G181,0)","v":0},{"$f":"IF(AZ181=3,G181,0)","v":0},{"$f":"IF(AZ181=4,G181,0)","v":0},{"$f":"IF(AZ181=5,G181,0)","v":0},null,null,null,null,null,null,null,null,null,null,null,null,null,null,null,null,null,null,null,null,null,3,1]
[null,null,"Přeložka řadu \"V\" TLT DN100:",null,0,null,null,null,null,null,null,null,"Přeložka řadu \"V\" TLT DN100:"]
[null,null,"VP1 PE D 32x3,0 mm:11,30*1,015",null,11.4695,null,null,null,null,null,null,null,"VP1 PE D 32x3,0 mm:11,30*1,015"]
[35,"28697268","Šachta vodoměrná samonosná H 180 cm, poklop DN 120 cm","kus",1,null,{"$f":"E184*F184","v":0},0.11799999999999999,{"$f":"E184*H184","v":0.11799999999999999},null,{"$f":"E184*J184","v":0},null,null,null,2,null,null,null,null,null,null,null,null,null,null,null,3,1,28697268,null,null,null,null,null,null,null,null,null,null,null,null,null,null,null,null,null,null,null,null,null,null,1,{"$f":"IF(AZ184=1,G184,0)","v":0},{"$f":"IF(AZ184=2,G184,0)","v":0},{"$f":"IF(AZ184=3,G184,0)","v":0},{"$f":"IF(AZ184=4,G184,0)","v":0},{"$f":"IF(AZ184=5,G184,0)","v":0},null,null,null,null,null,null,null,null,null,null,null,null,null,null,null,null,null,null,null,null,null,3,1]
[null,null,"Součástí dodávka VŠ je i zaslepení potrubí vodovodní přípojky.",null,null,null,null,null,null,null,null,"Součástí dodávka VŠ je i zaslepení potrubí vodovodní přípojky.",null,null,3]
[null,null,"Přeložka řadu \"V\" TLT DN100:",null,0,null,null,null,null,null,null,null,"Přeložka řadu \"V\" TLT DN100:"]
[null,null,"Pro VP1 PE D 32x3,0 mm:1",null,1,null,null,null,null,null,null,null,"Pro VP1 PE D 32x3,0 mm:1"]
[36,"42200740.SN","Poklop uliční těžký 1650  - voda + podkladová deska nebo samonivelační","kus",1,null,{"$f":"E188*F188","v":0},6.4999999999999997E-3,{"$f":"E188*H188","v":6.4999999999999997E-3},null,{"$f":"E188*J188","v":0},null,null,null,2,null,null,null,null,null,null,null,null,null,null,null,3,1,"42200740.SN",null,null,null,null,null,null,null,null,null,null,null,null,null,null,null,null,null,null,null,null,null,null,1,{"$f":"IF(AZ188=1,G188,0)","v":0},{"$f":"IF(AZ188=2,G188,0)","v":0},{"$f":"IF(AZ188=3,G188,0)","v":0},{"$f":"IF(AZ188=4,G188,0)","v":0},{"$f":"IF(AZ188=5,G188,0)","v":0},null,null,null,null,null,null,null,null,null,null,null,null,null,null,null,null,null,null,null,null,null,3,1]
[null,null,"Přeložka řadu \"V\" TLT DN100:",null,0,null,null,null,null,null,null,null,"Přeložka řadu \"V\" TLT DN100:"]
[null,null,"Pro VP1 PE D 32x3,0 mm:1",null,1,null,null,null,null,null,null,null,"Pro VP1 PE D 32x3,0 mm:1"]
[37,"42200750.SN","Poklop uliční šoupátkový 1750  - voda + podkladová deska nebo samonivelační","kus",1,null,{"$f":"E191*F191","v":0},1.1299999999999999E-2,{"$f":"E191*H191","v":1.1299999999999999E-2},null,{"$f":"E191*J191","v":0},null,null,null,2,null,null,null,null,null,null,null,null,null,null,null,3,1,"42200750.SN",null,null,null,null,null,null,null,null,null,null,null,null,null,null,null,null,null,null,null,null,null,null,1,{"$f":"IF(AZ191=1,G191,0)","v":0},{"$f":"IF(AZ191=2,G191,0)","v":0},{"$f":"IF(AZ191=3,G191,0)","v":0},{"$f":"IF(AZ191=4,G191,0)","v":0},{"$f":"IF(AZ191=5,G191,0)","v":0},null,null,null,null,null,null,null,null,null,null,null,null,null,null,null,null,null,null,null,null,null,3,1]
[null,null,"Přeložka řadu \"V\" TLT DN100:",null,0,null,null,null,null,null,null,null,"Přeložka řadu \"V\" TLT DN100:"]
[null,null,"Pro Š DN100:1",null,1,null,null,null,null,null,null,null,"Pro Š DN100:1"]
[38,"42202681","Navrtávací ISO šoupátko č. 2681 DN 1\" + ISO 6221","kus",1,null,{"$f":"E194*F194","v":0},2.5999999999999999E-3,{"$f":"E194*H194","v":2.5999999999999999E-3},null,{"$f":"E194*J194","v":0},null,null,null,2,null,null,null,null,null,null,null,null,null,null,null,3,1,42202681,null,null,null,null,null,null,null,null,null,null,null,null,null,null,null,null,null,null,null,null,null,null,1,{"$f":"IF(AZ194=1,G194,0)","v":0},{"$f":"IF(AZ194=2,G194,0)","v":0},{"$f":"IF(AZ194=3,G194,0)","v":0},{"$f":"IF(AZ194=4,G194,0)","v":0},{"$f":"IF(AZ194=5,G194,0)","v":0},null,null,null,null,null,null,null,null,null,null,null,null,null,null,null,null,null,null,null,null,null,3,1]
[null,null,"Přeložka řadu \"V\" TLT DN100:",null,0,null,null,null,null,null,null,null,"Přeložka řadu \"V\" TLT DN100:"]
[null,null,"Pro VP1 PE D 32x3,0 mm:1",null,1,null,null,null,null,null,null,null,"Pro VP1 PE D 32x3,0 mm:1"]
[39,"42203370.08","Pás navrtávací Hacom č.3370 DN 100/2\"","kus",1,null,{"$f":"E197*F197","v":0},8.8000000000000005E-3,{"$f":"E197*H197","v":8.8000000000000005E-3},null,{"$f":"E197*J197","v":0},null,null,null,2,null,null,null,null,null,null,null,null,null,null,null,3,1,42203370.079999998,null,null,null,null,null,null,null,null,null,null,null,null,null,null,null,null,null,null,null,null,null,null,1,{"$f":"IF(AZ197=1,G197,0)","v":0},{"$f":"IF(AZ197=2,G197,0)","v":0},{"$f":"IF(AZ197=3,G197,0)","v":0},{"$f":"IF(AZ197=4,G197,0)","v":0},{"$f":"IF(AZ197=5,G197,0)","v":0},null,null,null,null,null,null,null,null,null,null,null,null,null,null,null,null,null,null,null,null,null,3,1]
[null,null,"Přeložka řadu \"V\" TLT DN100:",null,0,null,null,null,null,null,null,null,"Přeložka řadu \"V\" TLT DN100:"]
[null,null,"Pro VP1 PE D 32x3,0 mm:1",null,1,null,null,null,null,null,null,null,"Pro VP1 PE D 32x3,0 mm:1"]
[40,"42207994.06","Synoflex spojka DN100 (D104-132)","kus",2,null,{"$f":"E200*F200","v":0},6.1999999999999998E-3,{"$f":"E200*H200","v":1.24E-2},null,{"$f":"E200*J200","v":0},null,null,null,2,null,null,null,null,null,null,null,null,null,null,null,3,1,42207994.060000002,null,null,null,null,null,null,null,null,null,null,null,null,null,null,null,null,null,null,null,null,null,null,1,{"$f":"IF(AZ200=1,G200,0)","v":0},{"$f":"IF(AZ200=2,G200,0)","v":0},{"$f":"IF(AZ200=3,G200,0)","v":0},{"$f":"IF(AZ200=4,G200,0)","v":0},{"$f":"IF(AZ200=5,G200,0)","v":0},null,null,null,null,null,null,null,null,null,null,null,null,null,null,null,null,null,null,null,null,null,3,1]
[null,null,"Přeložka řadu \"V\" TLT DN100:",null,0,null,null,null,null,null,null,null,"Přeložka řadu \"V\" TLT DN100:"]
[null,null,"Synoflex spojka DN100:2",null,2,null,null,null,null,null,null,null,"Synoflex spojka DN100:2"]
[41,"42209601","Zemní souprava tel. (1,3 - 1,8 m) č.9601 3/4-2\"","kus",1,null,{"$f":"E203*F203","v":0},2.5000000000000001E-3,{"$f":"E203*H203","v":2.5000000000000001E-3},null,{"$f":"E203*J203","v":0},null,null,null,2,null,null,null,null,null,null,null,null,null,null,null,3,1,42209601,null,null,null,null,null,null,null,null,null,null,null,null,null,null,null,null,null,null,null,null,null,null,1,{"$f":"IF(AZ203=1,G203,0)","v":0},{"$f":"IF(AZ203=2,G203,0)","v":0},{"$f":"IF(AZ203=3,G203,0)","v":0},{"$f":"IF(AZ203=4,G203,0)","v":0},{"$f":"IF(AZ203=5,G203,0)","v":0},null,null,null,null,null,null,null,null,null,null,null,null,null,null,null,null,null,null,null,null,null,3,1]
[null,null,"Přeložka řadu \"V\" TLT DN100:",null,0,null,null,null,null,null,null,null,"Přeložka řadu \"V\" TLT DN100:"]
[null,null,"Pro VP1 PE D 32x3,0 mm:1",null,1,null,null,null,null,null,null,null,"Pro VP1 PE D 32x3,0 mm:1"]
[42,"42228312","Šoupátko 4000E2 DN 100 přírubové, voda","kus",1,null,{"$f":"E206*F206","v":0},2.4500000000000001E-2,{"$f":"E206*H206","v":2.4500000000000001E-2},null,{"$f":"E206*J206","v":0},null,null,null,2,null,null,null,null,null,null,null,null,null,null,null,3,1,42228312,null,null,null,null,null,null,null,null,null,null,null,null,null,null,null,null,null,null,null,null,null,null,1,{"$f":"IF(AZ206=1,G206,0)","v":0},{"$f":"IF(AZ206=2,G206,0)","v":0},{"$f":"IF(AZ206=3,G206,0)","v":0},{"$f":"IF(AZ206=4,G206,0)","v":0},{"$f":"IF(AZ206=5,G206,0)","v":0},null,null,null,null,null,null,null,null,null,null,null,null,null,null,null,null,null,null,null,null,null,3,1]
[null,null,"Šoupátko přírubové krkové - měkcetěsnící klínové šoupátko s hladkým a volným průtokovým kanálem",null,null,null,null,null,null,null,null,"Šoupátko přírubové krkové - měkcetěsnící klínové šoupátko s hladkým a volným průtokovým kanálem",null,null,3]
[null,null,"č. 4000E2",null,null,null,null,null,null,null,null,"č. 4000E2",null,null,3]
[null,null,"PN 16",null,null,null,null,null,null,null,null,"PN 16",null,null,3]
[null,null,"DN 100",null,null,null,null,null,null,null,null,"DN 100",null,null,3]
[null,null,"těleso a víko: tvárná litina GGG 400 - DIN 1693",null,null,null,null,null,null,null,null,"těleso a víko: tvárná litina GGG 400 - DIN 1693",null,null,3]
[null,null,"medium: pitná voda, neagresivní odpadní voda",null,null,null,null,null,null,null,null,"medium: pitná voda, neagresivní odpadní voda",null,null,3]
[null,null,"Přeložka řadu \"V\" TLT DN100:",null,0,null,null,null,null,null,null,null,"Přeložka řadu \"V\" TLT DN100:"]
[null,null,"Š DN100:1",null,1,null,null,null,null,null,null,null,"Š DN100:1"]
[43,"42293250","Souprava zemní 9500E2 DN50 -100, 1,3-1,8m","kus",1,null,{"$f":"E215*F215","v":0},7.3000000000000001E-3,{"$f":"E215*H215","v":7.3000000000000001E-3},null,{"$f":"E215*J215","v":0},null,null,null,2,null,null,null,null,null,null,null,null,null,null,null,3,1,42293250,null,null,null,null,null,null,null,null,null,null,null,null,null,null,null,null,null,null,null,null,null,null,1,{"$f":"IF(AZ215=1,G215,0)","v":0},{"$f":"IF(AZ215=2,G215,0)","v":0},{"$f":"IF(AZ215=3,G215,0)","v":0},{"$f":"IF(AZ215=4,G215,0)","v":0},{"$f":"IF(AZ215=5,G215,0)","v":0},null,null,null,null,null,null,null,null,null,null,null,null,null,null,null,null,null,null,null,null,null,3,1]
[null,null,"Přeložka řadu \"V\" TLT DN100:",null,0,null,null,null,null,null,null,null,"Přeložka řadu \"V\" TLT DN100:"]
[null,null,"Pro Š DN100:1",null,1,null,null,null,null,null,null,null,"Pro Š DN100:1"]
[44,"55251102","Trouba vod.lit.tlak. DN 100 mm spoj TYTON","m",31.108000000000001,null,{"$f":"E218*F218","v":0},1.77E-2,{"$f":"E218*H218","v":0.55061159999999998},null,{"$f":"E218*J218","v":0},null,null,null,2,null,null,null,null,null,null,null,null,null,null,null,3,1,55251102,null,null,null,null,null,null,null,null,null,null,null,null,null,null,null,null,null,null,null,null,null,null,1,{"$f":"IF(AZ218=1,G218,0)","v":0},{"$f":"IF(AZ218=2,G218,0)","v":0},{"$f":"IF(AZ218=3,G218,0)","v":0},{"$f":"IF(AZ218=4,G218,0)","v":0},{"$f":"IF(AZ218=5,G218,0)","v":0},null,null,null,null,null,null,null,null,null,null,null,null,null,null,null,null,null,null,null,null,null,3,1]
[null,null,"Přeložka řadu \"V\" TLT DN100:30,80*1,01",null,31.108000000000001,null,null,null,null,null,null,null,"Přeložka řadu \"V\" TLT DN100:30,80*1,01"]
[45,"55258535","Tvarovka hrdl.s přír.odb.MMA DN100/100","kus",1,null,{"$f":"E220*F220","v":0},1.6400000000000001E-2,{"$f":"E220*H220","v":1.6400000000000001E-2},null,{"$f":"E220*J220","v":0},null,null,null,2,null,null,null,null,null,null,null,null,null,null,null,3,1,55258535,null,null,null,null,null,null,null,null,null,null,null,null,null,null,null,null,null,null,null,null,null,null,1,{"$f":"IF(AZ220=1,G220,0)","v":0},{"$f":"IF(AZ220=2,G220,0)","v":0},{"$f":"IF(AZ220=3,G220,0)","v":0},{"$f":"IF(AZ220=4,G220,0)","v":0},{"$f":"IF(AZ220=5,G220,0)","v":0},null,null,null,null,null,null,null,null,null,null,null,null,null,null,null,null,null,null,null,null,null,3,1]
[null,null,"Přeložka řadu \"V\" TLT DN100:",null,0,null,null,null,null,null,null,null,"Přeložka řadu \"V\" TLT DN100:"]
[null,null,"MMA DN100/100:1",null,1,null,null,null,null,null,null,null,"MMA DN100/100:1"]
[46,"55259412","Koleno hrdlové MMK DN100-11 1/4°","kus",1,null,{"$f":"E223*F223","v":0},8.8000000000000005E-3,{"$f":"E223*H223","v":8.8000000000000005E-3},null,{"$f":"E223*J223","v":0},null,null,null,2,null,null,null,null,null,null,null,null,null,null,null,3,1,55259412,null,null,null,null,null,null,null,null,null,null,null,null,null,null,null,null,null,null,null,null,null,null,1,{"$f":"IF(AZ223=1,G223,0)","v":0},{"$f":"IF(AZ223=2,G223,0)","v":0},{"$f":"IF(AZ223=3,G223,0)","v":0},{"$f":"IF(AZ223=4,G223,0)","v":0},{"$f":"IF(AZ223=5,G223,0)","v":0},null,null,null,null,null,null,null,null,null,null,null,null,null,null,null,null,null,null,null,null,null,3,1]
[null,null,"Přeložka řadu \"V\" TLT DN100:",null,0,null,null,null,null,null,null,null,"Přeložka řadu \"V\" TLT DN100:"]
[null,null,"MMK 11° DN100:1",null,1,null,null,null,null,null,null,null,"MMK 11° DN100:1"]
[47,"55259432","Koleno hrdlové MMK DN100-22 1/2°","kus",2,null,{"$f":"E226*F226","v":0},9.1999999999999998E-3,{"$f":"E226*H226","v":1.84E-2},null,{"$f":"E226*J226","v":0},null,null,null,2,null,null,null,null,null,null,null,null,null,null,null,3,1,55259432,null,null,null,null,null,null,null,null,null,null,null,null,null,null,null,null,null,null,null,null,null,null,1,{"$f":"IF(AZ226=1,G226,0)","v":0},{"$f":"IF(AZ226=2,G226,0)","v":0},{"$f":"IF(AZ226=3,G226,0)","v":0},{"$f":"IF(AZ226=4,G226,0)","v":0},{"$f":"IF(AZ226=5,G226,0)","v":0},null,null,null,null,null,null,null,null,null,null,null,null,null,null,null,null,null,null,null,null,null,3,1]
[null,null,"Přeložka řadu \"V\" TLT DN100:",null,0,null,null,null,null,null,null,null,"Přeložka řadu \"V\" TLT DN100:"]
[null,null,"MMK 22° DN100:2",null,2,null,null,null,null,null,null,null,"MMK 22° DN100:2"]
[48,"55259731","Tvar. přír. s hrdlem EU DN 100","kus",2,null,{"$f":"E229*F229","v":0},8.8000000000000005E-3,{"$f":"E229*H229","v":1.7600000000000001E-2},null,{"$f":"E229*J229","v":0},null,null,null,2,null,null,null,null,null,null,null,null,null,null,null,3,1,55259731,null,null,null,null,null,null,null,null,null,null,null,null,null,null,null,null,null,null,null,null,null,null,1,{"$f":"IF(AZ229=1,G229,0)","v":0},{"$f":"IF(AZ229=2,G229,0)","v":0},{"$f":"IF(AZ229=3,G229,0)","v":0},{"$f":"IF(AZ229=4,G229,0)","v":0},{"$f":"IF(AZ229=5,G229,0)","v":0},null,null,null,null,null,null,null,null,null,null,null,null,null,null,null,null,null,null,null,null,null,3,1]
[null,null,"Přeložka řadu \"V\" TLT DN100:",null,0,null,null,null,null,null,null,null,"Přeložka řadu \"V\" TLT DN100:"]
[null,null,"EU DN100:2",null,2,null,null,null,null,null,null,null,"EU DN100:2"]
[49,"552599944","Tvarovka přír. s přír. odb. T DN 100/100","kus",1,null,{"$f":"E232*F232","v":0},1.9699999999999999E-2,{"$f":"E232*H232","v":1.9699999999999999E-2},null,{"$f":"E232*J232","v":0},null,null,null,2,null,null,null,null,null,null,null,null,null,null,null,3,1,552599944,null,null,null,null,null,null,null,null,null,null,null,null,null,null,null,null,null,null,null,null,null,null,1,{"$f":"IF(AZ232=1,G232,0)","v":0},{"$f":"IF(AZ232=2,G232,0)","v":0},{"$f":"IF(AZ232=3,G232,0)","v":0},{"$f":"IF(AZ232=4,G232,0)","v":0},{"$f":"IF(AZ232=5,G232,0)","v":0},null,null,null,null,null,null,null,null,null,null,null,null,null,null,null,null,null,null,null,null,null,3,1]
[null,null,"Přeložka řadu \"V\" TLT DN100:",null,0,null,null,null,null,null,null,null,"Přeložka řadu \"V\" TLT DN100:"]
[null,null,"T DN100/100:1",null,1,null,null,null,null,null,null,null,"T DN100/100:1"]
[null,"Celkem za","8 Trubní vedení",null,null,null,{"$f":"SUM(G95:G234)","v":0},null,{"$f":"SUM(I95:I234)","v":1.5355856799999998},null,{"$f":"SUM(K95:K234)","v":0},null,null,null,4,null,null,null,null,null,null,null,null,null,null,null,null,null,null,null,null,null,null,null,null,null,null,null,null,null,null,null,null,null,null,null,null,null,null,null,null,null,{"$f":"SUM(BA95:BA234)","v":0},{"$f":"SUM(BB95:BB234)","v":0},{"$f":"SUM(BC95:BC234)","v":0},{"$f":"SUM(BD95:BD234)","v":0},{"$f":"SUM(BE95:BE234)","v":0}]
["Díl:","99","Staveništní přesun hmot",null,null,null,null,null,null,null,null,null,null,null,1]
[50,"998273101R00","Přesun hmot, trubní vedení litinové, otevř. výkop ","t",51.873866159999999,null,{"$f":"E237*F237","v":0},0,{"$f":"E237*H237","v":0},null,{"$f":"E237*J237","v":0},null,null,null,2,null,null,null,null,null,null,null,null,null,null,null,7,1,2,null,null,null,null,null,null,null,null,null,null,null,null,null,null,null,null,null,null,null,null,null,null,1,{"$f":"IF(AZ237=1,G237,0)","v":0},{"$f":"IF(AZ237=2,G237,0)","v":0},{"$f":"IF(AZ237=3,G237,0)","v":0},{"$f":"IF(AZ237=4,G237,0)","v":0},{"$f":"IF(AZ237=5,G237,0)","v":0},null,null,null,null,null,null,null,null,null,null,null,null,null,null,null,null,null,null,null,null,null,7,1]
[null,null,"Položka je určena pro trubní vedení (vodovod nebo kanalizace) hloubené nebo ražené z trub litinových včetně drobných objektů. Platnost položky je vymezena pro nejmenší skladovací plochu 100 m2 + 0,24 m2/t, pro největší dopravní vzdálenost 15 m od hrany výkopu na povrchu nebo 15 m od okraje šachty k těžišti skládek na povrchu.",null,null,null,null,null,null,null,null,"Položka je určena pro trubní vedení (vodovod nebo kanalizace) hloubené nebo ražené z trub litinových včetně drobných objektů. Platnost položky je vymezena pro nejmenší skladovací plochu 100 m2 + 0,24 m2/t, pro největší dopravní vzdálenost 15 m od hrany výkopu na povrchu nebo 15 m od okraje šachty k těžišti skládek na povrchu.",null,null,3]
[null,"Celkem za","99 Staveništní přesun hmot",null,null,null,{"$f":"SUM(G236:G238)","v":0},null,{"$f":"SUM(I236:I238)","v":0},null,{"$f":"SUM(K236:K238)","v":0},null,null,null,4,null,null,null,null,null,null,null,null,null,null,null,null,null,null,null,null,null,null,null,null,null,null,null,null,null,null,null,null,null,null,null,null,null,null,null,null,null,{"$f":"SUM(BA236:BA238)","v":0},{"$f":"SUM(BB236:BB238)","v":0},{"$f":"SUM(BC236:BC238)","v":0},{"$f":"SUM(BD236:BD238)","v":0},{"$f":"SUM(BE236:BE238)","v":0}]

{"sheet":"304 3236304.1 KL","index":19,"n_rows":45,"n_cols":8,"rows_kept":45,"cut":false,"hidden":false,"merged":[[22,0,22,1],[7,2,7,4],[8,2,8,4],[9,2,9,4],[10,2,10,4],[11,2,11,4],[50,1,50,6],[29,5,29,6],[30,5,30,6],[31,5,31,6],[32,5,32,6],[33,5,33,6],[36,1,44,6],[45,1,45,6],[46,1,46,6],[47,1,47,6],[48,1,48,6],[49,1,49,6]]}
["POLOŽKOVÝ ROZPOČET"]
["Rozpočet",null,"3236/304.1","Jednotná kanalizace",null,"JKSO ","827.29.A2"]
[]
["Objekt",null,null,null,null,"SKP "]
["304",null,"Jednotná kanalizace, přípojky",null,null,"Měrná jednotka","m"]
["Stavba",null,null,null,null,"Počet jednotek",0]
["3236",null,"Bytová zóna Hruštice - Károvsko - Etapa VII.",null,null,"Náklady na m.j.",{"$f":"IF(G6=0,,ROUND((F30+F32)/G6,1))","v":0}]
["Projektant",null,"PROFES PROJEKT spol.s r.o.",null,null,"Typ rozpočtu"]
["Zpracovatel projektu"]
["Objednatel",null,"Město TURNOV"]
["Dodavatel",null,".",null,null,"Zakázkové číslo "]
["Rozpočtoval",null,null,null,null,"Počet listů"]
["ROZPOČTOVÉ NÁKLADY"]
["Základní rozpočtové náklady"]
[null,"HSV celkem",{"$f":"'304 3236304.1 Rek'!E11","v":0}]
["Z","PSV celkem",{"$f":"'304 3236304.1 Rek'!F11","v":0}]
["R","M práce celkem",{"$f":"'304 3236304.1 Rek'!H11","v":0}]
["N","M dodávky celkem",{"$f":"'304 3236304.1 Rek'!G11","v":0}]
["ZRN celkem",null,{"$f":"SUM(C15:C18)","v":0}]
[]
["HZS",null,{"$f":"'304 3236304.1 Rek'!I11","v":0}]
["ZRN+HZS",null,{"$f":"C19+C21","v":0}]
["ZRN+ost.náklady+HZS",null,{"$f":"C22+G23","v":0}]
["Vypracoval",null,null,"Za zhotovitele",null,"Za objednatele"]
["Jméno :",null,null,"Jméno :",null,"Jméno :"]
["Datum :",null,null,"Datum :",null,"Datum :"]
[]
["Podpis :",null,null,"Podpis:",null,"Podpis:"]
[]
["Základ pro DPH",null,21,"%  ",null,{"$f":"C23-F32","v":0}]
["DPH",null,{"$f":"C30","v":21},"% ",null,{"$f":"ROUND(PRODUCT(F30,C31/100),0)","v":0}]
["Základ pro DPH",null,0,"% ",null,0]
["DPH",null,{"$f":"C32","v":0},"% ",null,{"$f":"ROUND(PRODUCT(F32,C33/100),0)","v":0}]
["CENA ZA OBJEKT CELKEM",null,null,null,null,{"$f":"ROUND(SUM(F30:F33),0)","v":0}]
[]
["Poznámka :",null,null,null,null,null,null," "]
[null,null,null,null,null,null,null," "]
[null,null,null,null,null,null,null," "]
[null,null,null,null,null,null,null," "]
[null,null,null,null,null,null,null," "]
[null,null,null,null,null,null,null," "]
[null,null,null,null,null,null,null," "]
[null,null,null,null,null,null,null," "]
[null,null,null,null,null,null,null," "]
[null,null,null,null,null,null,null," "]

{"sheet":"304 3236304.1 Rek","index":20,"n_rows":11,"n_cols":9,"rows_kept":11,"cut":false,"hidden":false,"merged":[[0,0,0,1],[1,0,1,1],[1,6,1,8]]}
["Stavba :",null,"3236 Bytová zóna Hruštice - Károvsko - Etapa VII.",null,null,null,"Rozpočet :","3236/304.1"]
["Objekt :",null,"304 Jednotná kanalizace, přípojky",null,null,null,"Jednotná kanalizace"]
[]
["REKAPITULACE  STAVEBNÍCH  DÍLŮ"]
[]
[null,"Stavební díl",null,null,"HSV","PSV","Dodávka","Montáž","HZS"]
[{"$f":"'304 3236304.1 Pol'!B7","v":"1"},{"$f":"'304 3236304.1 Pol'!C7","v":"Zemní práce"},null,null,{"$f":"'304 3236304.1 Pol'!BA88","v":0},{"$f":"'304 3236304.1 Pol'!BB88","v":0},{"$f":"'304 3236304.1 Pol'!BC88","v":0},{"$f":"'304 3236304.1 Pol'!BD88","v":0},{"$f":"'304 3236304.1 Pol'!BE88","v":0}]
[{"$f":"'304 3236304.1 Pol'!B89","v":"45"},{"$f":"'304 3236304.1 Pol'!C89","v":"Podkladní a vedlejší konstrukce"},null,null,{"$f":"'304 3236304.1 Pol'!BA100","v":0},{"$f":"'304 3236304.1 Pol'!BB100","v":0},{"$f":"'304 3236304.1 Pol'!BC100","v":0},{"$f":"'304 3236304.1 Pol'!BD100","v":0},{"$f":"'304 3236304.1 Pol'!BE100","v":0}]
[{"$f":"'304 3236304.1 Pol'!B101","v":"8"},{"$f":"'304 3236304.1 Pol'!C101","v":"Trubní vedení"},null,null,{"$f":"'304 3236304.1 Pol'!BA205","v":0},{"$f":"'304 3236304.1 Pol'!BB205","v":0},{"$f":"'304 3236304.1 Pol'!BC205","v":0},{"$f":"'304 3236304.1 Pol'!BD205","v":0},{"$f":"'304 3236304.1 Pol'!BE205","v":0}]
[{"$f":"'304 3236304.1 Pol'!B206","v":"99"},{"$f":"'304 3236304.1 Pol'!C206","v":"Staveništní přesun hmot"},null,null,{"$f":"'304 3236304.1 Pol'!BA209","v":0},{"$f":"'304 3236304.1 Pol'!BB209","v":0},{"$f":"'304 3236304.1 Pol'!BC209","v":0},{"$f":"'304 3236304.1 Pol'!BD209","v":0},{"$f":"'304 3236304.1 Pol'!BE209","v":0}]
[null,"CELKEM  OBJEKT",null,null,{"$f":"SUM(E7:E10)","v":0},{"$f":"SUM(F7:F10)","v":0},{"$f":"SUM(G7:G10)","v":0},{"$f":"SUM(H7:H10)","v":0},{"$f":"SUM(I7:I10)","v":0}]

{"sheet":"304 3236304.1 Pol","index":21,"n_rows":209,"n_cols":80,"rows_kept":209,"cut":false,"hidden":false,"merged":[[0,0,0,6],[2,0,2,1],[3,0,3,1],[3,4,3,6],[8,2,8,6],[9,2,9,6],[10,2,10,3],[11,2,11,3],[19,2,19,6],[20,2,20,6],[21,2,21,3],[22,2,22,3],[23,2,23,3],[24,2,24,3],[12,2,12,3],[13,2,13,3],[14,2,14,3],[15,2,15,3],[16,2,16,3],[17,2,17,3],[32,2,32,3],[33,2,33,3],[34,2,34,3],[35,2,35,3],[37,2,37,6],[38,2,38,6],[25,2,25,3],[26,2,26,3],[27,2,27,3],[29,2,29,3],[30,2,30,3],[31,2,31,3],[45,2,45,3],[47,2,47,3],[48,2,48,3],[49,2,49,3],[50,2,50,3],[51,2,51,3],[39,2,39,3],[40,2,40,3],[41,2,41,3],[42,2,42,3],[43,2,43,3],[44,2,44,3],[59,2,59,3],[60,2,60,3],[61,2,61,3],[62,2,62,3],[63,2,63,3],[65,2,65,3],[52,2,52,3],[53,2,53,3],[55,2,55,3],[56,2,56,3],[57,2,57,3],[58,2,58,3],[73,2,73,3],[75,2,75,3],[76,2,76,3],[78,2,78,3],[79,2,79,3],[80,2,80,3],[66,2,66,3],[67,2,67,3],[68,2,68,3],[69,2,69,3],[71,2,71,6],[72,2,72,3],[90,2,90,3],[91,2,91,3],[93,2,93,6],[94,2,94,3],[95,2,95,3],[97,2,97,3],[98,2,98,3],[81,2,81,3],[82,2,82,3],[83,2,83,3],[84,2,84,3],[85,2,85,3],[86,2,86,3],[113,2,113,6],[114,2,114,6],[115,2,115,6],[116,2,116,3],[117,2,117,3],[119,2,119,6],[102,2,102,6],[103,2,103,3],[105,2,105,6],[106,2,106,3],[108,2,108,6],[109,2,109,3],[110,2,110,3],[112,2,112,6],[127,2,127,3],[128,2,128,3],[130,2,130,6],[131,2,131,3],[132,2,132,3],[133,2,133,3],[120,2,120,6],[121,2,121,6],[122,2,122,6],[123,2,123,3],[125,2,125,6],[126,2,126,3],[140,2,140,3],[141,2,141,3],[142,2,142,3],[143,2,143,3],[144,2,144,3],[145,2,145,3],[134,2,134,3],[135,2,135,3],[136,2,136,3],[137,2,137,3],[138,2,138,3],[139,2,139,3],[154,2,154,3],[155,2,155,3],[157,2,157,6],[158,2,158,6],[159,2,159,3],[160,2,160,3],[147,2,147,6],[148,2,148,6],[149,2,149,3],[150,2,150,3],[152,2,152,6],[153,2,153,6],[169,2,169,6],[170,2,170,6],[171,2,171,6],[172,2,172,3],[174,2,174,6],[175,2,175,6],[162,2,162,6],[163,2,163,3],[164,2,164,3],[166,2,166,6],[167,2,167,6],[168,2,168,6],[183,2,183,6],[184,2,184,6],[185,2,185,6],[186,2,186,6],[187,2,187,3],[188,2,188,3],[176,2,176,6],[177,2,177,6],[178,2,178,6],[179,2,179,6],[180,2,180,3],[182,2,182,6],[207,2,207,6],[197,2,197,3],[199,2,199,3],[200,2,200,3],[202,2,202,3],[203,2,203,3],[189,2,189,3],[190,2,190,3],[191,2,191,3],[193,2,193,3],[194,2,194,3],[196,2,196,3]]}
["Položkový rozpočet "]
[]
["Stavba :",null,"3236 Bytová zóna Hruštice - Károvsko - Etapa VII.",null,"Rozpočet:",{"$f":"'304 3236304.1 Rek'!H1","v":"3236/304.1"}]
["Objekt :",null,"304 Jednotná kanalizace, přípojky",null,{"$f":"'304 3236304.1 Rek'!G2","v":"Jednotná kanalizace"}]
[]
["P.č.","Číslo položky","Název položky","MJ","množství","cena / MJ","celkem (Kč)","Jednotková hmotnost","Celková hmotnost","Jednotková dem.hmot.","Celková dem.hmot."]
["Díl:","1","Zemní práce",null,null,null,null,null,null,null,null,null,null,null,1]
[1,"120001101RRX","Příplatek za ztížení vykopávky v blízkosti vedení ","m3",26.782800000000002,null,{"$f":"E8*F8","v":0},0,{"$f":"E8*H8","v":0},0,{"$f":"E8*J8","v":0},null,null,null,2,null,null,null,null,null,null,null,null,null,null,null,1,1,1,null,null,null,null,null,null,null,null,null,null,null,null,null,null,null,null,null,null,null,null,null,null,1,{"$f":"IF(AZ8=1,G8,0)","v":0},{"$f":"IF(AZ8=2,G8,0)","v":0},{"$f":"IF(AZ8=3,G8,0)","v":0},{"$f":"IF(AZ8=4,G8,0)","v":0},{"$f":"IF(AZ8=5,G8,0)","v":0},null,null,null,null,null,null,null,null,null,null,null,null,null,null,null,null,null,null,null,null,null,1,1]
[null,null,"Včetně ruční dokopávky a ručního výkopu.",null,null,null,null,null,null,null,null,"Včetně ruční dokopávky a ručního výkopu.",null,null,3]
[null,null,"Součástí položky je i případná potřeba dočasnéhon zajištění potrubí a kabelových vedení ve výkopu.",null,null,null,null,null,null,null,null,"Součástí položky je i případná potřeba dočasnéhon zajištění potrubí a kabelových vedení ve výkopu.",null,null,3]
[null,null,"Výkopy:",null,0,null,null,null,null,null,null,null,"Výkopy:"]
[null,null,"Začátek provozního součtu",null,0,null,null,null,null,null,null,null,"Začátek provozního součtu"]
[null,null,"Stoka JK PVC DN300:2,50*1,00*(2,16-0,40)",null,4.4000000000000004,null,null,null,null,null,null,null,"Stoka JK PVC DN300:2,50*1,00*(2,16-0,40)"]
[null,null,"Stoka JK PVC DN400:60,90*1,10*((2,16+2,03)/2-0,40)",null,113.54810000000001,null,null,null,null,null,null,null,"Stoka JK PVC DN400:60,90*1,10*((2,16+2,03)/2-0,40)"]
[null,null,"Prohloubení pro RŠ:1,60*1,60*0,20*2",null,1.024,null,null,null,null,null,null,null,"Prohloubení pro RŠ:1,60*1,60*0,20*2"]
[null,null,"Rozšíření pro RŠ:1,60*(1,60-1,10)*(2,16+2,10-0,40*2)",null,2.7679999999999998,null,null,null,null,null,null,null,"Rozšíření pro RŠ:1,60*(1,60-1,10)*(2,16+2,10-0,40*2)"]
[null,null,"Konec provozního součtu",null,121.74010000000001,null,null,null,null,null,null,null,"Konec provozního součtu"]
[null,null,"V hornině tř. 3 - 4 - 22%:121,7401*0,22",null,26.782800000000002,null,null,null,null,null,null,null,"V hornině tř. 3 - 4 - 22%:121,7401*0,22"]
[2,"132201211RRX","Hloubení rýh š.do 200 cm hor.3 do 100 m3,STROJNĚ ","m3",60.87,null,{"$f":"E19*F19","v":0},0,{"$f":"E19*H19","v":0},0,{"$f":"E19*J19","v":0},null,null,null,2,null,null,null,null,null,null,null,null,null,null,null,1,1,1,null,null,null,null,null,null,null,null,null,null,null,null,null,null,null,null,null,null,null,null,null,null,1,{"$f":"IF(AZ19=1,G19,0)","v":0},{"$f":"IF(AZ19=2,G19,0)","v":0},{"$f":"IF(AZ19=3,G19,0)","v":0},{"$f":"IF(AZ19=4,G19,0)","v":0},{"$f":"IF(AZ19=5,G19,0)","v":0},null,null,null,null,null,null,null,null,null,null,null,null,null,null,null,null,null,null,null,null,null,1,1]
[null,null,"Položka obsahuje hloubení rýh traktorbagrem, naložení výkopku na dopravní prostředek pro svislé, nebo vodorovné přemístění, popř. přemístění výkopku do 3 m (po povrchu území), případné zajištění rypadel polštáři, udržování pracoviště a ochranu výkopiště proti stékání srážkové vody z okolního terénu i s jejím odvodněním, nebo odvedením, přesekání a odstranění kořenů ve výkopišti, odstranění napadávek, urovnání dna výkopu.",null,null,null,null,null,null,null,null,"Položka obsahuje hloubení rýh traktorbagrem, naložení výkopku na dopravní prostředek pro svislé, nebo vodorovné přemístění, popř. přemístění výkopku do 3 m (po povrchu území), případné zajištění rypadel polštáři, udržování pracoviště a ochranu výkopiště proti stékání srážkové vody z okolního terénu i s jejím odvodněním, nebo odvedením, přesekání a odstranění kořenů ve výkopišti, odstranění napadávek, urovnání dna výkopu.",null,null,3]
[null,null,"Součástí položky je i zřízení a odstranění pažení rýhy v souladu s předpisy BOZP.",null,null,null,null,null,null,null,null,"Součástí položky je i zřízení a odstranění pažení rýhy v souladu s předpisy BOZP.",null,null,3]
[null,null,"Začátek provozního součtu",null,0,null,null,null,null,null,null,null,"Začátek provozního součtu"]
[null,null,"Stoka JK PVC DN300:2,50*1,00*(2,16-0,40)",null,4.4000000000000004,null,null,null,null,null,null,null,"Stoka JK PVC DN300:2,50*1,00*(2,16-0,40)"]
[null,null,"Stoka JK PVC DN400:60,90*1,10*((2,16+2,03)/2-0,40)",null,113.54810000000001,null,null,null,null,null,null,null,"Stoka JK PVC DN400:60,90*1,10*((2,16+2,03)/2-0,40)"]
[null,null,"Prohloubení pro RŠ:1,60*1,60*0,20*2",null,1.024,null,null,null,null,null,null,null,"Prohloubení pro RŠ:1,60*1,60*0,20*2"]
[null,null,"Rozšíření pro RŠ:1,60*(1,60-1,10)*(2,16+2,10-0,40*2)",null,2.7679999999999998,null,null,null,null,null,null,null,"Rozšíření pro RŠ:1,60*(1,60-1,10)*(2,16+2,10-0,40*2)"]
[null,null,"Konec provozního součtu",null,121.74010000000001,null,null,null,null,null,null,null,"Konec provozního součtu"]
[null,null,"V hornině tř. 3 - 50%:121,7401*0,5",null,60.87,null,null,null,null,null,null,null,"V hornině tř. 3 - 50%:121,7401*0,5"]
[3,"132201219R00","Přípl.za lepivost,hloubení rýh 200cm,hor.3,STROJNĚ ","m3",30.434999999999999,null,{"$f":"E29*F29","v":0},0,{"$f":"E29*H29","v":0},0,{"$f":"E29*J29","v":0},null,null,null,2,null,null,null,null,null,null,null,null,null,null,null,1,1,1,null,null,null,null,null,null,null,null,null,null,null,null,null,null,null,null,null,null,null,null,null,null,1,{"$f":"IF(AZ29=1,G29,0)","v":0},{"$f":"IF(AZ29=2,G29,0)","v":0},{"$f":"IF(AZ29=3,G29,0)","v":0},{"$f":"IF(AZ29=4,G29,0)","v":0},{"$f":"IF(AZ29=5,G29,0)","v":0},null,null,null,null,null,null,null,null,null,null,null,null,null,null,null,null,null,null,null,null,null,1,1]
[null,null,"Začátek provozního součtu",null,0,null,null,null,null,null,null,null,"Začátek provozního součtu"]
[null,null,"Stoka JK PVC DN300:2,50*1,00*(2,16-0,40)",null,4.4000000000000004,null,null,null,null,null,null,null,"Stoka JK PVC DN300:2,50*1,00*(2,16-0,40)"]
[null,null,"Stoka JK PVC DN400:60,90*1,10*((2,16+2,03)/2-0,40)",null,113.54810000000001,null,null,null,null,null,null,null,"Stoka JK PVC DN400:60,90*1,10*((2,16+2,03)/2-0,40)"]
[null,null,"Prohloubení pro RŠ:1,60*1,60*0,20*2",null,1.024,null,null,null,null,null,null,null,"Prohloubení pro RŠ:1,60*1,60*0,20*2"]
[null,null,"Rozšíření pro RŠ:1,60*(1,60-1,10)*(2,16+2,10-0,40*2)",null,2.7679999999999998,null,null,null,null,null,null,null,"Rozšíření pro RŠ:1,60*(1,60-1,10)*(2,16+2,10-0,40*2)"]
[null,null,"Konec provozního součtu",null,121.74010000000001,null,null,null,null,null,null,null,"Konec provozního součtu"]
[null,null,"V hornině tř. 3 - 50%:121,7401*0,5*0,5",null,30.434999999999999,null,null,null,null,null,null,null,"V hornině tř. 3 - 50%:121,7401*0,5*0,5"]
[4,"132301211RRX","Hloubení rýh š.do 200 cm hor.4 do 100 m3, STROJNĚ ","m3",60.87,null,{"$f":"E37*F37","v":0},0,{"$f":"E37*H37","v":0},0,{"$f":"E37*J37","v":0},null,null,null,2,null,null,null,null,null,null,null,null,null,null,null,1,1,1,null,null,null,null,null,null,null,null,null,null,null,null,null,null,null,null,null,null,null,null,null,null,1,{"$f":"IF(AZ37=1,G37,0)","v":0},{"$f":"IF(AZ37=2,G37,0)","v":0},{"$f":"IF(AZ37=3,G37,0)","v":0},{"$f":"IF(AZ37=4,G37,0)","v":0},{"$f":"IF(AZ37=5,G37,0)","v":0},null,null,null,null,null,null,null,null,null,null,null,null,null,null,null,null,null,null,null,null,null,1,1]
[null,null,"Položka obsahuje hloubení rýh traktorbagrem, naložení výkopku na dopravní prostředek pro svislé, nebo vodorovné přemístění, popř. přemístění výkopku do 3 m (po povrchu území), případné zajištění rypadel polštáři, udržování pracoviště a ochranu výkopiště proti stékání srážkové vody z okolního terénu i s jejím odvodněním, nebo odvedením, přesekání a odstranění kořenů ve výkopišti, odstranění napadávek, urovnání dna výkopu.",null,null,null,null,null,null,null,null,"Položka obsahuje hloubení rýh traktorbagrem, naložení výkopku na dopravní prostředek pro svislé, nebo vodorovné přemístění, popř. přemístění výkopku do 3 m (po povrchu území), případné zajištění rypadel polštáři, udržování pracoviště a ochranu výkopiště proti stékání srážkové vody z okolního terénu i s jejím odvodněním, nebo odvedením, přesekání a odstranění kořenů ve výkopišti, odstranění napadávek, urovnání dna výkopu.",null,null,3]
[null,null,"Součástí položky je i zřízení a odstranění pažení rýhy v souladu s předpisy BOZP.",null,null,null,null,null,null,null,null,"Součástí položky je i zřízení a odstranění pažení rýhy v souladu s předpisy BOZP.",null,null,3]
[null,null,"Začátek provozního součtu",null,0,null,null,null,null,null,null,null,"Začátek provozního součtu"]
[null,null,"Stoka JK PVC DN300:2,50*1,00*(2,16-0,40)",null,4.4000000000000004,null,null,null,null,null,null,null,"Stoka JK PVC DN300:2,50*1,00*(2,16-0,40)"]
[null,null,"Stoka JK PVC DN400:60,90*1,10*((2,16+2,03)/2-0,40)",null,113.54810000000001,null,null,null,null,null,null,null,"Stoka JK PVC DN400:60,90*1,10*((2,16+2,03)/2-0,40)"]
[null,null,"Prohloubení pro RŠ:1,60*1,60*0,20*2",null,1.024,null,null,null,null,null,null,null,"Prohloubení pro RŠ:1,60*1,60*0,20*2"]
[null,null,"Rozšíření pro RŠ:1,60*(1,60-1,10)*(2,16+2,10-0,40*2)",null,2.7679999999999998,null,null,null,null,null,null,null,"Rozšíření pro RŠ:1,60*(1,60-1,10)*(2,16+2,10-0,40*2)"]
[null,null,"Konec provozního součtu",null,121.74010000000001,null,null,null,null,null,null,null,"Konec provozního součtu"]
[null,null,"V hornině tř. 4 - 50%:121,7401*0,5",null,60.87,null,null,null,null,null,null,null,"V hornině tř. 4 - 50%:121,7401*0,5"]
[5,"132301219R00","Přípl.za lepivost,hloubení rýh 200cm,hor.4,STROJNĚ ","m3",30.434999999999999,null,{"$f":"E47*F47","v":0},0,{"$f":"E47*H47","v":0},0,{"$f":"E47*J47","v":0},null,null,null,2,null,null,null,null,null,null,null,null,null,null,null,1,1,1,null,null,null,null,null,null,null,null,null,null,null,null,null,null,null,null,null,null,null,null,null,null,1,{"$f":"IF(AZ47=1,G47,0)","v":0},{"$f":"IF(AZ47=2,G47,0)","v":0},{"$f":"IF(AZ47=3,G47,0)","v":0},{"$f":"IF(AZ47=4,G47,0)","v":0},{"$f":"IF(AZ47=5,G47,0)","v":0},null,null,null,null,null,null,null,null,null,null,null,null,null,null,null,null,null,null,null,null,null,1,1]
[null,null,"Začátek provozního součtu",null,0,null,null,null,null,null,null,null,"Začátek provozního součtu"]
[null,null,"Stoka JK PVC DN300:2,50*1,00*(2,16-0,40)",null,4.4000000000000004,null,null,null,null,null,null,null,"Stoka JK PVC DN300:2,50*1,00*(2,16-0,40)"]
[null,null,"Stoka JK PVC DN400:60,90*1,10*((2,16+2,03)/2-0,40)",null,113.54810000000001,null,null,null,null,null,null,null,"Stoka JK PVC DN400:60,90*1,10*((2,16+2,03)/2-0,40)"]
[null,null,"Prohloubení pro RŠ:1,60*1,60*0,20*2",null,1.024,null,null,null,null,null,null,null,"Prohloubení pro RŠ:1,60*1,60*0,20*2"]
[null,null,"Rozšíření pro RŠ:1,60*(1,60-1,10)*(2,16+2,10-0,40*2)",null,2.7679999999999998,null,null,null,null,null,null,null,"Rozšíření pro RŠ:1,60*(1,60-1,10)*(2,16+2,10-0,40*2)"]
[null,null,"Konec provozního součtu",null,121.74010000000001,null,null,null,null,null,null,null,"Konec provozního součtu"]
[null,null,"V hornině tř. 4 - 50%:121,7401*0,5*0,5",null,30.434999999999999,null,null,null,null,null,null,null,"V hornině tř. 4 - 50%:121,7401*0,5*0,5"]
[6,"162701105RSZ","Vodorovné přemístění výkopku z hor.1-7 na skládku zhotovitele","m3",93.944100000000006,null,{"$f":"E55*F55","v":0},0,{"$f":"E55*H55","v":0},0,{"$f":"E55*J55","v":0},null,null,null,2,null,null,null,null,null,null,null,null,null,null,null,1,1,1,null,null,null,null,null,null,null,null,null,null,null,null,null,null,null,null,null,null,null,null,null,null,1,{"$f":"IF(AZ55=1,G55,0)","v":0},{"$f":"IF(AZ55=2,G55,0)","v":0},{"$f":"IF(AZ55=3,G55,0)","v":0},{"$f":"IF(AZ55=4,G55,0)","v":0},{"$f":"IF(AZ55=5,G55,0)","v":0},null,null,null,null,null,null,null,null,null,null,null,null,null,null,null,null,null,null,null,null,null,1,1]
[null,null,"Výkopy:",null,0,null,null,null,null,null,null,null,"Výkopy:"]
[null,null,"Začátek provozního součtu",null,0,null,null,null,null,null,null,null,"Začátek provozního součtu"]
[null,null,"Stoka JK PVC DN300:2,50*1,00*(2,16-0,40)",null,4.4000000000000004,null,null,null,null,null,null,null,"Stoka JK PVC DN300:2,50*1,00*(2,16-0,40)"]
[null,null,"Stoka JK PVC DN400:60,90*1,10*((2,16+2,03)/2-0,40)",null,113.54810000000001,null,null,null,null,null,null,null,"Stoka JK PVC DN400:60,90*1,10*((2,16+2,03)/2-0,40)"]
[null,null,"Prohloubení pro RŠ:1,60*1,60*0,20*2",null,1.024,null,null,null,null,null,null,null,"Prohloubení pro RŠ:1,60*1,60*0,20*2"]
[null,null,"Rozšíření pro RŠ:1,60*(1,60-1,10)*(2,16+2,10-0,40*2)",null,2.7679999999999998,null,null,null,null,null,null,null,"Rozšíření pro RŠ:1,60*(1,60-1,10)*(2,16+2,10-0,40*2)"]
[null,null,"Konec provozního součtu",null,121.74010000000001,null,null,null,null,null,null,null,"Konec provozního součtu"]
[null,null,"V hornině tř. 3 - 4 :121,7401",null,121.7401,null,null,null,null,null,null,null,"V hornině tř. 3 - 4 :121,7401"]
[null,null,"Odpočet zásypů zeminou:-27,7960",null,-27.795999999999999,null,null,null,null,null,null,null,"Odpočet zásypů zeminou:-27,7960"]
[7,"174100050RAA","Zásyp jam,rýh a šachet štěrkodrtí fr. 0-63 mm včetně dovozu štěrkodrtě","m3",40.406500000000001,null,{"$f":"E65*F65","v":0},1.873,{"$f":"E65*H65","v":75.681374500000004},0,{"$f":"E65*J65","v":0},null,null,null,2,null,null,null,null,null,null,null,null,null,null,null,1,1,1,null,null,null,null,null,null,null,null,null,null,null,null,null,null,null,null,null,null,null,null,null,null,1,{"$f":"IF(AZ65=1,G65,0)","v":0},{"$f":"IF(AZ65=2,G65,0)","v":0},{"$f":"IF(AZ65=3,G65,0)","v":0},{"$f":"IF(AZ65=4,G65,0)","v":0},{"$f":"IF(AZ65=5,G65,0)","v":0},null,null,null,null,null,null,null,null,null,null,null,null,null,null,null,null,null,null,null,null,null,1,1]
[null,null,"Stoka JK PVC DN300:2,50*1,00*(2,16-0,40-0,10-0,30-0,30-0,30)",null,1.9,null,null,null,null,null,null,null,"Stoka JK PVC DN300:2,50*1,00*(2,16-0,40-0,10-0,30-0,30-0,30)"]
[null,null,"Stoka JK PVC DN400:60,90*1,10*((2,16+2,03)/2-0,40-0,10-0,40-0,30-0,30)",null,39.859000000000002,null,null,null,null,null,null,null,"Stoka JK PVC DN400:60,90*1,10*((2,16+2,03)/2-0,40-0,10-0,40-0,30-0,30)"]
[null,null,"Prohloubení pro RŠ:1,60*1,60*0,20*2",null,1.024,null,null,null,null,null,null,null,"Prohloubení pro RŠ:1,60*1,60*0,20*2"]
[null,null,"Rozšíření pro RŠ:1,60*(1,60-1,10)*(2,16+2,10-0,40*2)",null,2.7679999999999998,null,null,null,null,null,null,null,"Rozšíření pro RŠ:1,60*(1,60-1,10)*(2,16+2,10-0,40*2)"]
[null,null,"Odpočet objemu RŠ:-5,1445",null,-5.1444999999999999,null,null,null,null,null,null,null,"Odpočet objemu RŠ:-5,1445"]
[8,"174101101R00","Zásyp jam, rýh, šachet se zhutněním ","m3",27.795999999999999,null,{"$f":"E71*F71","v":0},0,{"$f":"E71*H71","v":0},0,{"$f":"E71*J71","v":0},null,null,null,2,null,null,null,null,null,null,null,null,null,null,null,1,1,1,null,null,null,null,null,null,null,null,null,null,null,null,null,null,null,null,null,null,null,null,null,null,1,{"$f":"IF(AZ71=1,G71,0)","v":0},{"$f":"IF(AZ71=2,G71,0)","v":0},{"$f":"IF(AZ71=3,G71,0)","v":0},{"$f":"IF(AZ71=4,G71,0)","v":0},{"$f":"IF(AZ71=5,G71,0)","v":0},null,null,null,null,null,null,null,null,null,null,null,null,null,null,null,null,null,null,null,null,null,1,1]
[null,null,"včetně strojního přemístění materiálu pro zásyp ze vzdálenosti do 10 m od okraje zásypu",null,null,null,null,null,null,null,null,"včetně strojního přemístění materiálu pro zásyp ze vzdálenosti do 10 m od okraje zásypu",null,null,3]
[null,null,"Stoka JK PVC DN300:2,50*1,00*0,40",null,1,null,null,null,null,null,null,null,"Stoka JK PVC DN300:2,50*1,00*0,40"]
[null,null,"Stoka JK PVC DN400:60,90*1,10*0,40",null,26.795999999999999,null,null,null,null,null,null,null,"Stoka JK PVC DN400:60,90*1,10*0,40"]
[9,"175100020RAA","Obsyp potrubí štěrkopískem včetně dovozu štěrkopísku","m3",40.563400000000001,null,{"$f":"E75*F75","v":0},1.873,{"$f":"E75*H75","v":75.975248199999996},0,{"$f":"E75*J75","v":0},null,null,null,2,null,null,null,null,null,null,null,null,null,null,null,1,1,1,null,null,null,null,null,null,null,null,null,null,null,null,null,null,null,null,null,null,null,null,null,null,1,{"$f":"IF(AZ75=1,G75,0)","v":0},{"$f":"IF(AZ75=2,G75,0)","v":0},{"$f":"IF(AZ75=3,G75,0)","v":0},{"$f":"IF(AZ75=4,G75,0)","v":0},{"$f":"IF(AZ75=5,G75,0)","v":0},null,null,null,null,null,null,null,null,null,null,null,null,null,null,null,null,null,null,null,null,null,1,1]
[null,null,"Stoka JK PVC DN300:2,50*(1,00*(0,30+0,30)-0,15^2*Pi)",null,1.3232999999999999,null,null,null,null,null,null,null,"Stoka JK PVC DN300:2,50*(1,00*(0,30+0,30)-0,15^2*Pi)"]
[null,null,"Stoka JK PVC DN400:60,90*(1,10*(0,40+0,30)-0,20^2*Pi)",null,39.240099999999998,null,null,null,null,null,null,null,"Stoka JK PVC DN400:60,90*(1,10*(0,40+0,30)-0,20^2*Pi)"]
[10,"199000002R00","Poplatek za skládku horniny 1- 7 ","m3",93.944100000000006,null,{"$f":"E78*F78","v":0},0,{"$f":"E78*H78","v":0},0,{"$f":"E78*J78","v":0},null,null,null,2,null,null,null,null,null,null,null,null,null,null,null,1,1,1,null,null,null,null,null,null,null,null,null,null,null,null,null,null,null,null,null,null,null,null,null,null,1,{"$f":"IF(AZ78=1,G78,0)","v":0},{"$f":"IF(AZ78=2,G78,0)","v":0},{"$f":"IF(AZ78=3,G78,0)","v":0},{"$f":"IF(AZ78=4,G78,0)","v":0},{"$f":"IF(AZ78=5,G78,0)","v":0},null,null,null,null,null,null,null,null,null,null,null,null,null,null,null,null,null,null,null,null,null,1,1]
[null,null,"Výkopy:",null,0,null,null,null,null,null,null,null,"Výkopy:"]
[null,null,"Začátek provozního součtu",null,0,null,null,null,null,null,null,null,"Začátek provozního součtu"]
[null,null,"Stoka JK PVC DN300:2,50*1,00*(2,16-0,40)",null,4.4000000000000004,null,null,null,null,null,null,null,"Stoka JK PVC DN300:2,50*1,00*(2,16-0,40)"]
[null,null,"Stoka JK PVC DN400:60,90*1,10*((2,16+2,03)/2-0,40)",null,113.54810000000001,null,null,null,null,null,null,null,"Stoka JK PVC DN400:60,90*1,10*((2,16+2,03)/2-0,40)"]
[null,null,"Prohloubení pro RŠ:1,60*1,60*0,20*2",null,1.024,null,null,null,null,null,null,null,"Prohloubení pro RŠ:1,60*1,60*0,20*2"]
[null,null,"Rozšíření pro RŠ:1,60*(1,60-1,10)*(2,16+2,10-0,40*2)",null,2.7679999999999998,null,null,null,null,null,null,null,"Rozšíření pro RŠ:1,60*(1,60-1,10)*(2,16+2,10-0,40*2)"]
[null,null,"Konec provozního součtu",null,121.74010000000001,null,null,null,null,null,null,null,"Konec provozního součtu"]
[null,null,"V hornině tř. 3 - 4 :121,7401",null,121.7401,null,null,null,null,null,null,null,"V hornině tř. 3 - 4 :121,7401"]
[null,null,"Odpočet zásypů zeminou:-27,7960",null,-27.795999999999999,null,null,null,null,null,null,null,"Odpočet zásypů zeminou:-27,7960"]
[null,"Celkem za","1 Zemní práce",null,null,null,{"$f":"SUM(G7:G87)","v":0},null,{"$f":"SUM(I7:I87)","v":151.65662270000001},null,{"$f":"SUM(K7:K87)","v":0},null,null,null,4,null,null,null,null,null,null,null,null,null,null,null,null,null,null,null,null,null,null,null,null,null,null,null,null,null,null,null,null,null,null,null,null,null,null,null,null,null,{"$f":"SUM(BA7:BA87)","v":0},{"$f":"SUM(BB7:BB87)","v":0},{"$f":"SUM(BC7:BC87)","v":0},{"$f":"SUM(BD7:BD87)","v":0},{"$f":"SUM(BE7:BE87)","v":0}]
["Díl:","45","Podkladní a vedlejší konstrukce",null,null,null,null,null,null,null,null,null,null,null,1]
[11,"451572111R00","Lože pod potrubí z kameniva těženého 0 - 4 mm ","m3",6.9489999999999998,null,{"$f":"E90*F90","v":0},0.43051,{"$f":"E90*H90","v":2.9916139899999998},0,{"$f":"E90*J90","v":0},null,null,null,2,null,null,null,null,null,null,null,null,null,null,null,1,1,1,null,null,null,null,null,null,null,null,null,null,null,null,null,null,null,null,null,null,null,null,null,null,1,{"$f":"IF(AZ90=1,G90,0)","v":0},{"$f":"IF(AZ90=2,G90,0)","v":0},{"$f":"IF(AZ90=3,G90,0)","v":0},{"$f":"IF(AZ90=4,G90,0)","v":0},{"$f":"IF(AZ90=5,G90,0)","v":0},null,null,null,null,null,null,null,null,null,null,null,null,null,null,null,null,null,null,null,null,null,1,1]
[null,null,"Stoka JK PVC DN300:2,50*1,00*0,10",null,0.25,null,null,null,null,null,null,null,"Stoka JK PVC DN300:2,50*1,00*0,10"]
[null,null,"Stoka JK PVC DN400:60,90*1,10*0,10",null,6.6989999999999998,null,null,null,null,null,null,null,"Stoka JK PVC DN400:60,90*1,10*0,10"]
[12,"452112111R00","Osazení beton. prstenců pod poklopy,výšky do100 mm ","kus",4,null,{"$f":"E93*F93","v":0},6.6E-3,{"$f":"E93*H93","v":2.64E-2},0,{"$f":"E93*J93","v":0},null,null,null,2,null,null,null,null,null,null,null,null,null,null,null,1,1,1,null,null,null,null,null,null,null,null,null,null,null,null,null,null,null,null,null,null,null,null,null,null,1,{"$f":"IF(AZ93=1,G93,0)","v":0},{"$f":"IF(AZ93=2,G93,0)","v":0},{"$f":"IF(AZ93=3,G93,0)","v":0},{"$f":"IF(AZ93=4,G93,0)","v":0},{"$f":"IF(AZ93=5,G93,0)","v":0},null,null,null,null,null,null,null,null,null,null,null,null,null,null,null,null,null,null,null,null,null,1,1]
[null,null,"Volba položky se řídí výškou prstence nebo rámu. V položkách nejsou zakalkulovány náklady na dodávku betonových výrobků;",null,null,null,null,null,null,null,null,"Volba položky se řídí výškou prstence nebo rámu. V položkách nejsou zakalkulovány náklady na dodávku betonových výrobků;",null,null,3]
[null,null,"Stoka JK PVC DN400:",null,0,null,null,null,null,null,null,null,"Stoka JK PVC DN400:"]
[null,null,"VP H10:4",null,4,null,null,null,null,null,null,null,"VP H10:4"]
[13,"59224348.B","Prstenec vyrovn šachetní TBW-Q 100/625/120","kus",4.04,null,{"$f":"E97*F97","v":0},6.8000000000000005E-2,{"$f":"E97*H97","v":0.27472000000000002},null,{"$f":"E97*J97","v":0},null,null,null,2,null,null,null,null,null,null,null,null,null,null,null,3,1,"59224348.B",null,null,null,null,null,null,null,null,null,null,null,null,null,null,null,null,null,null,null,null,null,null,1,{"$f":"IF(AZ97=1,G97,0)","v":0},{"$f":"IF(AZ97=2,G97,0)","v":0},{"$f":"IF(AZ97=3,G97,0)","v":0},{"$f":"IF(AZ97=4,G97,0)","v":0},{"$f":"IF(AZ97=5,G97,0)","v":0},null,null,null,null,null,null,null,null,null,null,null,null,null,null,null,null,null,null,null,null,null,3,1]
[null,null,"Stoka JK PVC DN400:",null,0,null,null,null,null,null,null,null,"Stoka JK PVC DN400:"]
[null,null,"VP H10:4*1,01",null,4.04,null,null,null,null,null,null,null,"VP H10:4*1,01"]
[null,"Celkem za","45 Podkladní a vedlejší konstrukce",null,null,null,{"$f":"SUM(G89:G99)","v":0},null,{"$f":"SUM(I89:I99)","v":3.2927339899999999},null,{"$f":"SUM(K89:K99)","v":0},null,null,null,4,null,null,null,null,null,null,null,null,null,null,null,null,null,null,null,null,null,null,null,null,null,null,null,null,null,null,null,null,null,null,null,null,null,null,null,null,null,{"$f":"SUM(BA89:BA99)","v":0},{"$f":"SUM(BB89:BB99)","v":0},{"$f":"SUM(BC89:BC99)","v":0},{"$f":"SUM(BD89:BD99)","v":0},{"$f":"SUM(BE89:BE99)","v":0}]
["Díl:","8","Trubní vedení",null,null,null,null,null,null,null,null,null,null,null,1]
[14,"871371111RRX","Montáž trubek z PVC/PP ve výkopu DN 250-300 mm ","m",2.5,null,{"$f":"E102*F102","v":0},1.6000000000000001E-4,{"$f":"E102*H102","v":4.0000000000000002E-4},0,{"$f":"E102*J102","v":0},null,null,null,2,null,null,null,null,null,null,null,null,null,null,null,1,1,1,null,null,null,null,null,null,null,null,null,null,null,null,null,null,null,null,null,null,null,null,null,null,1,{"$f":"IF(AZ102=1,G102,0)","v":0},{"$f":"IF(AZ102=2,G102,0)","v":0},{"$f":"IF(AZ102=3,G102,0)","v":0},{"$f":"IF(AZ102=4,G102,0)","v":0},{"$f":"IF(AZ102=5,G102,0)","v":0},null,null,null,null,null,null,null,null,null,null,null,null,null,null,null,null,null,null,null,null,null,1,1]
[null,null,"Položka je určena pro montáž potrubí PVC těsněných gumovým kroužkem. Volba položky se řídí vnějším průměrem trubky. V položce jsou zakalkulovány i náklady na montáž tvarovek. .",null,null,null,null,null,null,null,null,"Položka je určena pro montáž potrubí PVC těsněných gumovým kroužkem. Volba položky se řídí vnějším průměrem trubky. V položce jsou zakalkulovány i náklady na montáž tvarovek. .",null,null,3]
[null,null,"Stoka JK PVC DN300:2,50",null,2.5,null,null,null,null,null,null,null,"Stoka JK PVC DN300:2,50"]
[15,"871393121RRX","Montáž trubek z PVC/PP ve výkopu DN 400 mm ","m",60.9,null,{"$f":"E105*F105","v":0},1.0000000000000001E-5,{"$f":"E105*H105","v":6.0900000000000006E-4},0,{"$f":"E105*J105","v":0},null,null,null,2,null,null,null,null,null,null,null,null,null,null,null,1,1,1,null,null,null,null,null,null,null,null,null,null,null,null,null,null,null,null,null,null,null,null,null,null,1,{"$f":"IF(AZ105=1,G105,0)","v":0},{"$f":"IF(AZ105=2,G105,0)","v":0},{"$f":"IF(AZ105=3,G105,0)","v":0},{"$f":"IF(AZ105=4,G105,0)","v":0},{"$f":"IF(AZ105=5,G105,0)","v":0},null,null,null,null,null,null,null,null,null,null,null,null,null,null,null,null,null,null,null,null,null,1,1]
[null,null,"Položka je určena pro montáž potrubí PVC těsněných gumovým kroužkem. Volba položky se řídí vnějším průměrem trubky. V položce jsou zakalkulovány i náklady na montáž tvarovek. .",null,null,null,null,null,null,null,null,"Položka je určena pro montáž potrubí PVC těsněných gumovým kroužkem. Volba položky se řídí vnějším průměrem trubky. V položce jsou zakalkulovány i náklady na montáž tvarovek. .",null,null,3]
[null,null,"Stoka JK PVC DN400:60,90",null,60.9,null,null,null,null,null,null,null,"Stoka JK PVC DN400:60,90"]
[16,"892591111R00","Zkouška těsnosti kanalizace DN do 400, vodou ","m",63.4,null,{"$f":"E108*F108","v":0},0,{"$f":"E108*H108","v":0},0,{"$f":"E108*J108","v":0},null,null,null,2,null,null,null,null,null,null,null,null,null,null,null,1,1,1,null,null,null,null,null,null,null,null,null,null,null,null,null,null,null,null,null,null,null,null,null,null,1,{"$f":"IF(AZ108=1,G108,0)","v":0},{"$f":"IF(AZ108=2,G108,0)","v":0},{"$f":"IF(AZ108=3,G108,0)","v":0},{"$f":"IF(AZ108=4,G108,0)","v":0},{"$f":"IF(AZ108=5,G108,0)","v":0},null,null,null,null,null,null,null,null,null,null,null,null,null,null,null,null,null,null,null,null,null,1,1]
[null,null,"V položce jsou zakalkulovány náklady na napuštění vodou a dodání vody pro zkoušku těsnosti včetně zavakování potrubí dle zvolené technologie zhotovitele.",null,null,null,null,null,null,null,null,"V položce jsou zakalkulovány náklady na napuštění vodou a dodání vody pro zkoušku těsnosti včetně zavakování potrubí dle zvolené technologie zhotovitele.",null,null,3]
[null,null,"Stoka JK PVC DN300:2,50",null,2.5,null,null,null,null,null,null,null,"Stoka JK PVC DN300:2,50"]
[null,null,"Stoka JK PVC DN400:60,90",null,60.9,null,null,null,null,null,null,null,"Stoka JK PVC DN400:60,90"]
[17,"892601153R00","Čištění kanalizační stoky do DN 500, do 100 m ","m",63.4,null,{"$f":"E112*F112","v":0},0,{"$f":"E112*H112","v":0},0,{"$f":"E112*J112","v":0},null,null,null,2,null,null,null,null,null,null,null,null,null,null,null,1,1,1,null,null,null,null,null,null,null,null,null,null,null,null,null,null,null,null,null,null,null,null,null,null,1,{"$f":"IF(AZ112=1,G112,0)","v":0},{"$f":"IF(AZ112=2,G112,0)","v":0},{"$f":"IF(AZ112=3,G112,0)","v":0},{"$f":"IF(AZ112=4,G112,0)","v":0},{"$f":"IF(AZ112=5,G112,0)","v":0},null,null,null,null,null,null,null,null,null,null,null,null,null,null,null,null,null,null,null,null,null,1,1]
[null,null,"V položce je zakalkulováno:",null,null,null,null,null,null,null,null,"V položce je zakalkulováno:",null,null,3]
[null,null,"a) otevření a uzavření revizních šachet a čisticích kusů",null,null,null,null,null,null,null,null,"a) otevření a uzavření revizních šachet a čisticích kusů",null,null,3]
[null,null,"b) natažení vysokotlakých hadic k místu odkud se bude kanalizace čistit",null,null,null,null,null,null,null,null,"b) natažení vysokotlakých hadic k místu odkud se bude kanalizace čistit",null,null,3]
[null,null,"c) vyčištění potrubí tlakovou vodou nebo motorovým pérem.",null,null,null,null,null,null,null,null,"c) vyčištění potrubí tlakovou vodou nebo motorovým pérem.",null,null,3]
[null,null,"Stoka JK PVC DN300:2,50",null,2.5,null,null,null,null,null,null,null,"Stoka JK PVC DN300:2,50"]
[null,null,"Stoka JK PVC DN400:60,90",null,60.9,null,null,null,null,null,null,null,"Stoka JK PVC DN400:60,90"]
[18,"892601154R00","Čištění kanalizační stoky do DN 500, nad 100 m ","m",167,null,{"$f":"E119*F119","v":0},0,{"$f":"E119*H119","v":0},0,{"$f":"E119*J119","v":0},null,null,null,2,null,null,null,null,null,null,null,null,null,null,null,1,1,1,null,null,null,null,null,null,null,null,null,null,null,null,null,null,null,null,null,null,null,null,null,null,1,{"$f":"IF(AZ119=1,G119,0)","v":0},{"$f":"IF(AZ119=2,G119,0)","v":0},{"$f":"IF(AZ119=3,G119,0)","v":0},{"$f":"IF(AZ119=4,G119,0)","v":0},{"$f":"IF(AZ119=5,G119,0)","v":0},null,null,null,null,null,null,null,null,null,null,null,null,null,null,null,null,null,null,null,null,null,1,1]
[null,null,"V položce je zakalkulováno:",null,null,null,null,null,null,null,null,"V položce je zakalkulováno:",null,null,3]
[null,null,"a) otevření a uzavření revizních šachet a čisticích kusů",null,null,null,null,null,null,null,null,"a) otevření a uzavření revizních šachet a čisticích kusů",null,null,3]
[null,null,"b) natažení vysokotlakých hadic k místu odkud se bude kanalizace čistit",null,null,null,null,null,null,null,null,"b) natažení vysokotlakých hadic k místu odkud se bude kanalizace čistit",null,null,3]
[null,null,"c) vyčištění potrubí tlakovou vodou nebo motorovým pérem.",null,null,null,null,null,null,null,null,"c) vyčištění potrubí tlakovou vodou nebo motorovým pérem.",null,null,3]
[null,null,"Stávající stoka PP DN400:167,00",null,167,null,null,null,null,null,null,null,"Stávající stoka PP DN400:167,00"]
[19,"892855113R00","Kontrola kanalizace TV kamerou do 100 m ","m",230.4,null,{"$f":"E125*F125","v":0},0,{"$f":"E125*H125","v":0},0,{"$f":"E125*J125","v":0},null,null,null,2,null,null,null,null,null,null,null,null,null,null,null,1,0,0,null,null,null,null,null,null,null,null,null,null,null,null,null,null,null,null,null,null,null,null,null,null,1,{"$f":"IF(AZ125=1,G125,0)","v":0},{"$f":"IF(AZ125=2,G125,0)","v":0},{"$f":"IF(AZ125=3,G125,0)","v":0},{"$f":"IF(AZ125=4,G125,0)","v":0},{"$f":"IF(AZ125=5,G125,0)","v":0},null,null,null,null,null,null,null,null,null,null,null,null,null,null,null,null,null,null,null,null,null,1,0]
[null,null,"Provedení kaberové prohlídky včetně dodání elektronického záznamu na CD zadavateli a tištěné dokumentace průběhu kamerové prohlídky",null,null,null,null,null,null,null,null,"Provedení kaberové prohlídky včetně dodání elektronického záznamu na CD zadavateli a tištěné dokumentace průběhu kamerové prohlídky",null,null,3]
[null,null,"Stoka JK PVC DN300:2,50",null,2.5,null,null,null,null,null,null,null,"Stoka JK PVC DN300:2,50"]
[null,null,"Stoka JK PVC DN400:60,90",null,60.9,null,null,null,null,null,null,null,"Stoka JK PVC DN400:60,90"]
[null,null,"Stávající stoka PP DN400:167,00",null,167,null,null,null,null,null,null,null,"Stávající stoka PP DN400:167,00"]
[20,"892916111R00","Utěsnění přípojek do DN 200 při zkoušce kanal. ","sada",12,null,{"$f":"E130*F130","v":0},2.0000000000000002E-5,{"$f":"E130*H130","v":2.4000000000000003E-4},0,{"$f":"E130*J130","v":0},null,null,null,2,null,null,null,null,null,null,null,null,null,null,null,1,1,1,null,null,null,null,null,null,null,null,null,null,null,null,null,null,null,null,null,null,null,null,null,null,1,{"$f":"IF(AZ130=1,G130,0)","v":0},{"$f":"IF(AZ130=2,G130,0)","v":0},{"$f":"IF(AZ130=3,G130,0)","v":0},{"$f":"IF(AZ130=4,G130,0)","v":0},{"$f":"IF(AZ130=5,G130,0)","v":0},null,null,null,null,null,null,null,null,null,null,null,null,null,null,null,null,null,null,null,null,null,1,1]
[null,null,"Položka je určena pro utěsnění přípojek z jakéholiv druhu potrubí při zkoušce těsnosti vzduchem nebo vodou. V položce jsou zakalkulovány náklady na osazení a odstranění těsnicích uzávěrů, naplnění vzduchem a po provedení zkoušky vypuštění vzduchu.",null,null,null,null,null,null,null,null,"Položka je určena pro utěsnění přípojek z jakéholiv druhu potrubí při zkoušce těsnosti vzduchem nebo vodou. V položce jsou zakalkulovány náklady na osazení a odstranění těsnicích uzávěrů, naplnění vzduchem a po provedení zkoušky vypuštění vzduchu.",null,null,3]
[null,null,"Stoka JK PVC DN400:",null,0,null,null,null,null,null,null,null,"Stoka JK PVC DN400:"]
[null,null,"PKS na nové stoce DN400:",null,0,null,null,null,null,null,null,null,"PKS na nové stoce DN400:"]
[null,null,"PKS14 PVC DN150:1",null,1,null,null,null,null,null,null,null,"PKS14 PVC DN150:1"]
[null,null,"PKS15 PVC DN150:1",null,1,null,null,null,null,null,null,null,"PKS15 PVC DN150:1"]
[null,null,"PKS na stávající stoce DN400:",null,0,null,null,null,null,null,null,null,"PKS na stávající stoce DN400:"]
[null,null,"PKS01 PVC DN150:1",null,1,null,null,null,null,null,null,null,"PKS01 PVC DN150:1"]
[null,null,"PKS02 PVC DN150:1",null,1,null,null,null,null,null,null,null,"PKS02 PVC DN150:1"]
[null,null,"PKS03 PVC DN150:1",null,1,null,null,null,null,null,null,null,"PKS03 PVC DN150:1"]
[null,null,"PKS04 PVC DN150:1",null,1,null,null,null,null,null,null,null,"PKS04 PVC DN150:1"]
[null,null,"PKS05 PVC DN150:1",null,1,null,null,null,null,null,null,null,"PKS05 PVC DN150:1"]
[null,null,"PKS06 PVC DN150:1",null,1,null,null,null,null,null,null,null,"PKS06 PVC DN150:1"]
[null,null,"PKS07 PVC DN150:1",null,1,null,null,null,null,null,null,null,"PKS07 PVC DN150:1"]
[null,null,"PKS08 PVC DN150:1",null,1,null,null,null,null,null,null,null,"PKS08 PVC DN150:1"]
[null,null,"PKS09 PVC DN150:1",null,1,null,null,null,null,null,null,null,"PKS09 PVC DN150:1"]
[null,null,"PKS13 PVC DN150:1",null,1,null,null,null,null,null,null,null,"PKS13 PVC DN150:1"]
[21,"894421111RT1","Osazení betonových dílců šachet skruže rovné, na kroužek, do 0,5 t","kus",2,null,{"$f":"E147*F147","v":0},0,{"$f":"E147*H147","v":0},0,{"$f":"E147*J147","v":0},null,null,null,2,null,null,null,null,null,null,null,null,null,null,null,1,1,1,null,null,null,null,null,null,null,null,null,null,null,null,null,null,null,null,null,null,null,null,null,null,1,{"$f":"IF(AZ147=1,G147,0)","v":0},{"$f":"IF(AZ147=2,G147,0)","v":0},{"$f":"IF(AZ147=3,G147,0)","v":0},{"$f":"IF(AZ147=4,G147,0)","v":0},{"$f":"IF(AZ147=5,G147,0)","v":0},null,null,null,null,null,null,null,null,null,null,null,null,null,null,null,null,null,null,null,null,null,1,1]
[null,null,"Položka je určena pro osazení betonových dílců šachet dle DIN 4034, skruže rovné na kroužek, hmotnost do 0,5 t.",null,null,null,null,null,null,null,null,"Položka je určena pro osazení betonových dílců šachet dle DIN 4034, skruže rovné na kroužek, hmotnost do 0,5 t.",null,null,3]
[null,null,"V položce nejsou zakalkulovány náklady na dodání betonových dílců; dílce se oceňují ve specifikaci.",null,null,null,null,null,null,null,null,"V položce nejsou zakalkulovány náklady na dodání betonových dílců; dílce se oceňují ve specifikaci.",null,null,3]
[null,null,"Stoka JK PVC DN400:",null,0,null,null,null,null,null,null,null,"Stoka JK PVC DN400:"]
[null,null,"Skruž H25:2",null,2,null,null,null,null,null,null,null,"Skruž H25:2"]
[22,"894422111RT1","Osazení betonových dílců šachet skruže přechodové, na kroužek","kus",2,null,{"$f":"E152*F152","v":0},0,{"$f":"E152*H152","v":0},0,{"$f":"E152*J152","v":0},null,null,null,2,null,null,null,null,null,null,null,null,null,null,null,1,1,1,null,null,null,null,null,null,null,null,null,null,null,null,null,null,null,null,null,null,null,null,null,null,1,{"$f":"IF(AZ152=1,G152,0)","v":0},{"$f":"IF(AZ152=2,G152,0)","v":0},{"$f":"IF(AZ152=3,G152,0)","v":0},{"$f":"IF(AZ152=4,G152,0)","v":0},{"$f":"IF(AZ152=5,G152,0)","v":0},null,null,null,null,null,null,null,null,null,null,null,null,null,null,null,null,null,null,null,null,null,1,1]
[null,null,"Položka je určena pro osazení betonových dílců šachet dle DIN 4034, skruže přechodové na kroužek.",null,null,null,null,null,null,null,null,"Položka je určena pro osazení betonových dílců šachet dle DIN 4034, skruže přechodové na kroužek.",null,null,3]
[null,null,"V položce nejsou zakalkulovány náklady na dodání betonových dílců",null,null,null,null,null,null,null,null,"V položce nejsou zakalkulovány náklady na dodání betonových dílců",null,null,3]
[null,null,"Stoka JK PVC DN400:",null,0,null,null,null,null,null,null,null,"Stoka JK PVC DN400:"]
[null,null,"Kónus H60:2",null,2,null,null,null,null,null,null,null,"Kónus H60:2"]
[23,"894423111RT1","Osazení betonových dílců šachet do 2,0 t šachtová dna, na kroužek, do 2,0 t","kus",2,null,{"$f":"E157*F157","v":0},0,{"$f":"E157*H157","v":0},0,{"$f":"E157*J157","v":0},null,null,null,2,null,null,null,null,null,null,null,null,null,null,null,1,1,1,null,null,null,null,null,null,null,null,null,null,null,null,null,null,null,null,null,null,null,null,null,null,1,{"$f":"IF(AZ157=1,G157,0)","v":0},{"$f":"IF(AZ157=2,G157,0)","v":0},{"$f":"IF(AZ157=3,G157,0)","v":0},{"$f":"IF(AZ157=4,G157,0)","v":0},{"$f":"IF(AZ157=5,G157,0)","v":0},null,null,null,null,null,null,null,null,null,null,null,null,null,null,null,null,null,null,null,null,null,1,1]
[null,null,"Položka je určena pro osazení betonových dílců šachet dle DIN 4034, šachtová dna na kroužek, hmotnost do 3,0 t.",null,null,null,null,null,null,null,null,"Položka je určena pro osazení betonových dílců šachet dle DIN 4034, šachtová dna na kroužek, hmotnost do 3,0 t.",null,null,3]
[null,null,"V položce nejsou zakalkulovány náklady na dodání betonových dílců;",null,null,null,null,null,null,null,null,"V položce nejsou zakalkulovány náklady na dodání betonových dílců;",null,null,3]
[null,null,"Stoka JK PVC DN400:",null,0,null,null,null,null,null,null,null,"Stoka JK PVC DN400:"]
[null,null,"ŠD DN400-885:2",null,2,null,null,null,null,null,null,null,"ŠD DN400-885:2"]
[24,"899104111RT2","Osazení poklopu s rámem nad 150 kg včetně dodávky poklopu šachtového lit. D 650","kus",2,null,{"$f":"E162*F162","v":0},0.16502,{"$f":"E162*H162","v":0.33004},0,{"$f":"E162*J162","v":0},null,null,null,2,null,null,null,null,null,null,null,null,null,null,null,1,1,1,null,null,null,null,null,null,null,null,null,null,null,null,null,null,null,null,null,null,null,null,null,null,1,{"$f":"IF(AZ162=1,G162,0)","v":0},{"$f":"IF(AZ162=2,G162,0)","v":0},{"$f":"IF(AZ162=3,G162,0)","v":0},{"$f":"IF(AZ162=4,G162,0)","v":0},{"$f":"IF(AZ162=5,G162,0)","v":0},null,null,null,null,null,null,null,null,null,null,null,null,null,null,null,null,null,null,null,null,null,1,1]
[null,null,"Poklop samonivelační dle PD ",null,null,null,null,null,null,null,null,"Poklop samonivelační dle PD ",null,null,3]
[null,null,"Stoka JK PVC DN400:",null,0,null,null,null,null,null,null,null,"Stoka JK PVC DN400:"]
[null,null,"Poklop:2",null,2,null,null,null,null,null,null,null,"Poklop:2"]
[25,"286111933.A","Trubka kanalizační PVC SN min. 12 DN 300","m",2.7324999999999999,null,{"$f":"E166*F166","v":0},1.0200000000000001E-2,{"$f":"E166*H166","v":2.78715E-2},null,{"$f":"E166*J166","v":0},null,null,null,2,null,null,null,null,null,null,null,null,null,null,null,3,1,"286111933.A",null,null,null,null,null,null,null,null,null,null,null,null,null,null,null,null,null,null,null,null,null,null,1,{"$f":"IF(AZ166=1,G166,0)","v":0},{"$f":"IF(AZ166=2,G166,0)","v":0},{"$f":"IF(AZ166=3,G166,0)","v":0},{"$f":"IF(AZ166=4,G166,0)","v":0},{"$f":"IF(AZ166=5,G166,0)","v":0},null,null,null,null,null,null,null,null,null,null,null,null,null,null,null,null,null,null,null,null,null,3,1]
[null,null,"Jedná  se  o  plnostěnné kanalizační trubky DN 150 – DN 400, min. SN 12 kN/m2 , zvenčí  i  zevnitř  hladké. Jsou  opatřeny hrdlem,  v  němž  je  vložen vysoce  elastický  jazýčkový  kroužek.  konce  trubek  (dříků)  jsou opatřeny  zkosením  pod  úhlem  15°.  Způsob  použití  trubek  je  „U“  dle  normy  ČSN  EN  1401-1, tj. mimo budovy. Spolehlivá  funkce  těsnění  je  jištěna  výztužným  kroužkem  z  elastomeru.  Je  tak  zamezeno  vypad-nutí nebo vytlačení kroužku při manipulaci a montáži. Tento systém zaručuje při správné montáži ",null,null,null,null,null,null,null,null,"Jedná  se  o  plnostěnné kanalizační trubky DN 150 – DN 400, min. SN 12 kN/m2 , zvenčí  i  zevnitř  hladké. Jsou  opatřeny hrdlem,  v  němž  je  vložen vysoce  elastický  jazýčkový  kroužek.  konce  trubek  (dříků)  jsou opatřeny  zkosením  pod  úhlem  15°.  Způsob  použití  trubek  je  „U“  dle  normy  ČSN  EN  1401-1, tj. mimo budovy. Spolehlivá  funkce  těsnění  je  jištěna  výztužným  kroužkem  z  elastomeru.  Je  tak  zamezeno  vypad-nutí nebo vytlačení kroužku při manipulaci a montáži. Tento systém zaručuje při správné montáži ",null,null,3]
[null,null,"dokonalou  těsnost  do  výšky  vodního  sloupce  5  metrů.",null,null,null,null,null,null,null,null,"dokonalou  těsnost  do  výšky  vodního  sloupce  5  metrů.",null,null,3]
[null,null,"Teplota při pokládce: min. -10 °C, max. 50 °C",null,null,null,null,null,null,null,null,"Teplota při pokládce: min. -10 °C, max. 50 °C",null,null,3]
[null,null,"Max. teplota média: trvale do 40 °C, krátkodobě do 60 °C",null,null,null,null,null,null,null,null,"Max. teplota média: trvale do 40 °C, krátkodobě do 60 °C",null,null,3]
[null,null,"Orientační výška krytí: min. 0,5 m, max. 10 m",null,null,null,null,null,null,null,null,"Orientační výška krytí: min. 0,5 m, max. 10 m",null,null,3]
[null,null,"Max. rychlost média: 12 m/s",null,null,null,null,null,null,null,null,"Max. rychlost média: 12 m/s",null,null,3]
[null,null,"Stoka JK PVC DN300:2,50*1,093",null,2.7324999999999999,null,null,null,null,null,null,null,"Stoka JK PVC DN300:2,50*1,093"]
[26,"286111943.A","Trubka kanalizační PVC SN min. 12 DN 400","m",66.563699999999997,null,{"$f":"E174*F174","v":0},1.2699999999999999E-2,{"$f":"E174*H174","v":0.84535898999999992},null,{"$f":"E174*J174","v":0},null,null,null,2,null,null,null,null,null,null,null,null,null,null,null,3,1,"286111943.A",null,null,null,null,null,null,null,null,null,null,null,null,null,null,null,null,null,null,null,null,null,null,1,{"$f":"IF(AZ174=1,G174,0)","v":0},{"$f":"IF(AZ174=2,G174,0)","v":0},{"$f":"IF(AZ174=3,G174,0)","v":0},{"$f":"IF(AZ174=4,G174,0)","v":0},{"$f":"IF(AZ174=5,G174,0)","v":0},null,null,null,null,null,null,null,null,null,null,null,null,null,null,null,null,null,null,null,null,null,3,1]
[null,null,"Jedná  se  o  plnostěnné kanalizační trubky DN 150 – DN 400, min. SN 12 kN/m2 , zvenčí  i  zevnitř  hladké. Jsou  opatřeny hrdlem,  v  němž  je  vložen vysoce  elastický  jazýčkový  kroužek.  konce  trubek  (dříků)  jsou opatřeny  zkosením  pod  úhlem  15°.  Způsob  použití  trubek  je  „U“  dle  normy  ČSN  EN  1401-1, tj. mimo budovy. Spolehlivá  funkce  těsnění  je  jištěna  výztužným  kroužkem  z  elastomeru.  Je  tak  zamezeno  vypad-nutí nebo vytlačení kroužku při manipulaci a montáži. Tento systém zaručuje při správné montáži ",null,null,null,null,null,null,null,null,"Jedná  se  o  plnostěnné kanalizační trubky DN 150 – DN 400, min. SN 12 kN/m2 , zvenčí  i  zevnitř  hladké. Jsou  opatřeny hrdlem,  v  němž  je  vložen vysoce  elastický  jazýčkový  kroužek.  konce  trubek  (dříků)  jsou opatřeny  zkosením  pod  úhlem  15°.  Způsob  použití  trubek  je  „U“  dle  normy  ČSN  EN  1401-1, tj. mimo budovy. Spolehlivá  funkce  těsnění  je  jištěna  výztužným  kroužkem  z  elastomeru.  Je  tak  zamezeno  vypad-nutí nebo vytlačení kroužku při manipulaci a montáži. Tento systém zaručuje při správné montáži ",null,null,3]
[null,null,"dokonalou  těsnost  do  výšky  vodního  sloupce  5  metrů.",null,null,null,null,null,null,null,null,"dokonalou  těsnost  do  výšky  vodního  sloupce  5  metrů.",null,null,3]
[null,null,"Teplota při pokládce: min. -10 °C, max. 50 °C",null,null,null,null,null,null,null,null,"Teplota při pokládce: min. -10 °C, max. 50 °C",null,null,3]
[null,null,"Max. teplota média: trvale do 40 °C, krátkodobě do 60 °C",null,null,null,null,null,null,null,null,"Max. teplota média: trvale do 40 °C, krátkodobě do 60 °C",null,null,3]
[null,null,"Orientační výška krytí: min. 0,5 m, max. 10 m",null,null,null,null,null,null,null,null,"Orientační výška krytí: min. 0,5 m, max. 10 m",null,null,3]
[null,null,"Max. rychlost média: 12 m/s",null,null,null,null,null,null,null,null,"Max. rychlost média: 12 m/s",null,null,3]
[null,null,"Stoka JK PVC DN400:60,90*1,093",null,66.563699999999997,null,null,null,null,null,null,null,"Stoka JK PVC DN400:60,90*1,093"]
[27,"286506141","Odbočka kanaliz. DN 400/150/45°","kus",3.0449999999999999,null,{"$f":"E182*F182","v":0},1.2999999999999999E-2,{"$f":"E182*H182","v":3.9584999999999995E-2},null,{"$f":"E182*J182","v":0},null,null,null,2,null,null,null,null,null,null,null,null,null,null,null,3,1,286506141,null,null,null,null,null,null,null,null,null,null,null,null,null,null,null,null,null,null,null,null,null,null,1,{"$f":"IF(AZ182=1,G182,0)","v":0},{"$f":"IF(AZ182=2,G182,0)","v":0},{"$f":"IF(AZ182=3,G182,0)","v":0},{"$f":"IF(AZ182=4,G182,0)","v":0},{"$f":"IF(AZ182=5,G182,0)","v":0},null,null,null,null,null,null,null,null,null,null,null,null,null,null,null,null,null,null,null,null,null,3,1]
[null,null,"Tvarovky kanalizačního systému PVC SDR 34",null,null,null,null,null,null,null,null,"Tvarovky kanalizačního systému PVC SDR 34",null,null,3]
[null,null,"Teplota při pokládce: min. -10 °C, max. 50 °C",null,null,null,null,null,null,null,null,"Teplota při pokládce: min. -10 °C, max. 50 °C",null,null,3]
[null,null,"Max. teplota média: trvale do 40 °C, krátkodobě do 60 °C",null,null,null,null,null,null,null,null,"Max. teplota média: trvale do 40 °C, krátkodobě do 60 °C",null,null,3]
[null,null,"Orientační výška krytí: min. 0,5 m, max. 10 m",null,null,null,null,null,null,null,null,"Orientační výška krytí: min. 0,5 m, max. 10 m",null,null,3]
[null,null,"Max. rychlost média: 12 m/s",null,null,null,null,null,null,null,null,"Max. rychlost média: 12 m/s",null,null,3]
[null,null,"Stoka JK PVC DN400:",null,0,null,null,null,null,null,null,null,"Stoka JK PVC DN400:"]
[null,null,"PKS na nové stoce DN400:",null,0,null,null,null,null,null,null,null,"PKS na nové stoce DN400:"]
[null,null,"PKS14 PVC DN150:1*1,015",null,1.0149999999999999,null,null,null,null,null,null,null,"PKS14 PVC DN150:1*1,015"]
[null,null,"PKS15 PVC DN150:1*1,015",null,1.0149999999999999,null,null,null,null,null,null,null,"PKS15 PVC DN150:1*1,015"]
[null,null,"Odbočka PVC DN400/150/45° pro napojení UV:1*1,015",null,1.0149999999999999,null,null,null,null,null,null,null,"Odbočka PVC DN400/150/45° pro napojení UV:1*1,015"]
[28,"59224353.B","Konus šachetní TBR-Q 600/1000x625/120 SPK","kus",2.02,null,{"$f":"E193*F193","v":0},0.59499999999999997,{"$f":"E193*H193","v":1.2019},null,{"$f":"E193*J193","v":0},null,null,null,2,null,null,null,null,null,null,null,null,null,null,null,3,1,"59224353.B",null,null,null,null,null,null,null,null,null,null,null,null,null,null,null,null,null,null,null,null,null,null,1,{"$f":"IF(AZ193=1,G193,0)","v":0},{"$f":"IF(AZ193=2,G193,0)","v":0},{"$f":"IF(AZ193=3,G193,0)","v":0},{"$f":"IF(AZ193=4,G193,0)","v":0},{"$f":"IF(AZ193=5,G193,0)","v":0},null,null,null,null,null,null,null,null,null,null,null,null,null,null,null,null,null,null,null,null,null,3,1]
[null,null,"Stoka JK PVC DN400:",null,0,null,null,null,null,null,null,null,"Stoka JK PVC DN400:"]
[null,null,"Kónus H60:2*1,01",null,2.02,null,null,null,null,null,null,null,"Kónus H60:2*1,01"]
[29,"592243554.B","Skruž šachetní TBS-Q 1000/250/120 SP","kus",2.02,null,{"$f":"E196*F196","v":0},0.24,{"$f":"E196*H196","v":0.48480000000000001},null,{"$f":"E196*J196","v":0},null,null,null,2,null,null,null,null,null,null,null,null,null,null,null,3,1,"592243554.B",null,null,null,null,null,null,null,null,null,null,null,null,null,null,null,null,null,null,null,null,null,null,1,{"$f":"IF(AZ196=1,G196,0)","v":0},{"$f":"IF(AZ196=2,G196,0)","v":0},{"$f":"IF(AZ196=3,G196,0)","v":0},{"$f":"IF(AZ196=4,G196,0)","v":0},{"$f":"IF(AZ196=5,G196,0)","v":0},null,null,null,null,null,null,null,null,null,null,null,null,null,null,null,null,null,null,null,null,null,3,1]
[null,null,"Stoka JK PVC DN400:",null,0,null,null,null,null,null,null,null,"Stoka JK PVC DN400:"]
[null,null,"Skruž H25:2*1,01",null,2.02,null,null,null,null,null,null,null,"Skruž H25:2*1,01"]
[30,"59224369.B","Dno šachetní TBZ-Q 400 - 885 včetně kynety dle PD","kus",2.02,null,{"$f":"E199*F199","v":0},1.83,{"$f":"E199*H199","v":3.6966000000000001},null,{"$f":"E199*J199","v":0},null,null,null,2,null,null,null,null,null,null,null,null,null,null,null,3,1,"59224369.B",null,null,null,null,null,null,null,null,null,null,null,null,null,null,null,null,null,null,null,null,null,null,1,{"$f":"IF(AZ199=1,G199,0)","v":0},{"$f":"IF(AZ199=2,G199,0)","v":0},{"$f":"IF(AZ199=3,G199,0)","v":0},{"$f":"IF(AZ199=4,G199,0)","v":0},{"$f":"IF(AZ199=5,G199,0)","v":0},null,null,null,null,null,null,null,null,null,null,null,null,null,null,null,null,null,null,null,null,null,3,1]
[null,null,"Stoka JK PVC DN400:",null,0,null,null,null,null,null,null,null,"Stoka JK PVC DN400:"]
[null,null,"ŠD DN400-885:2*1,01",null,2.02,null,null,null,null,null,null,null,"ŠD DN400-885:2*1,01"]
[31,"59224373.A","Těsnění elastom pro šach díly EMT 100/1.7 - DN1000","kus",4.04,null,{"$f":"E202*F202","v":0},2E-3,{"$f":"E202*H202","v":8.0800000000000004E-3},null,{"$f":"E202*J202","v":0},null,null,null,2,null,null,null,null,null,null,null,null,null,null,null,3,1,"59224373.A",null,null,null,null,null,null,null,null,null,null,null,null,null,null,null,null,null,null,null,null,null,null,1,{"$f":"IF(AZ202=1,G202,0)","v":0},{"$f":"IF(AZ202=2,G202,0)","v":0},{"$f":"IF(AZ202=3,G202,0)","v":0},{"$f":"IF(AZ202=4,G202,0)","v":0},{"$f":"IF(AZ202=5,G202,0)","v":0},null,null,null,null,null,null,null,null,null,null,null,null,null,null,null,null,null,null,null,null,null,3,1]
[null,null,"Stoka JK PVC DN400:",null,0,null,null,null,null,null,null,null,"Stoka JK PVC DN400:"]
[null,null,"Těsnění:4*1,01",null,4.04,null,null,null,null,null,null,null,"Těsnění:4*1,01"]
[null,"Celkem za","8 Trubní vedení",null,null,null,{"$f":"SUM(G101:G204)","v":0},null,{"$f":"SUM(I101:I204)","v":6.6354844899999996},null,{"$f":"SUM(K101:K204)","v":0},null,null,null,4,null,null,null,null,null,null,null,null,null,null,null,null,null,null,null,null,null,null,null,null,null,null,null,null,null,null,null,null,null,null,null,null,null,null,null,null,null,{"$f":"SUM(BA101:BA204)","v":0},{"$f":"SUM(BB101:BB204)","v":0},{"$f":"SUM(BC101:BC204)","v":0},{"$f":"SUM(BD101:BD204)","v":0},{"$f":"SUM(BE101:BE204)","v":0}]
["Díl:","99","Staveništní přesun hmot",null,null,null,null,null,null,null,null,null,null,null,1]
[32,"998276101R00","Přesun hmot, trubní vedení plastová, otevř. výkop ","t",161.58484118000001,null,{"$f":"E207*F207","v":0},0,{"$f":"E207*H207","v":0},null,{"$f":"E207*J207","v":0},null,null,null,2,null,null,null,null,null,null,null,null,null,null,null,7,1,2,null,null,null,null,null,null,null,null,null,null,null,null,null,null,null,null,null,null,null,null,null,null,1,{"$f":"IF(AZ207=1,G207,0)","v":0},{"$f":"IF(AZ207=2,G207,0)","v":0},{"$f":"IF(AZ207=3,G207,0)","v":0},{"$f":"IF(AZ207=4,G207,0)","v":0},{"$f":"IF(AZ207=5,G207,0)","v":0},null,null,null,null,null,null,null,null,null,null,null,null,null,null,null,null,null,null,null,null,null,7,1]
[null,null,"Položka je určena pro trubní vedení (vodovod nebo kanalizace) hloubené nebo ražené z trub z plastických hmot nebo sklolaminátových včetně drobných objektů. Platnost položky je vymezena pro nejmenší skladovací plochu 50 m2 + 1,30 m2/t, pro největší dopravní vzdálenost 15 m od hrany výkopu na povrchu nebo 15 m od okraje šachty k těžišti skládek na povrchu. ",null,null,null,null,null,null,null,null,"Položka je určena pro trubní vedení (vodovod nebo kanalizace) hloubené nebo ražené z trub z plastických hmot nebo sklolaminátových včetně drobných objektů. Platnost položky je vymezena pro nejmenší skladovací plochu 50 m2 + 1,30 m2/t, pro největší dopravní vzdálenost 15 m od hrany výkopu na povrchu nebo 15 m od okraje šachty k těžišti skládek na povrchu. ",null,null,3]
[null,"Celkem za","99 Staveništní přesun hmot",null,null,null,{"$f":"SUM(G206:G208)","v":0},null,{"$f":"SUM(I206:I208)","v":0},null,{"$f":"SUM(K206:K208)","v":0},null,null,null,4,null,null,null,null,null,null,null,null,null,null,null,null,null,null,null,null,null,null,null,null,null,null,null,null,null,null,null,null,null,null,null,null,null,null,null,null,null,{"$f":"SUM(BA206:BA208)","v":0},{"$f":"SUM(BB206:BB208)","v":0},{"$f":"SUM(BC206:BC208)","v":0},{"$f":"SUM(BD206:BD208)","v":0},{"$f":"SUM(BE206:BE208)","v":0}]

{"sheet":"304 3236304.2 KL","index":22,"n_rows":45,"n_cols":8,"rows_kept":45,"cut":false,"hidden":false,"merged":[[22,0,22,1],[7,2,7,4],[8,2,8,4],[9,2,9,4],[10,2,10,4],[11,2,11,4],[50,1,50,6],[29,5,29,6],[30,5,30,6],[31,5,31,6],[32,5,32,6],[33,5,33,6],[36,1,44,6],[45,1,45,6],[46,1,46,6],[47,1,47,6],[48,1,48,6],[49,1,49,6]]}
["POLOŽKOVÝ ROZPOČET"]
["Rozpočet",null,"3236/304.2"," Jednotná kanalizace - přípojky",null,"JKSO ","827.29.A2"]
[]
["Objekt",null,null,null,null,"SKP "]
["304",null,"Jednotná kanalizace, přípojky",null,null,"Měrná jednotka","m"]
["Stavba",null,null,null,null,"Počet jednotek",0]
["3236",null,"Bytová zóna Hruštice - Károvsko - Etapa VII.",null,null,"Náklady na m.j.",{"$f":"IF(G6=0,,ROUND((F30+F32)/G6,1))","v":0}]
["Projektant",null,"PROFES PROJEKT spol.s r.o.",null,null,"Typ rozpočtu"]
["Zpracovatel projektu"]
["Objednatel",null,"Město TURNOV"]
["Dodavatel",null,".",null,null,"Zakázkové číslo "]
["Rozpočtoval",null,null,null,null,"Počet listů"]
["ROZPOČTOVÉ NÁKLADY"]
["Základní rozpočtové náklady"]
[null,"HSV celkem",{"$f":"'304 3236304.2 Rek'!E11","v":0}]
["Z","PSV celkem",{"$f":"'304 3236304.2 Rek'!F11","v":0}]
["R","M práce celkem",{"$f":"'304 3236304.2 Rek'!H11","v":0}]
["N","M dodávky celkem",{"$f":"'304 3236304.2 Rek'!G11","v":0}]
["ZRN celkem",null,{"$f":"SUM(C15:C18)","v":0}]
[]
["HZS",null,{"$f":"'304 3236304.2 Rek'!I11","v":0}]
["ZRN+HZS",null,{"$f":"C19+C21","v":0}]
["ZRN+ost.náklady+HZS",null,{"$f":"C22+G23","v":0}]
["Vypracoval",null,null,"Za zhotovitele",null,"Za objednatele"]
["Jméno :",null,null,"Jméno :",null,"Jméno :"]
["Datum :",null,null,"Datum :",null,"Datum :"]
[]
["Podpis :",null,null,"Podpis:",null,"Podpis:"]
[]
["Základ pro DPH",null,21,"%  ",null,{"$f":"C23-F32","v":0}]
["DPH",null,{"$f":"C30","v":21},"% ",null,{"$f":"ROUND(PRODUCT(F30,C31/100),0)","v":0}]
["Základ pro DPH",null,0,"% ",null,0]
["DPH",null,{"$f":"C32","v":0},"% ",null,{"$f":"ROUND(PRODUCT(F32,C33/100),0)","v":0}]
["CENA ZA OBJEKT CELKEM",null,null,null,null,{"$f":"ROUND(SUM(F30:F33),0)","v":0}]
[]
["Poznámka :",null,null,null,null,null,null," "]
[null,null,null,null,null,null,null," "]
[null,null,null,null,null,null,null," "]
[null,null,null,null,null,null,null," "]
[null,null,null,null,null,null,null," "]
[null,null,null,null,null,null,null," "]
[null,null,null,null,null,null,null," "]
[null,null,null,null,null,null,null," "]
[null,null,null,null,null,null,null," "]
[null,null,null,null,null,null,null," "]

{"sheet":"304 3236304.2 Rek","index":23,"n_rows":11,"n_cols":9,"rows_kept":11,"cut":false,"hidden":false,"merged":[[0,0,0,1],[1,0,1,1],[1,6,1,8]]}
["Stavba :",null,"3236 Bytová zóna Hruštice - Károvsko - Etapa VII.",null,null,null,"Rozpočet :","3236/304.2"]
["Objekt :",null,"304 Jednotná kanalizace, přípojky",null,null,null," Jednotná kanalizace - přípojky"]
[]
["REKAPITULACE  STAVEBNÍCH  DÍLŮ"]
[]
[null,"Stavební díl",null,null,"HSV","PSV","Dodávka","Montáž","HZS"]
[{"$f":"'304 3236304.2 Pol'!B7","v":"1"},{"$f":"'304 3236304.2 Pol'!C7","v":"Zemní práce"},null,null,{"$f":"'304 3236304.2 Pol'!BA191","v":0},{"$f":"'304 3236304.2 Pol'!BB191","v":0},{"$f":"'304 3236304.2 Pol'!BC191","v":0},{"$f":"'304 3236304.2 Pol'!BD191","v":0},{"$f":"'304 3236304.2 Pol'!BE191","v":0}]
[{"$f":"'304 3236304.2 Pol'!B192","v":"45"},{"$f":"'304 3236304.2 Pol'!C192","v":"Podkladní a vedlejší konstrukce"},null,null,{"$f":"'304 3236304.2 Pol'!BA208","v":0},{"$f":"'304 3236304.2 Pol'!BB208","v":0},{"$f":"'304 3236304.2 Pol'!BC208","v":0},{"$f":"'304 3236304.2 Pol'!BD208","v":0},{"$f":"'304 3236304.2 Pol'!BE208","v":0}]
[{"$f":"'304 3236304.2 Pol'!B209","v":"8"},{"$f":"'304 3236304.2 Pol'!C209","v":"Trubní vedení"},null,null,{"$f":"'304 3236304.2 Pol'!BA418","v":0},{"$f":"'304 3236304.2 Pol'!BB418","v":0},{"$f":"'304 3236304.2 Pol'!BC418","v":0},{"$f":"'304 3236304.2 Pol'!BD418","v":0},{"$f":"'304 3236304.2 Pol'!BE418","v":0}]
[{"$f":"'304 3236304.2 Pol'!B419","v":"99"},{"$f":"'304 3236304.2 Pol'!C419","v":"Staveništní přesun hmot"},null,null,{"$f":"'304 3236304.2 Pol'!BA422","v":0},{"$f":"'304 3236304.2 Pol'!BB422","v":0},{"$f":"'304 3236304.2 Pol'!BC422","v":0},{"$f":"'304 3236304.2 Pol'!BD422","v":0},{"$f":"'304 3236304.2 Pol'!BE422","v":0}]
[null,"CELKEM  OBJEKT",null,null,{"$f":"SUM(E7:E10)","v":0},{"$f":"SUM(F7:F10)","v":0},{"$f":"SUM(G7:G10)","v":0},{"$f":"SUM(H7:H10)","v":0},{"$f":"SUM(I7:I10)","v":0}]

{"sheet":"304 3236304.2 Pol","index":24,"n_rows":422,"n_cols":80,"rows_kept":422,"cut":false,"hidden":false,"merged":[[12,2,12,3],[13,2,13,3],[14,2,14,3],[15,2,15,3],[16,2,16,3],[17,2,17,3],[0,0,0,6],[2,0,2,1],[3,0,3,1],[3,4,3,6],[8,2,8,6],[9,2,9,6],[10,2,10,3],[11,2,11,3],[24,2,24,3],[25,2,25,3],[26,2,26,3],[27,2,27,3],[29,2,29,6],[30,2,30,6],[18,2,18,3],[19,2,19,3],[20,2,20,3],[21,2,21,3],[22,2,22,3],[23,2,23,3],[37,2,37,3],[38,2,38,3],[39,2,39,3],[40,2,40,3],[41,2,41,3],[42,2,42,3],[31,2,31,3],[32,2,32,3],[33,2,33,3],[34,2,34,3],[35,2,35,3],[36,2,36,3],[50,2,50,3],[51,2,51,3],[52,2,52,3],[53,2,53,3],[54,2,54,3],[55,2,55,3],[43,2,43,3],[44,2,44,3],[45,2,45,3],[46,2,46,3],[47,2,47,3],[49,2,49,3],[62,2,62,3],[63,2,63,3],[64,2,64,3],[65,2,65,3],[67,2,67,6],[68,2,68,6],[56,2,56,3],[57,2,57,3],[58,2,58,3],[59,2,59,3],[60,2,60,3],[61,2,61,3],[75,2,75,3],[76,2,76,3],[77,2,77,3],[78,2,78,3],[79,2,79,3],[80,2,80,3],[69,2,69,3],[70,2,70,3],[71,2,71,3],[72,2,72,3],[73,2,73,3],[74,2,74,3],[88,2,88,3],[89,2,89,3],[90,2,90,3],[91,2,91,3],[92,2,92,3],[93,2,93,3],[81,2,81,3],[82,2,82,3],[83,2,83,3],[84,2,84,3],[85,2,85,3],[87,2,87,3],[100,2,100,3],[101,2,101,3],[102,2,102,3],[103,2,103,3],[105,2,105,3],[106,2,106,3],[94,2,94,3],[95,2,95,3],[96,2,96,3],[97,2,97,3],[98,2,98,3],[99,2,99,3],[113,2,113,3],[114,2,114,3],[115,2,115,3],[116,2,116,3],[117,2,117,3],[118,2,118,3],[107,2,107,3],[108,2,108,3],[109,2,109,3],[110,2,110,3],[111,2,111,3],[112,2,112,3],[126,2,126,3],[127,2,127,3],[128,2,128,3],[129,2,129,3],[130,2,130,3],[131,2,131,3],[119,2,119,3],[120,2,120,3],[121,2,121,3],[122,2,122,3],[123,2,123,3],[125,2,125,3],[138,2,138,3],[140,2,140,6],[141,2,141,3],[142,2,142,3],[143,2,143,3],[144,2,144,3],[132,2,132,3],[133,2,133,3],[134,2,134,3],[135,2,135,3],[136,2,136,3],[137,2,137,3],[151,2,151,3],[152,2,152,3],[153,2,153,3],[154,2,154,3],[156,2,156,3],[157,2,157,3],[145,2,145,3],[146,2,146,3],[147,2,147,3],[148,2,148,3],[149,2,149,3],[150,2,150,3],[164,2,164,3],[165,2,165,3],[166,2,166,3],[167,2,167,3],[168,2,168,3],[169,2,169,3],[158,2,158,3],[159,2,159,3],[160,2,160,3],[161,2,161,3],[162,2,162,3],[163,2,163,3],[177,2,177,3],[178,2,178,3],[179,2,179,3],[180,2,180,3],[181,2,181,3],[182,2,182,3],[171,2,171,3],[172,2,172,3],[173,2,173,3],[174,2,174,3],[175,2,175,3],[176,2,176,3],[189,2,189,3],[193,2,193,3],[194,2,194,3],[195,2,195,3],[196,2,196,3],[197,2,197,3],[198,2,198,3],[199,2,199,3],[183,2,183,3],[184,2,184,3],[185,2,185,3],[186,2,186,3],[187,2,187,3],[188,2,188,3],[206,2,206,3],[210,2,210,6],[211,2,211,3],[212,2,212,3],[213,2,213,3],[214,2,214,3],[215,2,215,3],[216,2,216,3],[200,2,200,3],[201,2,201,3],[202,2,202,3],[203,2,203,3],[204,2,204,3],[205,2,205,3],[223,2,223,3],[224,2,224,3],[225,2,225,3],[227,2,227,6],[228,2,228,6],[229,2,229,3],[217,2,217,3],[218,2,218,3],[219,2,219,3],[220,2,220,3],[221,2,221,3],[222,2,222,3],[236,2,236,3],[237,2,237,3],[238,2,238,3],[240,2,240,6],[241,2,241,3],[242,2,242,3],[230,2,230,3],[231,2,231,3],[232,2,232,3],[233,2,233,3],[234,2,234,3],[235,2,235,3],[249,2,249,3],[250,2,250,3],[251,2,251,3],[252,2,252,3],[253,2,253,3],[254,2,254,3],[243,2,243,3],[244,2,244,3],[245,2,245,3],[246,2,246,3],[247,2,247,3],[248,2,248,3],[262,2,262,3],[263,2,263,3],[264,2,264,3],[265,2,265,3],[266,2,266,3],[267,2,267,3],[255,2,255,3],[257,2,257,6],[258,2,258,6],[259,2,259,6],[260,2,260,6],[261,2,261,3],[274,2,274,3],[275,2,275,3],[277,2,277,6],[278,2,278,6],[279,2,279,3],[280,2,280,3],[268,2,268,3],[269,2,269,3],[270,2,270,3],[271,2,271,3],[272,2,272,3],[273,2,273,3],[287,2,287,3],[288,2,288,3],[289,2,289,3],[290,2,290,3],[291,2,291,3],[292,2,292,3],[281,2,281,3],[282,2,282,3],[283,2,283,3],[284,2,284,3],[285,2,285,3],[286,2,286,3],[300,2,300,6],[301,2,301,3],[302,2,302,3],[303,2,303,3],[304,2,304,3],[305,2,305,3],[293,2,293,3],[295,2,295,6],[296,2,296,6],[297,2,297,6],[298,2,298,6],[299,2,299,6],[312,2,312,3],[313,2,313,3],[314,2,314,3],[315,2,315,3],[317,2,317,6],[318,2,318,6],[306,2,306,3],[307,2,307,3],[308,2,308,3],[309,2,309,3],[310,2,310,3],[311,2,311,3],[325,2,325,3],[326,2,326,3],[327,2,327,3],[328,2,328,3],[329,2,329,3],[330,2,330,3],[319,2,319,6],[320,2,320,6],[321,2,321,6],[322,2,322,3],[323,2,323,3],[324,2,324,3],[338,2,338,3],[339,2,339,3],[340,2,340,3],[341,2,341,3],[342,2,342,3],[343,2,343,3],[331,2,331,3],[332,2,332,3],[333,2,333,3],[334,2,334,3],[335,2,335,3],[336,2,336,3],[350,2,350,3],[351,2,351,3],[352,2,352,3],[354,2,354,3],[355,2,355,3],[356,2,356,3],[344,2,344,3],[345,2,345,3],[346,2,346,3],[347,2,347,3],[348,2,348,3],[349,2,349,3],[363,2,363,3],[364,2,364,3],[365,2,365,3],[366,2,366,3],[367,2,367,3],[368,2,368,3],[357,2,357,3],[358,2,358,3],[359,2,359,3],[360,2,360,3],[361,2,361,3],[362,2,362,3],[376,2,376,3],[377,2,377,3],[378,2,378,3],[379,2,379,3],[380,2,380,3],[381,2,381,3],[370,2,370,3],[371,2,371,3],[372,2,372,3],[373,2,373,3],[374,2,374,3],[375,2,375,3],[389,2,389,3],[390,2,390,3],[391,2,391,3],[392,2,392,3],[393,2,393,3],[394,2,394,3],[382,2,382,3],[383,2,383,3],[384,2,384,3],[386,2,386,3],[387,2,387,3],[388,2,388,3],[402,2,402,3],[403,2,403,3],[404,2,404,3],[405,2,405,3],[406,2,406,3],[407,2,407,3],[395,2,395,3],[396,2,396,3],[397,2,397,3],[398,2,398,3],[399,2,399,3],[400,2,400,3],[414,2,414,3],[415,2,415,3],[416,2,416,3],[420,2,420,6],[408,2,408,3],[409,2,409,3],[410,2,410,3],[411,2,411,3],[412,2,412,3],[413,2,413,3]]}
["Položkový rozpočet "]
[]
["Stavba :",null,"3236 Bytová zóna Hruštice - Károvsko - Etapa VII.",null,"Rozpočet:",{"$f":"'304 3236304.2 Rek'!H1","v":"3236/304.2"}]
["Objekt :",null,"304 Jednotná kanalizace, přípojky",null,{"$f":"'304 3236304.2 Rek'!G2","v":" Jednotná kanalizace - přípojky"}]
[]
["P.č.","Číslo položky","Název položky","MJ","množství","cena / MJ","celkem (Kč)","Jednotková hmotnost","Celková hmotnost","Jednotková dem.hmot.","Celková dem.hmot."]
["Díl:","1","Zemní práce",null,null,null,null,null,null,null,null,null,null,null,1]
[1,"120001101RRX","Příplatek za ztížení vykopávky v blízkosti vedení ","m3",19.6416,null,{"$f":"E8*F8","v":0},0,{"$f":"E8*H8","v":0},0,{"$f":"E8*J8","v":0},null,null,null,2,null,null,null,null,null,null,null,null,null,null,null,1,1,1,null,null,null,null,null,null,null,null,null,null,null,null,null,null,null,null,null,null,null,null,null,null,1,{"$f":"IF(AZ8=1,G8,0)","v":0},{"$f":"IF(AZ8=2,G8,0)","v":0},{"$f":"IF(AZ8=3,G8,0)","v":0},{"$f":"IF(AZ8=4,G8,0)","v":0},{"$f":"IF(AZ8=5,G8,0)","v":0},null,null,null,null,null,null,null,null,null,null,null,null,null,null,null,null,null,null,null,null,null,1,1]
[null,null,"Včetně ruční dokopávky a ručního výkopu.",null,null,null,null,null,null,null,null,"Včetně ruční dokopávky a ručního výkopu.",null,null,3]
[null,null,"Součástí položky je i případná potřeba dočasnéhon zajištění potrubí a kabelových vedení ve výkopu.",null,null,null,null,null,null,null,null,"Součástí položky je i případná potřeba dočasnéhon zajištění potrubí a kabelových vedení ve výkopu.",null,null,3]
[null,null,"Výkopy:",null,0,null,null,null,null,null,null,null,"Výkopy:"]
[null,null,"Začátek provozního součtu",null,0,null,null,null,null,null,null,null,"Začátek provozního součtu"]
[null,null,"PKS na nové stoce DN400:",null,0,null,null,null,null,null,null,null,"PKS na nové stoce DN400:"]
[null,null,"PKS14 PVC DN150:4,40*((2,10+1,90)/2-0,40)",null,7.04,null,null,null,null,null,null,null,"PKS14 PVC DN150:4,40*((2,10+1,90)/2-0,40)"]
[null,null,"PKS15 PVC DN150:4,40*((2,10+1,90)/2-0,40)",null,7.04,null,null,null,null,null,null,null,"PKS15 PVC DN150:4,40*((2,10+1,90)/2-0,40)"]
[null,null,"PKS na stávající stoce DN400:",null,0,null,null,null,null,null,null,null,"PKS na stávající stoce DN400:"]
[null,null,"PKS01 PVC DN150:4,40*((2,10+1,90)/2-0,40)",null,7.04,null,null,null,null,null,null,null,"PKS01 PVC DN150:4,40*((2,10+1,90)/2-0,40)"]
[null,null,"PKS02 PVC DN150:4,40*((2,10+1,90)/2-0,40)",null,7.04,null,null,null,null,null,null,null,"PKS02 PVC DN150:4,40*((2,10+1,90)/2-0,40)"]
[null,null,"PKS03 PVC DN150:5,50*((2,10+1,90)/2-0,40)",null,8.8000000000000007,null,null,null,null,null,null,null,"PKS03 PVC DN150:5,50*((2,10+1,90)/2-0,40)"]
[null,null,"PKS04 PVC DN150:4,40*((2,10+1,90)/2-0,40)",null,7.04,null,null,null,null,null,null,null,"PKS04 PVC DN150:4,40*((2,10+1,90)/2-0,40)"]
[null,null,"PKS05 PVC DN150:4,40*((2,10+1,90)/2-0,40)",null,7.04,null,null,null,null,null,null,null,"PKS05 PVC DN150:4,40*((2,10+1,90)/2-0,40)"]
[null,null,"PKS06 PVC DN150:6,00*((2,10+1,90)/2-0,40)",null,9.6,null,null,null,null,null,null,null,"PKS06 PVC DN150:6,00*((2,10+1,90)/2-0,40)"]
[null,null,"PKS07 PVC DN150:3,50*((2,10+1,90)/2-0,40)",null,5.6,null,null,null,null,null,null,null,"PKS07 PVC DN150:3,50*((2,10+1,90)/2-0,40)"]
[null,null,"PKS08 PVC DN150:5,10*((2,10+1,90)/2-0,40)",null,8.16,null,null,null,null,null,null,null,"PKS08 PVC DN150:5,10*((2,10+1,90)/2-0,40)"]
[null,null,"PKS09 PVC DN150:4,90*((2,10+1,90)/2-0,40)",null,7.84,null,null,null,null,null,null,null,"PKS09 PVC DN150:4,90*((2,10+1,90)/2-0,40)"]
[null,null,"PKS13 PVC DN150:4,40*((2,10+1,90)/2-0,40)",null,7.04,null,null,null,null,null,null,null,"PKS13 PVC DN150:4,40*((2,10+1,90)/2-0,40)"]
[null,null,"Konec provozního součtu",null,89.28,null,null,null,null,null,null,null,"Konec provozního součtu"]
[null,null,"V hornině tř. 3 - 4 - 22%:89,2800*0,22",null,19.6416,null,null,null,null,null,null,null,"V hornině tř. 3 - 4 - 22%:89,2800*0,22"]
[2,"132201211RRX","Hloubení rýh š.do 200 cm hor.3 do 100 m3,STROJNĚ ","m3",44.64,null,{"$f":"E29*F29","v":0},0,{"$f":"E29*H29","v":0},0,{"$f":"E29*J29","v":0},null,null,null,2,null,null,null,null,null,null,null,null,null,null,null,1,1,1,null,null,null,null,null,null,null,null,null,null,null,null,null,null,null,null,null,null,null,null,null,null,1,{"$f":"IF(AZ29=1,G29,0)","v":0},{"$f":"IF(AZ29=2,G29,0)","v":0},{"$f":"IF(AZ29=3,G29,0)","v":0},{"$f":"IF(AZ29=4,G29,0)","v":0},{"$f":"IF(AZ29=5,G29,0)","v":0},null,null,null,null,null,null,null,null,null,null,null,null,null,null,null,null,null,null,null,null,null,1,1]
[null,null,"Položka obsahuje hloubení rýh traktorbagrem, naložení výkopku na dopravní prostředek pro svislé, nebo vodorovné přemístění, popř. přemístění výkopku do 3 m (po povrchu území), případné zajištění rypadel polštáři, udržování pracoviště a ochranu výkopiště proti stékání srážkové vody z okolního terénu i s jejím odvodněním, nebo odvedením, přesekání a odstranění kořenů ve výkopišti, odstranění napadávek, urovnání dna výkopu.",null,null,null,null,null,null,null,null,"Položka obsahuje hloubení rýh traktorbagrem, naložení výkopku na dopravní prostředek pro svislé, nebo vodorovné přemístění, popř. přemístění výkopku do 3 m (po povrchu území), případné zajištění rypadel polštáři, udržování pracoviště a ochranu výkopiště proti stékání srážkové vody z okolního terénu i s jejím odvodněním, nebo odvedením, přesekání a odstranění kořenů ve výkopišti, odstranění napadávek, urovnání dna výkopu.",null,null,3]
[null,null,"Součástí položky je i zřízení a odstranění pažení rýhy v souladu s předpisy BOZP.",null,null,null,null,null,null,null,null,"Součástí položky je i zřízení a odstranění pažení rýhy v souladu s předpisy BOZP.",null,null,3]
[null,null,"Začátek provozního součtu",null,0,null,null,null,null,null,null,null,"Začátek provozního součtu"]
[null,null,"PKS na nové stoce DN400:",null,0,null,null,null,null,null,null,null,"PKS na nové stoce DN400:"]
[null,null,"PKS14 PVC DN150:4,40*((2,10+1,90)/2-0,40)",null,7.04,null,null,null,null,null,null,null,"PKS14 PVC DN150:4,40*((2,10+1,90)/2-0,40)"]
[null,null,"PKS15 PVC DN150:4,40*((2,10+1,90)/2-0,40)",null,7.04,null,null,null,null,null,null,null,"PKS15 PVC DN150:4,40*((2,10+1,90)/2-0,40)"]
[null,null,"PKS na stávající stoce DN400:",null,0,null,null,null,null,null,null,null,"PKS na stávající stoce DN400:"]
[null,null,"PKS01 PVC DN150:4,40*((2,10+1,90)/2-0,40)",null,7.04,null,null,null,null,null,null,null,"PKS01 PVC DN150:4,40*((2,10+1,90)/2-0,40)"]
[null,null,"PKS02 PVC DN150:4,40*((2,10+1,90)/2-0,40)",null,7.04,null,null,null,null,null,null,null,"PKS02 PVC DN150:4,40*((2,10+1,90)/2-0,40)"]
[null,null,"PKS03 PVC DN150:5,50*((2,10+1,90)/2-0,40)",null,8.8000000000000007,null,null,null,null,null,null,null,"PKS03 PVC DN150:5,50*((2,10+1,90)/2-0,40)"]
[null,null,"PKS04 PVC DN150:4,40*((2,10+1,90)/2-0,40)",null,7.04,null,null,null,null,null,null,null,"PKS04 PVC DN150:4,40*((2,10+1,90)/2-0,40)"]
[null,null,"PKS05 PVC DN150:4,40*((2,10+1,90)/2-0,40)",null,7.04,null,null,null,null,null,null,null,"PKS05 PVC DN150:4,40*((2,10+1,90)/2-0,40)"]
[null,null,"PKS06 PVC DN150:6,00*((2,10+1,90)/2-0,40)",null,9.6,null,null,null,null,null,null,null,"PKS06 PVC DN150:6,00*((2,10+1,90)/2-0,40)"]
[null,null,"PKS07 PVC DN150:3,50*((2,10+1,90)/2-0,40)",null,5.6,null,null,null,null,null,null,null,"PKS07 PVC DN150:3,50*((2,10+1,90)/2-0,40)"]
[null,null,"PKS08 PVC DN150:5,10*((2,10+1,90)/2-0,40)",null,8.16,null,null,null,null,null,null,null,"PKS08 PVC DN150:5,10*((2,10+1,90)/2-0,40)"]
[null,null,"PKS09 PVC DN150:4,90*((2,10+1,90)/2-0,40)",null,7.84,null,null,null,null,null,null,null,"PKS09 PVC DN150:4,90*((2,10+1,90)/2-0,40)"]
[null,null,"PKS13 PVC DN150:4,40*((2,10+1,90)/2-0,40)",null,7.04,null,null,null,null,null,null,null,"PKS13 PVC DN150:4,40*((2,10+1,90)/2-0,40)"]
[null,null,"Konec provozního součtu",null,89.28,null,null,null,null,null,null,null,"Konec provozního součtu"]
[null,null,"V hornině tř. 3 - 50%:89,2800*0,5",null,44.64,null,null,null,null,null,null,null,"V hornině tř. 3 - 50%:89,2800*0,5"]
[3,"132201219R00","Přípl.za lepivost,hloubení rýh 200cm,hor.3,STROJNĚ ","m3",22.32,null,{"$f":"E49*F49","v":0},0,{"$f":"E49*H49","v":0},0,{"$f":"E49*J49","v":0},null,null,null,2,null,null,null,null,null,null,null,null,null,null,null,1,1,1,null,null,null,null,null,null,null,null,null,null,null,null,null,null,null,null,null,null,null,null,null,null,1,{"$f":"IF(AZ49=1,G49,0)","v":0},{"$f":"IF(AZ49=2,G49,0)","v":0},{"$f":"IF(AZ49=3,G49,0)","v":0},{"$f":"IF(AZ49=4,G49,0)","v":0},{"$f":"IF(AZ49=5,G49,0)","v":0},null,null,null,null,null,null,null,null,null,null,null,null,null,null,null,null,null,null,null,null,null,1,1]
[null,null,"Začátek provozního součtu",null,0,null,null,null,null,null,null,null,"Začátek provozního součtu"]
[null,null,"PKS na nové stoce DN400:",null,0,null,null,null,null,null,null,null,"PKS na nové stoce DN400:"]
[null,null,"PKS14 PVC DN150:4,40*((2,10+1,90)/2-0,40)",null,7.04,null,null,null,null,null,null,null,"PKS14 PVC DN150:4,40*((2,10+1,90)/2-0,40)"]
[null,null,"PKS15 PVC DN150:4,40*((2,10+1,90)/2-0,40)",null,7.04,null,null,null,null,null,null,null,"PKS15 PVC DN150:4,40*((2,10+1,90)/2-0,40)"]
[null,null,"PKS na stávající stoce DN400:",null,0,null,null,null,null,null,null,null,"PKS na stávající stoce DN400:"]
[null,null,"PKS01 PVC DN150:4,40*((2,10+1,90)/2-0,40)",null,7.04,null,null,null,null,null,null,null,"PKS01 PVC DN150:4,40*((2,10+1,90)/2-0,40)"]
[null,null,"PKS02 PVC DN150:4,40*((2,10+1,90)/2-0,40)",null,7.04,null,null,null,null,null,null,null,"PKS02 PVC DN150:4,40*((2,10+1,90)/2-0,40)"]
[null,null,"PKS03 PVC DN150:5,50*((2,10+1,90)/2-0,40)",null,8.8000000000000007,null,null,null,null,null,null,null,"PKS03 PVC DN150:5,50*((2,10+1,90)/2-0,40)"]
[null,null,"PKS04 PVC DN150:4,40*((2,10+1,90)/2-0,40)",null,7.04,null,null,null,null,null,null,null,"PKS04 PVC DN150:4,40*((2,10+1,90)/2-0,40)"]
[null,null,"PKS05 PVC DN150:4,40*((2,10+1,90)/2-0,40)",null,7.04,null,null,null,null,null,null,null,"PKS05 PVC DN150:4,40*((2,10+1,90)/2-0,40)"]
[null,null,"PKS06 PVC DN150:6,00*((2,10+1,90)/2-0,40)",null,9.6,null,null,null,null,null,null,null,"PKS06 PVC DN150:6,00*((2,10+1,90)/2-0,40)"]
[null,null,"PKS07 PVC DN150:3,50*((2,10+1,90)/2-0,40)",null,5.6,null,null,null,null,null,null,null,"PKS07 PVC DN150:3,50*((2,10+1,90)/2-0,40)"]
[null,null,"PKS08 PVC DN150:5,10*((2,10+1,90)/2-0,40)",null,8.16,null,null,null,null,null,null,null,"PKS08 PVC DN150:5,10*((2,10+1,90)/2-0,40)"]
[null,null,"PKS09 PVC DN150:4,90*((2,10+1,90)/2-0,40)",null,7.84,null,null,null,null,null,null,null,"PKS09 PVC DN150:4,90*((2,10+1,90)/2-0,40)"]
[null,null,"PKS13 PVC DN150:4,40*((2,10+1,90)/2-0,40)",null,7.04,null,null,null,null,null,null,null,"PKS13 PVC DN150:4,40*((2,10+1,90)/2-0,40)"]
[null,null,"Konec provozního součtu",null,89.28,null,null,null,null,null,null,null,"Konec provozního součtu"]
[null,null,"V hornině tř. 3 - 50%:89,2800*0,5*0,5",null,22.32,null,null,null,null,null,null,null,"V hornině tř. 3 - 50%:89,2800*0,5*0,5"]
[4,"132301211RRX","Hloubení rýh š.do 200 cm hor.4 do 100 m3, STROJNĚ ","m3",44.64,null,{"$f":"E67*F67","v":0},0,{"$f":"E67*H67","v":0},0,{"$f":"E67*J67","v":0},null,null,null,2,null,null,null,null,null,null,null,null,null,null,null,1,1,1,null,null,null,null,null,null,null,null,null,null,null,null,null,null,null,null,null,null,null,null,null,null,1,{"$f":"IF(AZ67=1,G67,0)","v":0},{"$f":"IF(AZ67=2,G67,0)","v":0},{"$f":"IF(AZ67=3,G67,0)","v":0},{"$f":"IF(AZ67=4,G67,0)","v":0},{"$f":"IF(AZ67=5,G67,0)","v":0},null,null,null,null,null,null,null,null,null,null,null,null,null,null,null,null,null,null,null,null,null,1,1]
[null,null,"Položka obsahuje hloubení rýh traktorbagrem, naložení výkopku na dopravní prostředek pro svislé, nebo vodorovné přemístění, popř. přemístění výkopku do 3 m (po povrchu území), případné zajištění rypadel polštáři, udržování pracoviště a ochranu výkopiště proti stékání srážkové vody z okolního terénu i s jejím odvodněním, nebo odvedením, přesekání a odstranění kořenů ve výkopišti, odstranění napadávek, urovnání dna výkopu.",null,null,null,null,null,null,null,null,"Položka obsahuje hloubení rýh traktorbagrem, naložení výkopku na dopravní prostředek pro svislé, nebo vodorovné přemístění, popř. přemístění výkopku do 3 m (po povrchu území), případné zajištění rypadel polštáři, udržování pracoviště a ochranu výkopiště proti stékání srážkové vody z okolního terénu i s jejím odvodněním, nebo odvedením, přesekání a odstranění kořenů ve výkopišti, odstranění napadávek, urovnání dna výkopu.",null,null,3]
[null,null,"Součástí položky je i zřízení a odstranění pažení rýhy v souladu s předpisy BOZP.",null,null,null,null,null,null,null,null,"Součástí položky je i zřízení a odstranění pažení rýhy v souladu s předpisy BOZP.",null,null,3]
[null,null,"Začátek provozního součtu",null,0,null,null,null,null,null,null,null,"Začátek provozního součtu"]
[null,null,"PKS na nové stoce DN400:",null,0,null,null,null,null,null,null,null,"PKS na nové stoce DN400:"]
[null,null,"PKS14 PVC DN150:4,40*((2,10+1,90)/2-0,40)",null,7.04,null,null,null,null,null,null,null,"PKS14 PVC DN150:4,40*((2,10+1,90)/2-0,40)"]
[null,null,"PKS15 PVC DN150:4,40*((2,10+1,90)/2-0,40)",null,7.04,null,null,null,null,null,null,null,"PKS15 PVC DN150:4,40*((2,10+1,90)/2-0,40)"]
[null,null,"PKS na stávající stoce DN400:",null,0,null,null,null,null,null,null,null,"PKS na stávající stoce DN400:"]
[null,null,"PKS01 PVC DN150:4,40*((2,10+1,90)/2-0,40)",null,7.04,null,null,null,null,null,null,null,"PKS01 PVC DN150:4,40*((2,10+1,90)/2-0,40)"]
[null,null,"PKS02 PVC DN150:4,40*((2,10+1,90)/2-0,40)",null,7.04,null,null,null,null,null,null,null,"PKS02 PVC DN150:4,40*((2,10+1,90)/2-0,40)"]
[null,null,"PKS03 PVC DN150:5,50*((2,10+1,90)/2-0,40)",null,8.8000000000000007,null,null,null,null,null,null,null,"PKS03 PVC DN150:5,50*((2,10+1,90)/2-0,40)"]
[null,null,"PKS04 PVC DN150:4,40*((2,10+1,90)/2-0,40)",null,7.04,null,null,null,null,null,null,null,"PKS04 PVC DN150:4,40*((2,10+1,90)/2-0,40)"]
[null,null,"PKS05 PVC DN150:4,40*((2,10+1,90)/2-0,40)",null,7.04,null,null,null,null,null,null,null,"PKS05 PVC DN150:4,40*((2,10+1,90)/2-0,40)"]
[null,null,"PKS06 PVC DN150:6,00*((2,10+1,90)/2-0,40)",null,9.6,null,null,null,null,null,null,null,"PKS06 PVC DN150:6,00*((2,10+1,90)/2-0,40)"]
[null,null,"PKS07 PVC DN150:3,50*((2,10+1,90)/2-0,40)",null,5.6,null,null,null,null,null,null,null,"PKS07 PVC DN150:3,50*((2,10+1,90)/2-0,40)"]
[null,null,"PKS08 PVC DN150:5,10*((2,10+1,90)/2-0,40)",null,8.16,null,null,null,null,null,null,null,"PKS08 PVC DN150:5,10*((2,10+1,90)/2-0,40)"]
[null,null,"PKS09 PVC DN150:4,90*((2,10+1,90)/2-0,40)",null,7.84,null,null,null,null,null,null,null,"PKS09 PVC DN150:4,90*((2,10+1,90)/2-0,40)"]
[null,null,"PKS13 PVC DN150:4,40*((2,10+1,90)/2-0,40)",null,7.04,null,null,null,null,null,null,null,"PKS13 PVC DN150:4,40*((2,10+1,90)/2-0,40)"]
[null,null,"Konec provozního součtu",null,89.28,null,null,null,null,null,null,null,"Konec provozního součtu"]
[null,null,"V hornině tř. 4 - 50%:89,2800*0,5",null,44.64,null,null,null,null,null,null,null,"V hornině tř. 4 - 50%:89,2800*0,5"]
[5,"132301219R00","Přípl.za lepivost,hloubení rýh 200cm,hor.4,STROJNĚ ","m3",22.32,null,{"$f":"E87*F87","v":0},0,{"$f":"E87*H87","v":0},0,{"$f":"E87*J87","v":0},null,null,null,2,null,null,null,null,null,null,null,null,null,null,null,1,1,1,null,null,null,null,null,null,null,null,null,null,null,null,null,null,null,null,null,null,null,null,null,null,1,{"$f":"IF(AZ87=1,G87,0)","v":0},{"$f":"IF(AZ87=2,G87,0)","v":0},{"$f":"IF(AZ87=3,G87,0)","v":0},{"$f":"IF(AZ87=4,G87,0)","v":0},{"$f":"IF(AZ87=5,G87,0)","v":0},null,null,null,null,null,null,null,null,null,null,null,null,null,null,null,null,null,null,null,null,null,1,1]
[null,null,"Začátek provozního součtu",null,0,null,null,null,null,null,null,null,"Začátek provozního součtu"]
[null,null,"PKS na nové stoce DN400:",null,0,null,null,null,null,null,null,null,"PKS na nové stoce DN400:"]
[null,null,"PKS14 PVC DN150:4,40*((2,10+1,90)/2-0,40)",null,7.04,null,null,null,null,null,null,null,"PKS14 PVC DN150:4,40*((2,10+1,90)/2-0,40)"]
[null,null,"PKS15 PVC DN150:4,40*((2,10+1,90)/2-0,40)",null,7.04,null,null,null,null,null,null,null,"PKS15 PVC DN150:4,40*((2,10+1,90)/2-0,40)"]
[null,null,"PKS na stávající stoce DN400:",null,0,null,null,null,null,null,null,null,"PKS na stávající stoce DN400:"]
[null,null,"PKS01 PVC DN150:4,40*((2,10+1,90)/2-0,40)",null,7.04,null,null,null,null,null,null,null,"PKS01 PVC DN150:4,40*((2,10+1,90)/2-0,40)"]
[null,null,"PKS02 PVC DN150:4,40*((2,10+1,90)/2-0,40)",null,7.04,null,null,null,null,null,null,null,"PKS02 PVC DN150:4,40*((2,10+1,90)/2-0,40)"]
[null,null,"PKS03 PVC DN150:5,50*((2,10+1,90)/2-0,40)",null,8.8000000000000007,null,null,null,null,null,null,null,"PKS03 PVC DN150:5,50*((2,10+1,90)/2-0,40)"]
[null,null,"PKS04 PVC DN150:4,40*((2,10+1,90)/2-0,40)",null,7.04,null,null,null,null,null,null,null,"PKS04 PVC DN150:4,40*((2,10+1,90)/2-0,40)"]
[null,null,"PKS05 PVC DN150:4,40*((2,10+1,90)/2-0,40)",null,7.04,null,null,null,null,null,null,null,"PKS05 PVC DN150:4,40*((2,10+1,90)/2-0,40)"]
[null,null,"PKS06 PVC DN150:6,00*((2,10+1,90)/2-0,40)",null,9.6,null,null,null,null,null,null,null,"PKS06 PVC DN150:6,00*((2,10+1,90)/2-0,40)"]
[null,null,"PKS07 PVC DN150:3,50*((2,10+1,90)/2-0,40)",null,5.6,null,null,null,null,null,null,null,"PKS07 PVC DN150:3,50*((2,10+1,90)/2-0,40)"]
[null,null,"PKS08 PVC DN150:5,10*((2,10+1,90)/2-0,40)",null,8.16,null,null,null,null,null,null,null,"PKS08 PVC DN150:5,10*((2,10+1,90)/2-0,40)"]
[null,null,"PKS09 PVC DN150:4,90*((2,10+1,90)/2-0,40)",null,7.84,null,null,null,null,null,null,null,"PKS09 PVC DN150:4,90*((2,10+1,90)/2-0,40)"]
[null,null,"PKS13 PVC DN150:4,40*((2,10+1,90)/2-0,40)",null,7.04,null,null,null,null,null,null,null,"PKS13 PVC DN150:4,40*((2,10+1,90)/2-0,40)"]
[null,null,"Konec provozního součtu",null,89.28,null,null,null,null,null,null,null,"Konec provozního součtu"]
[null,null,"V hornině tř. 4 - 50%:89,2800*0,5*0,5",null,22.32,null,null,null,null,null,null,null,"V hornině tř. 4 - 50%:89,2800*0,5*0,5"]
[6,"162701105RSZ","Vodorovné přemístění výkopku z hor.1-7 na skládku zhotovitele","m3",71.424000000000007,null,{"$f":"E105*F105","v":0},0,{"$f":"E105*H105","v":0},0,{"$f":"E105*J105","v":0},null,null,null,2,null,null,null,null,null,null,null,null,null,null,null,1,1,1,null,null,null,null,null,null,null,null,null,null,null,null,null,null,null,null,null,null,null,null,null,null,1,{"$f":"IF(AZ105=1,G105,0)","v":0},{"$f":"IF(AZ105=2,G105,0)","v":0},{"$f":"IF(AZ105=3,G105,0)","v":0},{"$f":"IF(AZ105=4,G105,0)","v":0},{"$f":"IF(AZ105=5,G105,0)","v":0},null,null,null,null,null,null,null,null,null,null,null,null,null,null,null,null,null,null,null,null,null,1,1]
[null,null,"Výkopy:",null,0,null,null,null,null,null,null,null,"Výkopy:"]
[null,null,"Začátek provozního součtu",null,0,null,null,null,null,null,null,null,"Začátek provozního součtu"]
[null,null,"PKS na nové stoce DN400:",null,0,null,null,null,null,null,null,null,"PKS na nové stoce DN400:"]
[null,null,"PKS14 PVC DN150:4,40*((2,10+1,90)/2-0,40)",null,7.04,null,null,null,null,null,null,null,"PKS14 PVC DN150:4,40*((2,10+1,90)/2-0,40)"]
[null,null,"PKS15 PVC DN150:4,40*((2,10+1,90)/2-0,40)",null,7.04,null,null,null,null,null,null,null,"PKS15 PVC DN150:4,40*((2,10+1,90)/2-0,40)"]
[null,null,"PKS na stávající stoce DN400:",null,0,null,null,null,null,null,null,null,"PKS na stávající stoce DN400:"]
[null,null,"PKS01 PVC DN150:4,40*((2,10+1,90)/2-0,40)",null,7.04,null,null,null,null,null,null,null,"PKS01 PVC DN150:4,40*((2,10+1,90)/2-0,40)"]
[null,null,"PKS02 PVC DN150:4,40*((2,10+1,90)/2-0,40)",null,7.04,null,null,null,null,null,null,null,"PKS02 PVC DN150:4,40*((2,10+1,90)/2-0,40)"]
[null,null,"PKS03 PVC DN150:5,50*((2,10+1,90)/2-0,40)",null,8.8000000000000007,null,null,null,null,null,null,null,"PKS03 PVC DN150:5,50*((2,10+1,90)/2-0,40)"]
[null,null,"PKS04 PVC DN150:4,40*((2,10+1,90)/2-0,40)",null,7.04,null,null,null,null,null,null,null,"PKS04 PVC DN150:4,40*((2,10+1,90)/2-0,40)"]
[null,null,"PKS05 PVC DN150:4,40*((2,10+1,90)/2-0,40)",null,7.04,null,null,null,null,null,null,null,"PKS05 PVC DN150:4,40*((2,10+1,90)/2-0,40)"]
[null,null,"PKS06 PVC DN150:6,00*((2,10+1,90)/2-0,40)",null,9.6,null,null,null,null,null,null,null,"PKS06 PVC DN150:6,00*((2,10+1,90)/2-0,40)"]
[null,null,"PKS07 PVC DN150:3,50*((2,10+1,90)/2-0,40)",null,5.6,null,null,null,null,null,null,null,"PKS07 PVC DN150:3,50*((2,10+1,90)/2-0,40)"]
[null,null,"PKS08 PVC DN150:5,10*((2,10+1,90)/2-0,40)",null,8.16,null,null,null,null,null,null,null,"PKS08 PVC DN150:5,10*((2,10+1,90)/2-0,40)"]
[null,null,"PKS09 PVC DN150:4,90*((2,10+1,90)/2-0,40)",null,7.84,null,null,null,null,null,null,null,"PKS09 PVC DN150:4,90*((2,10+1,90)/2-0,40)"]
[null,null,"PKS13 PVC DN150:4,40*((2,10+1,90)/2-0,40)",null,7.04,null,null,null,null,null,null,null,"PKS13 PVC DN150:4,40*((2,10+1,90)/2-0,40)"]
[null,null,"Konec provozního součtu",null,89.28,null,null,null,null,null,null,null,"Konec provozního součtu"]
[null,null,"V hornině tř. 3 - 4 :89,2800",null,89.28,null,null,null,null,null,null,null,"V hornině tř. 3 - 4 :89,2800"]
[null,null,"Odpočet zásypů zeminou:-17,8560",null,-17.856000000000002,null,null,null,null,null,null,null,"Odpočet zásypů zeminou:-17,8560"]
[7,"174100050RAA","Zásyp jam,rýh a šachet štěrkodrtí fr. 0-63 mm včetně dovozu štěrkodrtě","m3",41.85,null,{"$f":"E125*F125","v":0},1.873,{"$f":"E125*H125","v":78.385050000000007},0,{"$f":"E125*J125","v":0},null,null,null,2,null,null,null,null,null,null,null,null,null,null,null,1,1,1,null,null,null,null,null,null,null,null,null,null,null,null,null,null,null,null,null,null,null,null,null,null,1,{"$f":"IF(AZ125=1,G125,0)","v":0},{"$f":"IF(AZ125=2,G125,0)","v":0},{"$f":"IF(AZ125=3,G125,0)","v":0},{"$f":"IF(AZ125=4,G125,0)","v":0},{"$f":"IF(AZ125=5,G125,0)","v":0},null,null,null,null,null,null,null,null,null,null,null,null,null,null,null,null,null,null,null,null,null,1,1]
[null,null,"PKS na nové stoce DN400:",null,0,null,null,null,null,null,null,null,"PKS na nové stoce DN400:"]
[null,null,"PKS14 PVC DN150:4,40*((2,10+1,90)/2-0,40-0,10-0,15-0,30-0,30)",null,3.3,null,null,null,null,null,null,null,"PKS14 PVC DN150:4,40*((2,10+1,90)/2-0,40-0,10-0,15-0,30-0,30)"]
[null,null,"PKS15 PVC DN150:4,40*((2,10+1,90)/2-0,40-0,10-0,15-0,30-0,30)",null,3.3,null,null,null,null,null,null,null,"PKS15 PVC DN150:4,40*((2,10+1,90)/2-0,40-0,10-0,15-0,30-0,30)"]
[null,null,"PKS na stávající stoce DN400:",null,0,null,null,null,null,null,null,null,"PKS na stávající stoce DN400:"]
[null,null,"PKS01 PVC DN150:4,40*((2,10+1,90)/2-0,40-0,10-0,15-0,30-0,30)",null,3.3,null,null,null,null,null,null,null,"PKS01 PVC DN150:4,40*((2,10+1,90)/2-0,40-0,10-0,15-0,30-0,30)"]
[null,null,"PKS02 PVC DN150:4,40*((2,10+1,90)/2-0,40-0,10-0,15-0,30-0,30)",null,3.3,null,null,null,null,null,null,null,"PKS02 PVC DN150:4,40*((2,10+1,90)/2-0,40-0,10-0,15-0,30-0,30)"]
[null,null,"PKS03 PVC DN150:5,50*((2,10+1,90)/2-0,40-0,10-0,15-0,30-0,30)",null,4.125,null,null,null,null,null,null,null,"PKS03 PVC DN150:5,50*((2,10+1,90)/2-0,40-0,10-0,15-0,30-0,30)"]
[null,null,"PKS04 PVC DN150:4,40*((2,10+1,90)/2-0,40-0,10-0,15-0,30-0,30)",null,3.3,null,null,null,null,null,null,null,"PKS04 PVC DN150:4,40*((2,10+1,90)/2-0,40-0,10-0,15-0,30-0,30)"]
[null,null,"PKS05 PVC DN150:4,40*((2,10+1,90)/2-0,40-0,10-0,15-0,30-0,30)",null,3.3,null,null,null,null,null,null,null,"PKS05 PVC DN150:4,40*((2,10+1,90)/2-0,40-0,10-0,15-0,30-0,30)"]
[null,null,"PKS06 PVC DN150:6,00*((2,10+1,90)/2-0,40-0,10-0,15-0,30-0,30)",null,4.5,null,null,null,null,null,null,null,"PKS06 PVC DN150:6,00*((2,10+1,90)/2-0,40-0,10-0,15-0,30-0,30)"]
[null,null,"PKS07 PVC DN150:3,50*((2,10+1,90)/2-0,40-0,10-0,15-0,30-0,30)",null,2.625,null,null,null,null,null,null,null,"PKS07 PVC DN150:3,50*((2,10+1,90)/2-0,40-0,10-0,15-0,30-0,30)"]
[null,null,"PKS08 PVC DN150:5,10*((2,10+1,90)/2-0,40-0,10-0,15-0,30-0,30)",null,3.8250000000000002,null,null,null,null,null,null,null,"PKS08 PVC DN150:5,10*((2,10+1,90)/2-0,40-0,10-0,15-0,30-0,30)"]
[null,null,"PKS09 PVC DN150:4,90*((2,10+1,90)/2-0,40-0,10-0,15-0,30-0,30)",null,3.6749999999999998,null,null,null,null,null,null,null,"PKS09 PVC DN150:4,90*((2,10+1,90)/2-0,40-0,10-0,15-0,30-0,30)"]
[null,null,"PKS13 PVC DN150:4,40*((2,10+1,90)/2-0,40-0,10-0,15-0,30-0,30)",null,3.3,null,null,null,null,null,null,null,"PKS13 PVC DN150:4,40*((2,10+1,90)/2-0,40-0,10-0,15-0,30-0,30)"]
[8,"174101101R00","Zásyp jam, rýh, šachet se zhutněním ","m3",17.856000000000002,null,{"$f":"E140*F140","v":0},0,{"$f":"E140*H140","v":0},0,{"$f":"E140*J140","v":0},null,null,null,2,null,null,null,null,null,null,null,null,null,null,null,1,1,1,null,null,null,null,null,null,null,null,null,null,null,null,null,null,null,null,null,null,null,null,null,null,1,{"$f":"IF(AZ140=1,G140,0)","v":0},{"$f":"IF(AZ140=2,G140,0)","v":0},{"$f":"IF(AZ140=3,G140,0)","v":0},{"$f":"IF(AZ140=4,G140,0)","v":0},{"$f":"IF(AZ140=5,G140,0)","v":0},null,null,null,null,null,null,null,null,null,null,null,null,null,null,null,null,null,null,null,null,null,1,1]
[null,null,"včetně strojního přemístění materiálu pro zásyp ze vzdálenosti do 10 m od okraje zásypu",null,null,null,null,null,null,null,null,"včetně strojního přemístění materiálu pro zásyp ze vzdálenosti do 10 m od okraje zásypu",null,null,3]
[null,null,"PKS na nové stoce DN400:",null,0,null,null,null,null,null,null,null,"PKS na nové stoce DN400:"]
[null,null,"PKS14 PVC DN150:4,40*0,80*0,40",null,1.4079999999999999,null,null,null,null,null,null,null,"PKS14 PVC DN150:4,40*0,80*0,40"]
[null,null,"PKS15 PVC DN150:4,40*0,80*0,40",null,1.4079999999999999,null,null,null,null,null,null,null,"PKS15 PVC DN150:4,40*0,80*0,40"]
[null,null,"PKS na stávající stoce DN400:",null,0,null,null,null,null,null,null,null,"PKS na stávající stoce DN400:"]
[null,null,"PKS01 PVC DN150:4,40*0,80*0,40",null,1.4079999999999999,null,null,null,null,null,null,null,"PKS01 PVC DN150:4,40*0,80*0,40"]
[null,null,"PKS02 PVC DN150:4,40*0,80*0,40",null,1.4079999999999999,null,null,null,null,null,null,null,"PKS02 PVC DN150:4,40*0,80*0,40"]
[null,null,"PKS03 PVC DN150:5,50*0,80*0,40",null,1.76,null,null,null,null,null,null,null,"PKS03 PVC DN150:5,50*0,80*0,40"]
[null,null,"PKS04 PVC DN150:4,40*0,80*0,40",null,1.4079999999999999,null,null,null,null,null,null,null,"PKS04 PVC DN150:4,40*0,80*0,40"]
[null,null,"PKS05 PVC DN150:4,40*0,80*0,40",null,1.4079999999999999,null,null,null,null,null,null,null,"PKS05 PVC DN150:4,40*0,80*0,40"]
[null,null,"PKS06 PVC DN150:6,00*0,80*0,40",null,1.92,null,null,null,null,null,null,null,"PKS06 PVC DN150:6,00*0,80*0,40"]
[null,null,"PKS07 PVC DN150:3,50*0,80*0,40",null,1.1200000000000001,null,null,null,null,null,null,null,"PKS07 PVC DN150:3,50*0,80*0,40"]
[null,null,"PKS08 PVC DN150:5,10*0,80*0,40",null,1.6319999999999999,null,null,null,null,null,null,null,"PKS08 PVC DN150:5,10*0,80*0,40"]
[null,null,"PKS09 PVC DN150:4,90*0,80*0,40",null,1.5680000000000001,null,null,null,null,null,null,null,"PKS09 PVC DN150:4,90*0,80*0,40"]
[null,null,"PKS13 PVC DN150:4,40*0,80*0,40",null,1.4079999999999999,null,null,null,null,null,null,null,"PKS13 PVC DN150:4,40*0,80*0,40"]
[9,"175100020RAA","Obsyp potrubí štěrkopískem včetně dovozu štěrkopísku","m3",19.101900000000001,null,{"$f":"E156*F156","v":0},1.873,{"$f":"E156*H156","v":35.777858700000003},0,{"$f":"E156*J156","v":0},null,null,null,2,null,null,null,null,null,null,null,null,null,null,null,1,1,1,null,null,null,null,null,null,null,null,null,null,null,null,null,null,null,null,null,null,null,null,null,null,1,{"$f":"IF(AZ156=1,G156,0)","v":0},{"$f":"IF(AZ156=2,G156,0)","v":0},{"$f":"IF(AZ156=3,G156,0)","v":0},{"$f":"IF(AZ156=4,G156,0)","v":0},{"$f":"IF(AZ156=5,G156,0)","v":0},null,null,null,null,null,null,null,null,null,null,null,null,null,null,null,null,null,null,null,null,null,1,1]
[null,null,"PKS na nové stoce DN400:",null,0,null,null,null,null,null,null,null,"PKS na nové stoce DN400:"]
[null,null,"PKS14 PVC DN150:4,40*(0,80*(0,15+0,30)-0,075^2*Pi)",null,1.5062,null,null,null,null,null,null,null,"PKS14 PVC DN150:4,40*(0,80*(0,15+0,30)-0,075^2*Pi)"]
[null,null,"PKS15 PVC DN150:4,40*(0,80*(0,15+0,30)-0,075^2*Pi)",null,1.5062,null,null,null,null,null,null,null,"PKS15 PVC DN150:4,40*(0,80*(0,15+0,30)-0,075^2*Pi)"]
[null,null,"PKS na stávající stoce DN400:",null,0,null,null,null,null,null,null,null,"PKS na stávající stoce DN400:"]
[null,null,"PKS01 PVC DN150:4,40*(0,80*(0,15+0,30)-0,075^2*Pi)",null,1.5062,null,null,null,null,null,null,null,"PKS01 PVC DN150:4,40*(0,80*(0,15+0,30)-0,075^2*Pi)"]
[null,null,"PKS02 PVC DN150:4,40*(0,80*(0,15+0,30)-0,075^2*Pi)",null,1.5062,null,null,null,null,null,null,null,"PKS02 PVC DN150:4,40*(0,80*(0,15+0,30)-0,075^2*Pi)"]
[null,null,"PKS03 PVC DN150:5,50*(0,80*(0,15+0,30)-0,075^2*Pi)",null,1.8828,null,null,null,null,null,null,null,"PKS03 PVC DN150:5,50*(0,80*(0,15+0,30)-0,075^2*Pi)"]
[null,null,"PKS04 PVC DN150:4,40*(0,80*(0,15+0,30)-0,075^2*Pi)",null,1.5062,null,null,null,null,null,null,null,"PKS04 PVC DN150:4,40*(0,80*(0,15+0,30)-0,075^2*Pi)"]
[null,null,"PKS05 PVC DN150:4,40*(0,80*(0,15+0,30)-0,075^2*Pi)",null,1.5062,null,null,null,null,null,null,null,"PKS05 PVC DN150:4,40*(0,80*(0,15+0,30)-0,075^2*Pi)"]
[null,null,"PKS06 PVC DN150:6,00*(0,80*(0,15+0,30)-0,075^2*Pi)",null,2.0539999999999998,null,null,null,null,null,null,null,"PKS06 PVC DN150:6,00*(0,80*(0,15+0,30)-0,075^2*Pi)"]
[null,null,"PKS07 PVC DN150:3,50*(0,80*(0,15+0,30)-0,075^2*Pi)",null,1.1980999999999999,null,null,null,null,null,null,null,"PKS07 PVC DN150:3,50*(0,80*(0,15+0,30)-0,075^2*Pi)"]
[null,null,"PKS08 PVC DN150:5,10*(0,80*(0,15+0,30)-0,075^2*Pi)",null,1.7459,null,null,null,null,null,null,null,"PKS08 PVC DN150:5,10*(0,80*(0,15+0,30)-0,075^2*Pi)"]
[null,null,"PKS09 PVC DN150:4,90*(0,80*(0,15+0,30)-0,075^2*Pi)",null,1.6774,null,null,null,null,null,null,null,"PKS09 PVC DN150:4,90*(0,80*(0,15+0,30)-0,075^2*Pi)"]
[null,null,"PKS13 PVC DN150:4,40*(0,80*(0,15+0,30)-0,075^2*Pi)",null,1.5062,null,null,null,null,null,null,null,"PKS13 PVC DN150:4,40*(0,80*(0,15+0,30)-0,075^2*Pi)"]
[10,"199000002R00","Poplatek za skládku horniny 1- 7 ","m3",71.424000000000007,null,{"$f":"E171*F171","v":0},0,{"$f":"E171*H171","v":0},0,{"$f":"E171*J171","v":0},null,null,null,2,null,null,null,null,null,null,null,null,null,null,null,1,1,1,null,null,null,null,null,null,null,null,null,null,null,null,null,null,null,null,null,null,null,null,null,null,1,{"$f":"IF(AZ171=1,G171,0)","v":0},{"$f":"IF(AZ171=2,G171,0)","v":0},{"$f":"IF(AZ171=3,G171,0)","v":0},{"$f":"IF(AZ171=4,G171,0)","v":0},{"$f":"IF(AZ171=5,G171,0)","v":0},null,null,null,null,null,null,null,null,null,null,null,null,null,null,null,null,null,null,null,null,null,1,1]
[null,null,"Výkopy:",null,0,null,null,null,null,null,null,null,"Výkopy:"]
[null,null,"Začátek provozního součtu",null,0,null,null,null,null,null,null,null,"Začátek provozního součtu"]
[null,null,"PKS na nové stoce DN400:",null,0,null,null,null,null,null,null,null,"PKS na nové stoce DN400:"]
[null,null,"PKS14 PVC DN150:4,40*((2,10+1,90)/2-0,40)",null,7.04,null,null,null,null,null,null,null,"PKS14 PVC DN150:4,40*((2,10+1,90)/2-0,40)"]
[null,null,"PKS15 PVC DN150:4,40*((2,10+1,90)/2-0,40)",null,7.04,null,null,null,null,null,null,null,"PKS15 PVC DN150:4,40*((2,10+1,90)/2-0,40)"]
[null,null,"PKS na stávající stoce DN400:",null,0,null,null,null,null,null,null,null,"PKS na stávající stoce DN400:"]
[null,null,"PKS01 PVC DN150:4,40*((2,10+1,90)/2-0,40)",null,7.04,null,null,null,null,null,null,null,"PKS01 PVC DN150:4,40*((2,10+1,90)/2-0,40)"]
[null,null,"PKS02 PVC DN150:4,40*((2,10+1,90)/2-0,40)",null,7.04,null,null,null,null,null,null,null,"PKS02 PVC DN150:4,40*((2,10+1,90)/2-0,40)"]
[null,null,"PKS03 PVC DN150:5,50*((2,10+1,90)/2-0,40)",null,8.8000000000000007,null,null,null,null,null,null,null,"PKS03 PVC DN150:5,50*((2,10+1,90)/2-0,40)"]
[null,null,"PKS04 PVC DN150:4,40*((2,10+1,90)/2-0,40)",null,7.04,null,null,null,null,null,null,null,"PKS04 PVC DN150:4,40*((2,10+1,90)/2-0,40)"]
[null,null,"PKS05 PVC DN150:4,40*((2,10+1,90)/2-0,40)",null,7.04,null,null,null,null,null,null,null,"PKS05 PVC DN150:4,40*((2,10+1,90)/2-0,40)"]
[null,null,"PKS06 PVC DN150:6,00*((2,10+1,90)/2-0,40)",null,9.6,null,null,null,null,null,null,null,"PKS06 PVC DN150:6,00*((2,10+1,90)/2-0,40)"]
[null,null,"PKS07 PVC DN150:3,50*((2,10+1,90)/2-0,40)",null,5.6,null,null,null,null,null,null,null,"PKS07 PVC DN150:3,50*((2,10+1,90)/2-0,40)"]
[null,null,"PKS08 PVC DN150:5,10*((2,10+1,90)/2-0,40)",null,8.16,null,null,null,null,null,null,null,"PKS08 PVC DN150:5,10*((2,10+1,90)/2-0,40)"]
[null,null,"PKS09 PVC DN150:4,90*((2,10+1,90)/2-0,40)",null,7.84,null,null,null,null,null,null,null,"PKS09 PVC DN150:4,90*((2,10+1,90)/2-0,40)"]
[null,null,"PKS13 PVC DN150:4,40*((2,10+1,90)/2-0,40)",null,7.04,null,null,null,null,null,null,null,"PKS13 PVC DN150:4,40*((2,10+1,90)/2-0,40)"]
[null,null,"Konec provozního součtu",null,89.28,null,null,null,null,null,null,null,"Konec provozního součtu"]
[null,null,"V hornině tř. 3 - 4 :89,2800",null,89.28,null,null,null,null,null,null,null,"V hornině tř. 3 - 4 :89,2800"]
[null,null,"Odpočet zásypů zeminou:-17,8560",null,-17.856000000000002,null,null,null,null,null,null,null,"Odpočet zásypů zeminou:-17,8560"]
[null,"Celkem za","1 Zemní práce",null,null,null,{"$f":"SUM(G7:G190)","v":0},null,{"$f":"SUM(I7:I190)","v":114.1629087},null,{"$f":"SUM(K7:K190)","v":0},null,null,null,4,null,null,null,null,null,null,null,null,null,null,null,null,null,null,null,null,null,null,null,null,null,null,null,null,null,null,null,null,null,null,null,null,null,null,null,null,null,{"$f":"SUM(BA7:BA190)","v":0},{"$f":"SUM(BB7:BB190)","v":0},{"$f":"SUM(BC7:BC190)","v":0},{"$f":"SUM(BD7:BD190)","v":0},{"$f":"SUM(BE7:BE190)","v":0}]
["Díl:","45","Podkladní a vedlejší konstrukce",null,null,null,null,null,null,null,null,null,null,null,1]
[11,"451572111R00","Lože pod potrubí z kameniva těženého 0 - 4 mm ","m3",4.4640000000000004,null,{"$f":"E193*F193","v":0},0.43051,{"$f":"E193*H193","v":1.9217966400000002},0,{"$f":"E193*J193","v":0},null,null,null,2,null,null,null,null,null,null,null,null,null,null,null,1,1,1,null,null,null,null,null,null,null,null,null,null,null,null,null,null,null,null,null,null,null,null,null,null,1,{"$f":"IF(AZ193=1,G193,0)","v":0},{"$f":"IF(AZ193=2,G193,0)","v":0},{"$f":"IF(AZ193=3,G193,0)","v":0},{"$f":"IF(AZ193=4,G193,0)","v":0},{"$f":"IF(AZ193=5,G193,0)","v":0},null,null,null,null,null,null,null,null,null,null,null,null,null,null,null,null,null,null,null,null,null,1,1]
[null,null,"PKS na nové stoce DN400:",null,0,null,null,null,null,null,null,null,"PKS na nové stoce DN400:"]
[null,null,"PKS14 PVC DN150:4,40*0,80*0,10",null,0.35199999999999998,null,null,null,null,null,null,null,"PKS14 PVC DN150:4,40*0,80*0,10"]
[null,null,"PKS15 PVC DN150:4,40*0,80*0,10",null,0.35199999999999998,null,null,null,null,null,null,null,"PKS15 PVC DN150:4,40*0,80*0,10"]
[null,null,"PKS na stávající stoce DN400:",null,0,null,null,null,null,null,null,null,"PKS na stávající stoce DN400:"]
[null,null,"PKS01 PVC DN150:4,40*0,80*0,10",null,0.35199999999999998,null,null,null,null,null,null,null,"PKS01 PVC DN150:4,40*0,80*0,10"]
[null,null,"PKS02 PVC DN150:4,40*0,80*0,10",null,0.35199999999999998,null,null,null,null,null,null,null,"PKS02 PVC DN150:4,40*0,80*0,10"]
[null,null,"PKS03 PVC DN150:5,50*0,80*0,10",null,0.44,null,null,null,null,null,null,null,"PKS03 PVC DN150:5,50*0,80*0,10"]
[null,null,"PKS04 PVC DN150:4,40*0,80*0,10",null,0.35199999999999998,null,null,null,null,null,null,null,"PKS04 PVC DN150:4,40*0,80*0,10"]
[null,null,"PKS05 PVC DN150:4,40*0,80*0,10",null,0.35199999999999998,null,null,null,null,null,null,null,"PKS05 PVC DN150:4,40*0,80*0,10"]
[null,null,"PKS06 PVC DN150:6,00*0,80*0,10",null,0.48,null,null,null,null,null,null,null,"PKS06 PVC DN150:6,00*0,80*0,10"]
[null,null,"PKS07 PVC DN150:3,50*0,80*0,10",null,0.28000000000000003,null,null,null,null,null,null,null,"PKS07 PVC DN150:3,50*0,80*0,10"]
[null,null,"PKS08 PVC DN150:5,10*0,80*0,10",null,0.40799999999999997,null,null,null,null,null,null,null,"PKS08 PVC DN150:5,10*0,80*0,10"]
[null,null,"PKS09 PVC DN150:4,90*0,80*0,10",null,0.39200000000000002,null,null,null,null,null,null,null,"PKS09 PVC DN150:4,90*0,80*0,10"]
[null,null,"PKS13 PVC DN150:4,40*0,80*0,10",null,0.35199999999999998,null,null,null,null,null,null,null,"PKS13 PVC DN150:4,40*0,80*0,10"]
[null,"Celkem za","45 Podkladní a vedlejší konstrukce",null,null,null,{"$f":"SUM(G192:G207)","v":0},null,{"$f":"SUM(I192:I207)","v":1.9217966400000002},null,{"$f":"SUM(K192:K207)","v":0},null,null,null,4,null,null,null,null,null,null,null,null,null,null,null,null,null,null,null,null,null,null,null,null,null,null,null,null,null,null,null,null,null,null,null,null,null,null,null,null,null,{"$f":"SUM(BA192:BA207)","v":0},{"$f":"SUM(BB192:BB207)","v":0},{"$f":"SUM(BC192:BC207)","v":0},{"$f":"SUM(BD192:BD207)","v":0},{"$f":"SUM(BE192:BE207)","v":0}]
["Díl:","8","Trubní vedení",null,null,null,null,null,null,null,null,null,null,null,1]
[12,"871311111RRX","Montáž trubek z PVC/PP ve výkopu DN 150 mm ","m",55.8,null,{"$f":"E210*F210","v":0},1E-4,{"$f":"E210*H210","v":5.5799999999999999E-3},0,{"$f":"E210*J210","v":0},null,null,null,2,null,null,null,null,null,null,null,null,null,null,null,1,0,0,null,null,null,null,null,null,null,null,null,null,null,null,null,null,null,null,null,null,null,null,null,null,1,{"$f":"IF(AZ210=1,G210,0)","v":0},{"$f":"IF(AZ210=2,G210,0)","v":0},{"$f":"IF(AZ210=3,G210,0)","v":0},{"$f":"IF(AZ210=4,G210,0)","v":0},{"$f":"IF(AZ210=5,G210,0)","v":0},null,null,null,null,null,null,null,null,null,null,null,null,null,null,null,null,null,null,null,null,null,1,0]
[null,null,"Položka je určena pro montáž potrubí z PVC nabo PP těsněných gumovým kroužkem. Volba položky se řídí vnějším průměrem trubky. V položce jsou zakalkulovány i náklady na montáž tvarovek. V položce nejsou zakalkulovány náklady na dodání trubek a tvarovek; tyto materiály se oceňují ve specifikaci.",null,null,null,null,null,null,null,null,"Položka je určena pro montáž potrubí z PVC nabo PP těsněných gumovým kroužkem. Volba položky se řídí vnějším průměrem trubky. V položce jsou zakalkulovány i náklady na montáž tvarovek. V položce nejsou zakalkulovány náklady na dodání trubek a tvarovek; tyto materiály se oceňují ve specifikaci.",null,null,3]
[null,null,"Stoka JK PVC DN400:",null,0,null,null,null,null,null,null,null,"Stoka JK PVC DN400:"]
[null,null,"PKS na nové stoce DN400:",null,0,null,null,null,null,null,null,null,"PKS na nové stoce DN400:"]
[null,null,"PKS14 PVC DN150:4,40",null,4.4000000000000004,null,null,null,null,null,null,null,"PKS14 PVC DN150:4,40"]
[null,null,"PKS15 PVC DN150:4,40",null,4.4000000000000004,null,null,null,null,null,null,null,"PKS15 PVC DN150:4,40"]
[null,null,"PKS na stávající stoce DN400:",null,0,null,null,null,null,null,null,null,"PKS na stávající stoce DN400:"]
[null,null,"PKS01 PVC DN150:4,40",null,4.4000000000000004,null,null,null,null,null,null,null,"PKS01 PVC DN150:4,40"]
[null,null,"PKS02 PVC DN150:4,40",null,4.4000000000000004,null,null,null,null,null,null,null,"PKS02 PVC DN150:4,40"]
[null,null,"PKS03 PVC DN150:5,50",null,5.5,null,null,null,null,null,null,null,"PKS03 PVC DN150:5,50"]
[null,null,"PKS04 PVC DN150:4,40",null,4.4000000000000004,null,null,null,null,null,null,null,"PKS04 PVC DN150:4,40"]
[null,null,"PKS05 PVC DN150:4,40",null,4.4000000000000004,null,null,null,null,null,null,null,"PKS05 PVC DN150:4,40"]
[null,null,"PKS06 PVC DN150:6,00",null,6,null,null,null,null,null,null,null,"PKS06 PVC DN150:6,00"]
[null,null,"PKS07 PVC DN150:3,50",null,3.5,null,null,null,null,null,null,null,"PKS07 PVC DN150:3,50"]
[null,null,"PKS08 PVC DN150:5,10",null,5.0999999999999996,null,null,null,null,null,null,null,"PKS08 PVC DN150:5,10"]
[null,null,"PKS09 PVC DN150:4,90",null,4.9000000000000004,null,null,null,null,null,null,null,"PKS09 PVC DN150:4,90"]
[null,null,"PKS13 PVC DN150:4,40",null,4.4000000000000004,null,null,null,null,null,null,null,"PKS13 PVC DN150:4,40"]
[13,"877395122RT2","Montáž nalepovací tvar. z plastu na potrubí DN 400 včetně dodávky odbočky nalepovací PVC 400/160 mm","kus",9,null,{"$f":"E227*F227","v":0},6.3600000000000002E-3,{"$f":"E227*H227","v":5.7239999999999999E-2},0,{"$f":"E227*J227","v":0},null,null,null,2,null,null,null,null,null,null,null,null,null,null,null,1,1,1,null,null,null,null,null,null,null,null,null,null,null,null,null,null,null,null,null,null,null,null,null,null,1,{"$f":"IF(AZ227=1,G227,0)","v":0},{"$f":"IF(AZ227=2,G227,0)","v":0},{"$f":"IF(AZ227=3,G227,0)","v":0},{"$f":"IF(AZ227=4,G227,0)","v":0},{"$f":"IF(AZ227=5,G227,0)","v":0},null,null,null,null,null,null,null,null,null,null,null,null,null,null,null,null,null,null,null,null,null,1,1]
[null,null,"Položka je určena pro montáž nalepovací odbočné tvarovky na potrubí z kanalizačních trub z PP a PVC.",null,null,null,null,null,null,null,null,"Položka je určena pro montáž nalepovací odbočné tvarovky na potrubí z kanalizačních trub z PP a PVC.",null,null,3]
[null,null,"V položce montáže nalepovací odbočné tvarovky jsou zakalkulovány i náklady na dodání nalepovacích tvarovek.",null,null,null,null,null,null,null,null,"V položce montáže nalepovací odbočné tvarovky jsou zakalkulovány i náklady na dodání nalepovacích tvarovek.",null,null,3]
[null,null,"PKS na stávající stoce DN400:",null,0,null,null,null,null,null,null,null,"PKS na stávající stoce DN400:"]
[null,null,"PKS01 PVC DN150:1",null,1,null,null,null,null,null,null,null,"PKS01 PVC DN150:1"]
[null,null,"PKS02 PVC DN150:1",null,1,null,null,null,null,null,null,null,"PKS02 PVC DN150:1"]
[null,null,"PKS03 PVC DN150:1",null,1,null,null,null,null,null,null,null,"PKS03 PVC DN150:1"]
[null,null,"PKS04 PVC DN150:1",null,1,null,null,null,null,null,null,null,"PKS04 PVC DN150:1"]
[null,null,"PKS05 PVC DN150:1",null,1,null,null,null,null,null,null,null,"PKS05 PVC DN150:1"]
[null,null,"PKS06 PVC DN150:1",null,1,null,null,null,null,null,null,null,"PKS06 PVC DN150:1"]
[null,null,"PKS08 PVC DN150:1",null,1,null,null,null,null,null,null,null,"PKS08 PVC DN150:1"]
[null,null,"PKS09 PVC DN150:1",null,1,null,null,null,null,null,null,null,"PKS09 PVC DN150:1"]
[null,null,"PKS13 PVC DN150:1",null,1,null,null,null,null,null,null,null,"PKS13 PVC DN150:1"]
[14,"892571111R00","Zkouška těsnosti kanalizace DN do 200, vodou ","m",55.8,null,{"$f":"E240*F240","v":0},0,{"$f":"E240*H240","v":0},0,{"$f":"E240*J240","v":0},null,null,null,2,null,null,null,null,null,null,null,null,null,null,null,1,1,1,null,null,null,null,null,null,null,null,null,null,null,null,null,null,null,null,null,null,null,null,null,null,1,{"$f":"IF(AZ240=1,G240,0)","v":0},{"$f":"IF(AZ240=2,G240,0)","v":0},{"$f":"IF(AZ240=3,G240,0)","v":0},{"$f":"IF(AZ240=4,G240,0)","v":0},{"$f":"IF(AZ240=5,G240,0)","v":0},null,null,null,null,null,null,null,null,null,null,null,null,null,null,null,null,null,null,null,null,null,1,1]
[null,null,"V položce jsou zakalkulovány náklady na napuštění vodou a dodání vody pro zkoušku těsnosti.",null,null,null,null,null,null,null,null,"V položce jsou zakalkulovány náklady na napuštění vodou a dodání vody pro zkoušku těsnosti.",null,null,3]
[null,null,"Stoka JK PVC DN400:",null,0,null,null,null,null,null,null,null,"Stoka JK PVC DN400:"]
[null,null,"PKS na nové stoce DN400:",null,0,null,null,null,null,null,null,null,"PKS na nové stoce DN400:"]
[null,null,"PKS14 PVC DN150:4,40",null,4.4000000000000004,null,null,null,null,null,null,null,"PKS14 PVC DN150:4,40"]
[null,null,"PKS15 PVC DN150:4,40",null,4.4000000000000004,null,null,null,null,null,null,null,"PKS15 PVC DN150:4,40"]
[null,null,"PKS na stávající stoce DN400:",null,0,null,null,null,null,null,null,null,"PKS na stávající stoce DN400:"]
[null,null,"PKS01 PVC DN150:4,40",null,4.4000000000000004,null,null,null,null,null,null,null,"PKS01 PVC DN150:4,40"]
[null,null,"PKS02 PVC DN150:4,40",null,4.4000000000000004,null,null,null,null,null,null,null,"PKS02 PVC DN150:4,40"]
[null,null,"PKS03 PVC DN150:5,50",null,5.5,null,null,null,null,null,null,null,"PKS03 PVC DN150:5,50"]
[null,null,"PKS04 PVC DN150:4,40",null,4.4000000000000004,null,null,null,null,null,null,null,"PKS04 PVC DN150:4,40"]
[null,null,"PKS05 PVC DN150:4,40",null,4.4000000000000004,null,null,null,null,null,null,null,"PKS05 PVC DN150:4,40"]
[null,null,"PKS06 PVC DN150:6,00",null,6,null,null,null,null,null,null,null,"PKS06 PVC DN150:6,00"]
[null,null,"PKS07 PVC DN150:3,50",null,3.5,null,null,null,null,null,null,null,"PKS07 PVC DN150:3,50"]
[null,null,"PKS08 PVC DN150:5,10",null,5.0999999999999996,null,null,null,null,null,null,null,"PKS08 PVC DN150:5,10"]
[null,null,"PKS09 PVC DN150:4,90",null,4.9000000000000004,null,null,null,null,null,null,null,"PKS09 PVC DN150:4,90"]
[null,null,"PKS13 PVC DN150:4,40",null,4.4000000000000004,null,null,null,null,null,null,null,"PKS13 PVC DN150:4,40"]
[15,"892601121R00","Čištění kanalizační stoky do DN 200, do 15 m ","úsek",12,null,{"$f":"E257*F257","v":0},0,{"$f":"E257*H257","v":0},0,{"$f":"E257*J257","v":0},null,null,null,2,null,null,null,null,null,null,null,null,null,null,null,1,1,1,null,null,null,null,null,null,null,null,null,null,null,null,null,null,null,null,null,null,null,null,null,null,1,{"$f":"IF(AZ257=1,G257,0)","v":0},{"$f":"IF(AZ257=2,G257,0)","v":0},{"$f":"IF(AZ257=3,G257,0)","v":0},{"$f":"IF(AZ257=4,G257,0)","v":0},{"$f":"IF(AZ257=5,G257,0)","v":0},null,null,null,null,null,null,null,null,null,null,null,null,null,null,null,null,null,null,null,null,null,1,1]
[null,null,"V položce je zakalkulováno:",null,null,null,null,null,null,null,null,"V položce je zakalkulováno:",null,null,3]
[null,null,"a) otevření a uzavření revizních šachet a čisticích kusů",null,null,null,null,null,null,null,null,"a) otevření a uzavření revizních šachet a čisticích kusů",null,null,3]
[null,null,"b) natažení vysokotlakých hadic k místu odkud se bude kanalizace čistit",null,null,null,null,null,null,null,null,"b) natažení vysokotlakých hadic k místu odkud se bude kanalizace čistit",null,null,3]
[null,null,"c) vyčištění potrubí tlakovou vodou nebo motorovým pérem.",null,null,null,null,null,null,null,null,"c) vyčištění potrubí tlakovou vodou nebo motorovým pérem.",null,null,3]
[null,null,"Stoka JK PVC DN400:",null,0,null,null,null,null,null,null,null,"Stoka JK PVC DN400:"]
[null,null,"PKS na nové stoce DN400:",null,0,null,null,null,null,null,null,null,"PKS na nové stoce DN400:"]
[null,null,"PKS14 PVC DN150:1",null,1,null,null,null,null,null,null,null,"PKS14 PVC DN150:1"]
[null,null,"PKS15 PVC DN150:1",null,1,null,null,null,null,null,null,null,"PKS15 PVC DN150:1"]
[null,null,"PKS na stávající stoce DN400:",null,0,null,null,null,null,null,null,null,"PKS na stávající stoce DN400:"]
[null,null,"PKS01 PVC DN150:1",null,1,null,null,null,null,null,null,null,"PKS01 PVC DN150:1"]
[null,null,"PKS02 PVC DN150:1",null,1,null,null,null,null,null,null,null,"PKS02 PVC DN150:1"]
[null,null,"PKS03 PVC DN150:1",null,1,null,null,null,null,null,null,null,"PKS03 PVC DN150:1"]
[null,null,"PKS04 PVC DN150:1",null,1,null,null,null,null,null,null,null,"PKS04 PVC DN150:1"]
[null,null,"PKS05 PVC DN150:1",null,1,null,null,null,null,null,null,null,"PKS05 PVC DN150:1"]
[null,null,"PKS06 PVC DN150:1",null,1,null,null,null,null,null,null,null,"PKS06 PVC DN150:1"]
[null,null,"PKS07 PVC DN150:1",null,1,null,null,null,null,null,null,null,"PKS07 PVC DN150:1"]
[null,null,"PKS08 PVC DN150:1",null,1,null,null,null,null,null,null,null,"PKS08 PVC DN150:1"]
[null,null,"PKS09 PVC DN150:1",null,1,null,null,null,null,null,null,null,"PKS09 PVC DN150:1"]
[null,null,"PKS13 PVC DN150:1",null,1,null,null,null,null,null,null,null,"PKS13 PVC DN150:1"]
[16,"894432112R00","Osazení plastové šachty revizní prům.425 mm ","kus",12,null,{"$f":"E277*F277","v":0},0,{"$f":"E277*H277","v":0},0,{"$f":"E277*J277","v":0},null,null,null,2,null,null,null,null,null,null,null,null,null,null,null,1,1,1,null,null,null,null,null,null,null,null,null,null,null,null,null,null,null,null,null,null,null,null,null,null,1,{"$f":"IF(AZ277=1,G277,0)","v":0},{"$f":"IF(AZ277=2,G277,0)","v":0},{"$f":"IF(AZ277=3,G277,0)","v":0},{"$f":"IF(AZ277=4,G277,0)","v":0},{"$f":"IF(AZ277=5,G277,0)","v":0},null,null,null,null,null,null,null,null,null,null,null,null,null,null,null,null,null,null,null,null,null,1,1]
[null,null,"Položka je určena pro osazení plastových revizních šachet, tvořených dnem z PP nebo PE se vtoky a výtoky a šachtovou rourou korugovanou (zvlněnou) na připravený podklad. Dno z PP se používá pro potrubí o průměru 110 - 200 mm, dno z PE pro potrubí 250 - 400 mm.",null,null,null,null,null,null,null,null,"Položka je určena pro osazení plastových revizních šachet, tvořených dnem z PP nebo PE se vtoky a výtoky a šachtovou rourou korugovanou (zvlněnou) na připravený podklad. Dno z PP se používá pro potrubí o průměru 110 - 200 mm, dno z PE pro potrubí 250 - 400 mm.",null,null,3]
[null,null,"V položce nejsou zakalkulovány náklady na dodání plastových dílců; dílce se oceňují ve specifikaci. Ztratné se nedoporučuje.",null,null,null,null,null,null,null,null,"V položce nejsou zakalkulovány náklady na dodání plastových dílců; dílce se oceňují ve specifikaci. Ztratné se nedoporučuje.",null,null,3]
[null,null,"Stoka JK PVC DN400:",null,0,null,null,null,null,null,null,null,"Stoka JK PVC DN400:"]
[null,null,"PKS na nové stoce DN400:",null,0,null,null,null,null,null,null,null,"PKS na nové stoce DN400:"]
[null,null,"PKS14 PVC DN150:1",null,1,null,null,null,null,null,null,null,"PKS14 PVC DN150:1"]
[null,null,"PKS15 PVC DN150:1",null,1,null,null,null,null,null,null,null,"PKS15 PVC DN150:1"]
[null,null,"PKS na stávající stoce DN400:",null,0,null,null,null,null,null,null,null,"PKS na stávající stoce DN400:"]
[null,null,"PKS01 PVC DN150:1",null,1,null,null,null,null,null,null,null,"PKS01 PVC DN150:1"]
[null,null,"PKS02 PVC DN150:1",null,1,null,null,null,null,null,null,null,"PKS02 PVC DN150:1"]
[null,null,"PKS03 PVC DN150:1",null,1,null,null,null,null,null,null,null,"PKS03 PVC DN150:1"]
[null,null,"PKS04 PVC DN150:1",null,1,null,null,null,null,null,null,null,"PKS04 PVC DN150:1"]
[null,null,"PKS05 PVC DN150:1",null,1,null,null,null,null,null,null,null,"PKS05 PVC DN150:1"]
[null,null,"PKS06 PVC DN150:1",null,1,null,null,null,null,null,null,null,"PKS06 PVC DN150:1"]
[null,null,"PKS07 PVC DN150:1",null,1,null,null,null,null,null,null,null,"PKS07 PVC DN150:1"]
[null,null,"PKS08 PVC DN150:1",null,1,null,null,null,null,null,null,null,"PKS08 PVC DN150:1"]
[null,null,"PKS09 PVC DN150:1",null,1,null,null,null,null,null,null,null,"PKS09 PVC DN150:1"]
[null,null,"PKS13 PVC DN150:1",null,1,null,null,null,null,null,null,null,"PKS13 PVC DN150:1"]
[17,"286111903","Trubka kanalizační PVC SN min. 12 DN 150","kus",60.976199999999999,null,{"$f":"E295*F295","v":0},3.0599999999999999E-2,{"$f":"E295*H295","v":1.8658717199999999},null,{"$f":"E295*J295","v":0},null,null,null,2,null,null,null,null,null,null,null,null,null,null,null,3,1,286111903,null,null,null,null,null,null,null,null,null,null,null,null,null,null,null,null,null,null,null,null,null,null,1,{"$f":"IF(AZ295=1,G295,0)","v":0},{"$f":"IF(AZ295=2,G295,0)","v":0},{"$f":"IF(AZ295=3,G295,0)","v":0},{"$f":"IF(AZ295=4,G295,0)","v":0},{"$f":"IF(AZ295=5,G295,0)","v":0},null,null,null,null,null,null,null,null,null,null,null,null,null,null,null,null,null,null,null,null,null,3,1]
[null,null,"Jedná  se  o  plnostěnné kanalizační trubky DN 150 – DN 400, min. SN 12 kN/m2 , zvenčí  i  zevnitř  hladké. Jsou  opatřeny hrdlem,  v  němž  je  vložen vysoce  elastický  jazýčkový  kroužek.  konce  trubek  (dříků)  jsou opatřeny  zkosením  pod  úhlem  15°.  Způsob  použití  trubek  je  „U“  dle  normy  ČSN  EN  1401-1, tj. mimo budovy. Spolehlivá  funkce  těsnění  je  jištěna  výztužným  kroužkem  z  elastomeru.  Je  tak  zamezeno  vypad-nutí nebo vytlačení kroužku při manipulaci a montáži. Tento systém zaručuje při správné montáži ",null,null,null,null,null,null,null,null,"Jedná  se  o  plnostěnné kanalizační trubky DN 150 – DN 400, min. SN 12 kN/m2 , zvenčí  i  zevnitř  hladké. Jsou  opatřeny hrdlem,  v  němž  je  vložen vysoce  elastický  jazýčkový  kroužek.  konce  trubek  (dříků)  jsou opatřeny  zkosením  pod  úhlem  15°.  Způsob  použití  trubek  je  „U“  dle  normy  ČSN  EN  1401-1, tj. mimo budovy. Spolehlivá  funkce  těsnění  je  jištěna  výztužným  kroužkem  z  elastomeru.  Je  tak  zamezeno  vypad-nutí nebo vytlačení kroužku při manipulaci a montáži. Tento systém zaručuje při správné montáži ",null,null,3]
[null,null,"dokonalou  těsnost  do  výšky  vodního  sloupce  5  metrů.",null,null,null,null,null,null,null,null,"dokonalou  těsnost  do  výšky  vodního  sloupce  5  metrů.",null,null,3]
[null,null,"Teplota při pokládce: min. -10 °C, max. 50 °C",null,null,null,null,null,null,null,null,"Teplota při pokládce: min. -10 °C, max. 50 °C",null,null,3]
[null,null,"Max. teplota média: trvale do 40 °C, krátkodobě do 60 °C",null,null,null,null,null,null,null,null,"Max. teplota média: trvale do 40 °C, krátkodobě do 60 °C",null,null,3]
[null,null,"Orientační výška krytí: min. 0,5 m, max. 10 m",null,null,null,null,null,null,null,null,"Orientační výška krytí: min. 0,5 m, max. 10 m",null,null,3]
[null,null,"Max. rychlost média: 12 m/s",null,null,null,null,null,null,null,null,"Max. rychlost média: 12 m/s",null,null,3]
[null,null,"Stoka JK PVC DN400:",null,0,null,null,null,null,null,null,null,"Stoka JK PVC DN400:"]
[null,null,"PKS na nové stoce DN400:",null,0,null,null,null,null,null,null,null,"PKS na nové stoce DN400:"]
[null,null,"PKS14 PVC DN150:4,40*1,093",null,4.8091999999999997,null,null,null,null,null,null,null,"PKS14 PVC DN150:4,40*1,093"]
[null,null,"PKS15 PVC DN150:4,40*1,09",null,4.7960000000000003,null,null,null,null,null,null,null,"PKS15 PVC DN150:4,40*1,09"]
[null,null,"PKS na stávající stoce DN400:",null,0,null,null,null,null,null,null,null,"PKS na stávající stoce DN400:"]
[null,null,"PKS01 PVC DN150:4,40*1,093",null,4.8091999999999997,null,null,null,null,null,null,null,"PKS01 PVC DN150:4,40*1,093"]
[null,null,"PKS02 PVC DN150:4,40*1,093",null,4.8091999999999997,null,null,null,null,null,null,null,"PKS02 PVC DN150:4,40*1,093"]
[null,null,"PKS03 PVC DN150:5,50*1,093",null,6.0114999999999998,null,null,null,null,null,null,null,"PKS03 PVC DN150:5,50*1,093"]
[null,null,"PKS04 PVC DN150:4,40*1,093",null,4.8091999999999997,null,null,null,null,null,null,null,"PKS04 PVC DN150:4,40*1,093"]
[null,null,"PKS05 PVC DN150:4,40*1,093",null,4.8091999999999997,null,null,null,null,null,null,null,"PKS05 PVC DN150:4,40*1,093"]
[null,null,"PKS06 PVC DN150:6,00*1,093",null,6.5579999999999998,null,null,null,null,null,null,null,"PKS06 PVC DN150:6,00*1,093"]
[null,null,"PKS07 PVC DN150:3,50*1,093",null,3.8254999999999999,null,null,null,null,null,null,null,"PKS07 PVC DN150:3,50*1,093"]
[null,null,"PKS08 PVC DN150:5,10*1,093",null,5.5743,null,null,null,null,null,null,null,"PKS08 PVC DN150:5,10*1,093"]
[null,null,"PKS09 PVC DN150:4,90*1,093",null,5.3556999999999997,null,null,null,null,null,null,null,"PKS09 PVC DN150:4,90*1,093"]
[null,null,"PKS13 PVC DN150:4,40*1,093",null,4.8091999999999997,null,null,null,null,null,null,null,"PKS13 PVC DN150:4,40*1,093"]
[18,"286506003","Koleno kanalizační PVC SDR 34 DN 150/45°","kus",35.840000000000003,null,{"$f":"E317*F317","v":0},1.2700000000000001E-3,{"$f":"E317*H317","v":4.551680000000001E-2},null,{"$f":"E317*J317","v":0},null,null,null,2,null,null,null,null,null,null,null,null,null,null,null,3,1,286506003,null,null,null,null,null,null,null,null,null,null,null,null,null,null,null,null,null,null,null,null,null,null,1,{"$f":"IF(AZ317=1,G317,0)","v":0},{"$f":"IF(AZ317=2,G317,0)","v":0},{"$f":"IF(AZ317=3,G317,0)","v":0},{"$f":"IF(AZ317=4,G317,0)","v":0},{"$f":"IF(AZ317=5,G317,0)","v":0},null,null,null,null,null,null,null,null,null,null,null,null,null,null,null,null,null,null,null,null,null,3,1]
[null,null,"Tvarovky kanalizačního systému PVC SDR 34",null,null,null,null,null,null,null,null,"Tvarovky kanalizačního systému PVC SDR 34",null,null,3]
[null,null,"Teplota při pokládce: min. -10 °C, max. 50 °C",null,null,null,null,null,null,null,null,"Teplota při pokládce: min. -10 °C, max. 50 °C",null,null,3]
[null,null,"Max. teplota média: trvale do 40 °C, krátkodobě do 60 °C",null,null,null,null,null,null,null,null,"Max. teplota média: trvale do 40 °C, krátkodobě do 60 °C",null,null,3]
[null,null,"Orientační výška krytí: min. 0,5 m, max. 10 m",null,null,null,null,null,null,null,null,"Orientační výška krytí: min. 0,5 m, max. 10 m",null,null,3]
[null,null,"Max. rychlost média: 12 m/s",null,null,null,null,null,null,null,null,"Max. rychlost média: 12 m/s",null,null,3]
[null,null,"Stoka JK PVC DN400:",null,0,null,null,null,null,null,null,null,"Stoka JK PVC DN400:"]
[null,null,"PKS na nové stoce DN400:",null,0,null,null,null,null,null,null,null,"PKS na nové stoce DN400:"]
[null,null,"PKS14 PVC DN150:3*1,015",null,3.0449999999999999,null,null,null,null,null,null,null,"PKS14 PVC DN150:3*1,015"]
[null,null,"PKS15 PVC DN150:3*1,015",null,3.0449999999999999,null,null,null,null,null,null,null,"PKS15 PVC DN150:3*1,015"]
[null,null,"PKS na stávající stoce DN400:",null,0,null,null,null,null,null,null,null,"PKS na stávající stoce DN400:"]
[null,null,"PKS01 PVC DN150:3*1,015",null,3.0449999999999999,null,null,null,null,null,null,null,"PKS01 PVC DN150:3*1,015"]
[null,null,"PKS02 PVC DN150:3*1,015",null,3.0449999999999999,null,null,null,null,null,null,null,"PKS02 PVC DN150:3*1,015"]
[null,null,"PKS03 PVC DN150:3*1,05",null,3.15,null,null,null,null,null,null,null,"PKS03 PVC DN150:3*1,05"]
[null,null,"PKS04 PVC DN150:3*1,015",null,3.0449999999999999,null,null,null,null,null,null,null,"PKS04 PVC DN150:3*1,015"]
[null,null,"PKS05 PVC DN150:3*1,05",null,3.15,null,null,null,null,null,null,null,"PKS05 PVC DN150:3*1,05"]
[null,null,"PKS06 PVC DN150:3*1,05",null,3.15,null,null,null,null,null,null,null,"PKS06 PVC DN150:3*1,05"]
[null,null,"PKS07 PVC DN150:2*1,015",null,2.0299999999999998,null,null,null,null,null,null,null,"PKS07 PVC DN150:2*1,015"]
[null,null,"PKS08 PVC DN150:3*1,015",null,3.0449999999999999,null,null,null,null,null,null,null,"PKS08 PVC DN150:3*1,015"]
[null,null,"PKS09 PVC DN150:3*1,015",null,3.0449999999999999,null,null,null,null,null,null,null,"PKS09 PVC DN150:3*1,015"]
[null,null,"PKS13 PVC DN150:3*1,015",null,3.0449999999999999,null,null,null,null,null,null,null,"PKS13 PVC DN150:3*1,015"]
[19,"28697065.A","Kus prodlužovací DN 315 délka 1000 mm","kus",12.18,null,{"$f":"E338*F338","v":0},8.3999999999999995E-3,{"$f":"E338*H338","v":0.10231199999999999},null,{"$f":"E338*J338","v":0},null,null,null,2,null,null,null,null,null,null,null,null,null,null,null,3,1,"28697065.A",null,null,null,null,null,null,null,null,null,null,null,null,null,null,null,null,null,null,null,null,null,null,1,{"$f":"IF(AZ338=1,G338,0)","v":0},{"$f":"IF(AZ338=2,G338,0)","v":0},{"$f":"IF(AZ338=3,G338,0)","v":0},{"$f":"IF(AZ338=4,G338,0)","v":0},{"$f":"IF(AZ338=5,G338,0)","v":0},null,null,null,null,null,null,null,null,null,null,null,null,null,null,null,null,null,null,null,null,null,3,1]
[null,null,"Stoka JK PVC DN400:",null,0,null,null,null,null,null,null,null,"Stoka JK PVC DN400:"]
[null,null,"PKS na nové stoce DN400:",null,0,null,null,null,null,null,null,null,"PKS na nové stoce DN400:"]
[null,null,"PKS14 PVC DN150:1*1,015",null,1.0149999999999999,null,null,null,null,null,null,null,"PKS14 PVC DN150:1*1,015"]
[null,null,"PKS15 PVC DN150:1*1,015",null,1.0149999999999999,null,null,null,null,null,null,null,"PKS15 PVC DN150:1*1,015"]
[null,null,"PKS na stávající stoce DN400:",null,0,null,null,null,null,null,null,null,"PKS na stávající stoce DN400:"]
[null,null,"PKS01 PVC DN150:1*1,015",null,1.0149999999999999,null,null,null,null,null,null,null,"PKS01 PVC DN150:1*1,015"]
[null,null,"PKS02 PVC DN150:1*1,015",null,1.0149999999999999,null,null,null,null,null,null,null,"PKS02 PVC DN150:1*1,015"]
[null,null,"PKS03 PVC DN150:1*1,015",null,1.0149999999999999,null,null,null,null,null,null,null,"PKS03 PVC DN150:1*1,015"]
[null,null,"PKS04 PVC DN150:1*1,015",null,1.0149999999999999,null,null,null,null,null,null,null,"PKS04 PVC DN150:1*1,015"]
[null,null,"PKS05 PVC DN150:1*1,015",null,1.0149999999999999,null,null,null,null,null,null,null,"PKS05 PVC DN150:1*1,015"]
[null,null,"PKS06 PVC DN150:1*1,015",null,1.0149999999999999,null,null,null,null,null,null,null,"PKS06 PVC DN150:1*1,015"]
[null,null,"PKS07 PVC DN150:1*1,015",null,1.0149999999999999,null,null,null,null,null,null,null,"PKS07 PVC DN150:1*1,015"]
[null,null,"PKS08 PVC DN150:1*1,015",null,1.0149999999999999,null,null,null,null,null,null,null,"PKS08 PVC DN150:1*1,015"]
[null,null,"PKS09 PVC DN150:1*1,015",null,1.0149999999999999,null,null,null,null,null,null,null,"PKS09 PVC DN150:1*1,015"]
[null,null,"PKS13 PVC DN150:1*1,015",null,1.0149999999999999,null,null,null,null,null,null,null,"PKS13 PVC DN150:1*1,015"]
[20,"28697068.A","Manžeta teleskopická DN 400/315 z EPDM","kus",12.18,null,{"$f":"E354*F354","v":0},2.15E-3,{"$f":"E354*H354","v":2.6186999999999998E-2},null,{"$f":"E354*J354","v":0},null,null,null,2,null,null,null,null,null,null,null,null,null,null,null,3,1,"28697068.A",null,null,null,null,null,null,null,null,null,null,null,null,null,null,null,null,null,null,null,null,null,null,1,{"$f":"IF(AZ354=1,G354,0)","v":0},{"$f":"IF(AZ354=2,G354,0)","v":0},{"$f":"IF(AZ354=3,G354,0)","v":0},{"$f":"IF(AZ354=4,G354,0)","v":0},{"$f":"IF(AZ354=5,G354,0)","v":0},null,null,null,null,null,null,null,null,null,null,null,null,null,null,null,null,null,null,null,null,null,3,1]
[null,null,"Stoka JK PVC DN400:",null,0,null,null,null,null,null,null,null,"Stoka JK PVC DN400:"]
[null,null,"PKS na nové stoce DN400:",null,0,null,null,null,null,null,null,null,"PKS na nové stoce DN400:"]
[null,null,"PKS14 PVC DN150:1*1,015",null,1.0149999999999999,null,null,null,null,null,null,null,"PKS14 PVC DN150:1*1,015"]
[null,null,"PKS15 PVC DN150:1*1,015",null,1.0149999999999999,null,null,null,null,null,null,null,"PKS15 PVC DN150:1*1,015"]
[null,null,"PKS na stávající stoce DN400:",null,0,null,null,null,null,null,null,null,"PKS na stávající stoce DN400:"]
[null,null,"PKS01 PVC DN150:1*1,015",null,1.0149999999999999,null,null,null,null,null,null,null,"PKS01 PVC DN150:1*1,015"]
[null,null,"PKS02 PVC DN150:1*1,015",null,1.0149999999999999,null,null,null,null,null,null,null,"PKS02 PVC DN150:1*1,015"]
[null,null,"PKS03 PVC DN150:1*1,015",null,1.0149999999999999,null,null,null,null,null,null,null,"PKS03 PVC DN150:1*1,015"]
[null,null,"PKS04 PVC DN150:1*1,015",null,1.0149999999999999,null,null,null,null,null,null,null,"PKS04 PVC DN150:1*1,015"]
[null,null,"PKS05 PVC DN150:1*1,015",null,1.0149999999999999,null,null,null,null,null,null,null,"PKS05 PVC DN150:1*1,015"]
[null,null,"PKS06 PVC DN150:1*1,015",null,1.0149999999999999,null,null,null,null,null,null,null,"PKS06 PVC DN150:1*1,015"]
[null,null,"PKS07 PVC DN150:1*1,015",null,1.0149999999999999,null,null,null,null,null,null,null,"PKS07 PVC DN150:1*1,015"]
[null,null,"PKS08 PVC DN150:1*1,015",null,1.0149999999999999,null,null,null,null,null,null,null,"PKS08 PVC DN150:1*1,015"]
[null,null,"PKS09 PVC DN150:1*1,015",null,1.0149999999999999,null,null,null,null,null,null,null,"PKS09 PVC DN150:1*1,015"]
[null,null,"PKS13 PVC DN150:1*1,015",null,1.0149999999999999,null,null,null,null,null,null,null,"PKS13 PVC DN150:1*1,015"]
[21,"286971471","Těsnění šachtové roury a teleskopu 425 mm","kus",12.18,null,{"$f":"E370*F370","v":0},1E-3,{"$f":"E370*H370","v":1.218E-2},null,{"$f":"E370*J370","v":0},null,null,null,2,null,null,null,null,null,null,null,null,null,null,null,3,1,286971471,null,null,null,null,null,null,null,null,null,null,null,null,null,null,null,null,null,null,null,null,null,null,1,{"$f":"IF(AZ370=1,G370,0)","v":0},{"$f":"IF(AZ370=2,G370,0)","v":0},{"$f":"IF(AZ370=3,G370,0)","v":0},{"$f":"IF(AZ370=4,G370,0)","v":0},{"$f":"IF(AZ370=5,G370,0)","v":0},null,null,null,null,null,null,null,null,null,null,null,null,null,null,null,null,null,null,null,null,null,3,1]
[null,null,"Stoka JK PVC DN400:",null,0,null,null,null,null,null,null,null,"Stoka JK PVC DN400:"]
[null,null,"PKS na nové stoce DN400:",null,0,null,null,null,null,null,null,null,"PKS na nové stoce DN400:"]
[null,null,"PKS14 PVC DN150:1*1,015",null,1.0149999999999999,null,null,null,null,null,null,null,"PKS14 PVC DN150:1*1,015"]
[null,null,"PKS15 PVC DN150:1*1,015",null,1.0149999999999999,null,null,null,null,null,null,null,"PKS15 PVC DN150:1*1,015"]
[null,null,"PKS na stávající stoce DN400:",null,0,null,null,null,null,null,null,null,"PKS na stávající stoce DN400:"]
[null,null,"PKS01 PVC DN150:1*1,015",null,1.0149999999999999,null,null,null,null,null,null,null,"PKS01 PVC DN150:1*1,015"]
[null,null,"PKS02 PVC DN150:1*1,015",null,1.0149999999999999,null,null,null,null,null,null,null,"PKS02 PVC DN150:1*1,015"]
[null,null,"PKS03 PVC DN150:1*1,015",null,1.0149999999999999,null,null,null,null,null,null,null,"PKS03 PVC DN150:1*1,015"]
[null,null,"PKS04 PVC DN150:1*1,015",null,1.0149999999999999,null,null,null,null,null,null,null,"PKS04 PVC DN150:1*1,015"]
[null,null,"PKS05 PVC DN150:1*1,015",null,1.0149999999999999,null,null,null,null,null,null,null,"PKS05 PVC DN150:1*1,015"]
[null,null,"PKS06 PVC DN150:1*1,015",null,1.0149999999999999,null,null,null,null,null,null,null,"PKS06 PVC DN150:1*1,015"]
[null,null,"PKS07 PVC DN150:1*1,015",null,1.0149999999999999,null,null,null,null,null,null,null,"PKS07 PVC DN150:1*1,015"]
[null,null,"PKS08 PVC DN150:1*1,015",null,1.0149999999999999,null,null,null,null,null,null,null,"PKS08 PVC DN150:1*1,015"]
[null,null,"PKS09 PVC DN150:1*1,015",null,1.0149999999999999,null,null,null,null,null,null,null,"PKS09 PVC DN150:1*1,015"]
[null,null,"PKS13 PVC DN150:1*1,015",null,1.0149999999999999,null,null,null,null,null,null,null,"PKS13 PVC DN150:1*1,015"]
[22,"286971491","Roura šachtová korugovaná bez hrdla 400/2000 mm","kus",12.18,null,{"$f":"E386*F386","v":0},8.0599999999999995E-3,{"$f":"E386*H386","v":9.8170799999999989E-2},null,{"$f":"E386*J386","v":0},null,null,null,2,null,null,null,null,null,null,null,null,null,null,null,3,1,286971491,null,null,null,null,null,null,null,null,null,null,null,null,null,null,null,null,null,null,null,null,null,null,1,{"$f":"IF(AZ386=1,G386,0)","v":0},{"$f":"IF(AZ386=2,G386,0)","v":0},{"$f":"IF(AZ386=3,G386,0)","v":0},{"$f":"IF(AZ386=4,G386,0)","v":0},{"$f":"IF(AZ386=5,G386,0)","v":0},null,null,null,null,null,null,null,null,null,null,null,null,null,null,null,null,null,null,null,null,null,3,1]
[null,null,"Stoka JK PVC DN400:",null,0,null,null,null,null,null,null,null,"Stoka JK PVC DN400:"]
[null,null,"PKS na nové stoce DN400:",null,0,null,null,null,null,null,null,null,"PKS na nové stoce DN400:"]
[null,null,"PKS14 PVC DN150:1*1,015",null,1.0149999999999999,null,null,null,null,null,null,null,"PKS14 PVC DN150:1*1,015"]
[null,null,"PKS15 PVC DN150:1*1,015",null,1.0149999999999999,null,null,null,null,null,null,null,"PKS15 PVC DN150:1*1,015"]
[null,null,"PKS na stávající stoce DN400:",null,0,null,null,null,null,null,null,null,"PKS na stávající stoce DN400:"]
[null,null,"PKS01 PVC DN150:1*1,015",null,1.0149999999999999,null,null,null,null,null,null,null,"PKS01 PVC DN150:1*1,015"]
[null,null,"PKS02 PVC DN150:1*1,015",null,1.0149999999999999,null,null,null,null,null,null,null,"PKS02 PVC DN150:1*1,015"]
[null,null,"PKS03 PVC DN150:1*1,015",null,1.0149999999999999,null,null,null,null,null,null,null,"PKS03 PVC DN150:1*1,015"]
[null,null,"PKS04 PVC DN150:1*1,015",null,1.0149999999999999,null,null,null,null,null,null,null,"PKS04 PVC DN150:1*1,015"]
[null,null,"PKS05 PVC DN150:1*1,015",null,1.0149999999999999,null,null,null,null,null,null,null,"PKS05 PVC DN150:1*1,015"]
[null,null,"PKS06 PVC DN150:1*1,015",null,1.0149999999999999,null,null,null,null,null,null,null,"PKS06 PVC DN150:1*1,015"]
[null,null,"PKS07 PVC DN150:1*1,015",null,1.0149999999999999,null,null,null,null,null,null,null,"PKS07 PVC DN150:1*1,015"]
[null,null,"PKS08 PVC DN150:1*1,015",null,1.0149999999999999,null,null,null,null,null,null,null,"PKS08 PVC DN150:1*1,015"]
[null,null,"PKS09 PVC DN150:1*1,015",null,1.0149999999999999,null,null,null,null,null,null,null,"PKS09 PVC DN150:1*1,015"]
[null,null,"PKS13 PVC DN150:1*1,015",null,1.0149999999999999,null,null,null,null,null,null,null,"PKS13 PVC DN150:1*1,015"]
[23,"55243064.A","Poklop litina 425/40 t kruhový do teleskopu","kus",12,null,{"$f":"E402*F402","v":0},5.5E-2,{"$f":"E402*H402","v":0.66},null,{"$f":"E402*J402","v":0},null,null,null,2,null,null,null,null,null,null,null,null,null,null,null,3,1,"55243064.A",null,null,null,null,null,null,null,null,null,null,null,null,null,null,null,null,null,null,null,null,null,null,1,{"$f":"IF(AZ402=1,G402,0)","v":0},{"$f":"IF(AZ402=2,G402,0)","v":0},{"$f":"IF(AZ402=3,G402,0)","v":0},{"$f":"IF(AZ402=4,G402,0)","v":0},{"$f":"IF(AZ402=5,G402,0)","v":0},null,null,null,null,null,null,null,null,null,null,null,null,null,null,null,null,null,null,null,null,null,3,1]
[null,null,"Stoka JK PVC DN400:",null,0,null,null,null,null,null,null,null,"Stoka JK PVC DN400:"]
[null,null,"PKS na nové stoce DN400:",null,0,null,null,null,null,null,null,null,"PKS na nové stoce DN400:"]
[null,null,"PKS14 PVC DN150:1",null,1,null,null,null,null,null,null,null,"PKS14 PVC DN150:1"]
[null,null,"PKS15 PVC DN150:1",null,1,null,null,null,null,null,null,null,"PKS15 PVC DN150:1"]
[null,null,"PKS na stávající stoce DN400:",null,0,null,null,null,null,null,null,null,"PKS na stávající stoce DN400:"]
[null,null,"PKS01 PVC DN150:1",null,1,null,null,null,null,null,null,null,"PKS01 PVC DN150:1"]
[null,null,"PKS02 PVC DN150:1",null,1,null,null,null,null,null,null,null,"PKS02 PVC DN150:1"]
[null,null,"PKS03 PVC DN150:1",null,1,null,null,null,null,null,null,null,"PKS03 PVC DN150:1"]
[null,null,"PKS04 PVC DN150:1",null,1,null,null,null,null,null,null,null,"PKS04 PVC DN150:1"]
[null,null,"PKS05 PVC DN150:1",null,1,null,null,null,null,null,null,null,"PKS05 PVC DN150:1"]
[null,null,"PKS06 PVC DN150:1",null,1,null,null,null,null,null,null,null,"PKS06 PVC DN150:1"]
[null,null,"PKS07 PVC DN150:1",null,1,null,null,null,null,null,null,null,"PKS07 PVC DN150:1"]
[null,null,"PKS08 PVC DN150:1",null,1,null,null,null,null,null,null,null,"PKS08 PVC DN150:1"]
[null,null,"PKS09 PVC DN150:1",null,1,null,null,null,null,null,null,null,"PKS09 PVC DN150:1"]
[null,null,"PKS13 PVC DN150:1",null,1,null,null,null,null,null,null,null,"PKS13 PVC DN150:1"]
[null,"Celkem za","8 Trubní vedení",null,null,null,{"$f":"SUM(G209:G417)","v":0},null,{"$f":"SUM(I209:I417)","v":2.8730583200000002},null,{"$f":"SUM(K209:K417)","v":0},null,null,null,4,null,null,null,null,null,null,null,null,null,null,null,null,null,null,null,null,null,null,null,null,null,null,null,null,null,null,null,null,null,null,null,null,null,null,null,null,null,{"$f":"SUM(BA209:BA417)","v":0},{"$f":"SUM(BB209:BB417)","v":0},{"$f":"SUM(BC209:BC417)","v":0},{"$f":"SUM(BD209:BD417)","v":0},{"$f":"SUM(BE209:BE417)","v":0}]
["Díl:","99","Staveništní přesun hmot",null,null,null,null,null,null,null,null,null,null,null,1]
[24,"998276101R00","Přesun hmot, trubní vedení plastová, otevř. výkop ","t",118.95776366,null,{"$f":"E420*F420","v":0},0,{"$f":"E420*H420","v":0},null,{"$f":"E420*J420","v":0},null,null,null,2,null,null,null,null,null,null,null,null,null,null,null,7,1,2,null,null,null,null,null,null,null,null,null,null,null,null,null,null,null,null,null,null,null,null,null,null,1,{"$f":"IF(AZ420=1,G420,0)","v":0},{"$f":"IF(AZ420=2,G420,0)","v":0},{"$f":"IF(AZ420=3,G420,0)","v":0},{"$f":"IF(AZ420=4,G420,0)","v":0},{"$f":"IF(AZ420=5,G420,0)","v":0},null,null,null,null,null,null,null,null,null,null,null,null,null,null,null,null,null,null,null,null,null,7,1]
[null,null,"Položka je určena pro trubní vedení (vodovod nebo kanalizace) hloubené nebo ražené z trub z plastických hmot nebo sklolaminátových včetně drobných objektů. Platnost položky je vymezena pro nejmenší skladovací plochu 50 m2 + 1,30 m2/t, pro největší dopravní vzdálenost 15 m od hrany výkopu na povrchu nebo 15 m od okraje šachty k těžišti skládek na povrchu. ",null,null,null,null,null,null,null,null,"Položka je určena pro trubní vedení (vodovod nebo kanalizace) hloubené nebo ražené z trub z plastických hmot nebo sklolaminátových včetně drobných objektů. Platnost položky je vymezena pro nejmenší skladovací plochu 50 m2 + 1,30 m2/t, pro největší dopravní vzdálenost 15 m od hrany výkopu na povrchu nebo 15 m od okraje šachty k těžišti skládek na povrchu. ",null,null,3]
[null,"Celkem za","99 Staveništní přesun hmot",null,null,null,{"$f":"SUM(G419:G421)","v":0},null,{"$f":"SUM(I419:I421)","v":0},null,{"$f":"SUM(K419:K421)","v":0},null,null,null,4,null,null,null,null,null,null,null,null,null,null,null,null,null,null,null,null,null,null,null,null,null,null,null,null,null,null,null,null,null,null,null,null,null,null,null,null,null,{"$f":"SUM(BA419:BA421)","v":0},{"$f":"SUM(BB419:BB421)","v":0},{"$f":"SUM(BC419:BC421)","v":0},{"$f":"SUM(BD419:BD421)","v":0},{"$f":"SUM(BE419:BE421)","v":0}]

{"sheet":"305 3236305 KL","index":25,"n_rows":45,"n_cols":8,"rows_kept":45,"cut":false,"hidden":false,"merged":[[22,0,22,1],[7,2,7,4],[8,2,8,4],[9,2,9,4],[10,2,10,4],[11,2,11,4],[50,1,50,6],[29,5,29,6],[30,5,30,6],[31,5,31,6],[32,5,32,6],[33,5,33,6],[36,1,44,6],[45,1,45,6],[46,1,46,6],[47,1,47,6],[48,1,48,6],[49,1,49,6]]}
["POLOŽKOVÝ ROZPOČET"]
["Rozpočet",null,"3236/305","Odvodnění komunikace",null,"JKSO ","827.29.A2"]
[]
["Objekt",null,null,null,null,"SKP "]
["305",null,"Odvodnění komunikace",null,null,"Měrná jednotka","m"]
["Stavba",null,null,null,null,"Počet jednotek",0]
["3236",null,"Bytová zóna Hruštice - Károvsko - Etapa VII.",null,null,"Náklady na m.j.",{"$f":"IF(G6=0,,ROUND((F30+F32)/G6,1))","v":0}]
["Projektant",null,"PROFES PROJEKT spol.s r.o.",null,null,"Typ rozpočtu"]
["Zpracovatel projektu"]
["Objednatel",null,"Město TURNOV"]
["Dodavatel",null,".",null,null,"Zakázkové číslo "]
["Rozpočtoval",null,null,null,null,"Počet listů"]
["ROZPOČTOVÉ NÁKLADY"]
["Základní rozpočtové náklady"]
[null,"HSV celkem",{"$f":"'305 3236305 Rek'!E12","v":0}]
["Z","PSV celkem",{"$f":"'305 3236305 Rek'!F12","v":0}]
["R","M práce celkem",{"$f":"'305 3236305 Rek'!H12","v":0}]
["N","M dodávky celkem",{"$f":"'305 3236305 Rek'!G12","v":0}]
["ZRN celkem",null,{"$f":"SUM(C15:C18)","v":0}]
[]
["HZS",null,{"$f":"'305 3236305 Rek'!I12","v":0}]
["ZRN+HZS",null,{"$f":"C19+C21","v":0}]
["ZRN+ost.náklady+HZS",null,{"$f":"C22+G23","v":0}]
["Vypracoval",null,null,"Za zhotovitele",null,"Za objednatele"]
["Jméno :",null,null,"Jméno :",null,"Jméno :"]
["Datum :",null,null,"Datum :",null,"Datum :"]
[]
["Podpis :",null,null,"Podpis:",null,"Podpis:"]
[]
["Základ pro DPH",null,21,"%  ",null,{"$f":"C23-F32","v":0}]
["DPH",null,{"$f":"C30","v":21},"% ",null,{"$f":"ROUND(PRODUCT(F30,C31/100),0)","v":0}]
["Základ pro DPH",null,0,"% ",null,0]
["DPH",null,{"$f":"C32","v":0},"% ",null,{"$f":"ROUND(PRODUCT(F32,C33/100),0)","v":0}]
["CENA ZA OBJEKT CELKEM",null,null,null,null,{"$f":"ROUND(SUM(F30:F33),0)","v":0}]
[]
["Poznámka :",null,null,null,null,null,null," "]
[null,null,null,null,null,null,null," "]
[null,null,null,null,null,null,null," "]
[null,null,null,null,null,null,null," "]
[null,null,null,null,null,null,null," "]
[null,null,null,null,null,null,null," "]
[null,null,null,null,null,null,null," "]
[null,null,null,null,null,null,null," "]
[null,null,null,null,null,null,null," "]
[null,null,null,null,null,null,null," "]

{"sheet":"305 3236305 Rek","index":26,"n_rows":12,"n_cols":9,"rows_kept":12,"cut":false,"hidden":false,"merged":[[0,0,0,1],[1,0,1,1],[1,6,1,8]]}
["Stavba :",null,"3236 Bytová zóna Hruštice - Károvsko - Etapa VII.",null,null,null,"Rozpočet :","3236/305"]
["Objekt :",null,"305 Odvodnění komunikace",null,null,null,"Odvodnění komunikace"]
[]
["REKAPITULACE  STAVEBNÍCH  DÍLŮ"]
[]
[null,"Stavební díl",null,null,"HSV","PSV","Dodávka","Montáž","HZS"]
[{"$f":"'305 3236305 Pol'!B7","v":"1"},{"$f":"'305 3236305 Pol'!C7","v":"Zemní práce"},null,null,{"$f":"'305 3236305 Pol'!BA111","v":0},{"$f":"'305 3236305 Pol'!BB111","v":0},{"$f":"'305 3236305 Pol'!BC111","v":0},{"$f":"'305 3236305 Pol'!BD111","v":0},{"$f":"'305 3236305 Pol'!BE111","v":0}]
[{"$f":"'305 3236305 Pol'!B112","v":"45"},{"$f":"'305 3236305 Pol'!C112","v":"Podkladní a vedlejší konstrukce"},null,null,{"$f":"'305 3236305 Pol'!BA120","v":0},{"$f":"'305 3236305 Pol'!BB120","v":0},{"$f":"'305 3236305 Pol'!BC120","v":0},{"$f":"'305 3236305 Pol'!BD120","v":0},{"$f":"'305 3236305 Pol'!BE120","v":0}]
[{"$f":"'305 3236305 Pol'!B121","v":"5"},{"$f":"'305 3236305 Pol'!C121","v":"Komunikace"},null,null,{"$f":"'305 3236305 Pol'!BA127","v":0},{"$f":"'305 3236305 Pol'!BB127","v":0},{"$f":"'305 3236305 Pol'!BC127","v":0},{"$f":"'305 3236305 Pol'!BD127","v":0},{"$f":"'305 3236305 Pol'!BE127","v":0}]
[{"$f":"'305 3236305 Pol'!B128","v":"8"},{"$f":"'305 3236305 Pol'!C128","v":"Trubní vedení"},null,null,{"$f":"'305 3236305 Pol'!BA193","v":0},{"$f":"'305 3236305 Pol'!BB193","v":0},{"$f":"'305 3236305 Pol'!BC193","v":0},{"$f":"'305 3236305 Pol'!BD193","v":0},{"$f":"'305 3236305 Pol'!BE193","v":0}]
[{"$f":"'305 3236305 Pol'!B194","v":"99"},{"$f":"'305 3236305 Pol'!C194","v":"Staveništní přesun hmot"},null,null,{"$f":"'305 3236305 Pol'!BA197","v":0},{"$f":"'305 3236305 Pol'!BB197","v":0},{"$f":"'305 3236305 Pol'!BC197","v":0},{"$f":"'305 3236305 Pol'!BD197","v":0},{"$f":"'305 3236305 Pol'!BE197","v":0}]
[null,"CELKEM  OBJEKT",null,null,{"$f":"SUM(E7:E11)","v":0},{"$f":"SUM(F7:F11)","v":0},{"$f":"SUM(G7:G11)","v":0},{"$f":"SUM(H7:H11)","v":0},{"$f":"SUM(I7:I11)","v":0}]

{"sheet":"305 3236305 Pol","index":27,"n_rows":197,"n_cols":80,"rows_kept":197,"cut":false,"hidden":false,"merged":[[0,0,0,6],[2,0,2,1],[3,0,3,1],[3,4,3,6],[8,2,8,6],[9,2,9,6],[10,2,10,3],[11,2,11,3],[18,2,18,3],[19,2,19,3],[21,2,21,6],[22,2,22,6],[23,2,23,3],[24,2,24,3],[12,2,12,3],[13,2,13,3],[14,2,14,3],[15,2,15,3],[16,2,16,3],[17,2,17,3],[31,2,31,3],[33,2,33,3],[34,2,34,3],[35,2,35,3],[36,2,36,3],[37,2,37,3],[25,2,25,3],[26,2,26,3],[27,2,27,3],[28,2,28,3],[29,2,29,3],[30,2,30,3],[45,2,45,3],[46,2,46,3],[47,2,47,3],[48,2,48,3],[49,2,49,3],[50,2,50,3],[38,2,38,3],[39,2,39,3],[40,2,40,3],[41,2,41,3],[43,2,43,6],[44,2,44,6],[58,2,58,3],[59,2,59,3],[60,2,60,3],[61,2,61,3],[62,2,62,3],[63,2,63,3],[51,2,51,3],[52,2,52,3],[53,2,53,3],[55,2,55,3],[56,2,56,3],[57,2,57,3],[71,2,71,3],[72,2,72,3],[73,2,73,3],[74,2,74,3],[75,2,75,3],[77,2,77,3],[65,2,65,3],[66,2,66,3],[67,2,67,3],[68,2,68,3],[69,2,69,3],[70,2,70,3],[85,2,85,3],[86,2,86,3],[87,2,87,3],[88,2,88,3],[89,2,89,3],[90,2,90,3],[78,2,78,3],[79,2,79,3],[80,2,80,3],[81,2,81,3],[82,2,82,3],[84,2,84,6],[99,2,99,3],[100,2,100,3],[101,2,101,3],[102,2,102,3],[103,2,103,3],[104,2,104,3],[92,2,92,3],[93,2,93,3],[94,2,94,3],[95,2,95,3],[96,2,96,3],[97,2,97,3],[113,2,113,3],[114,2,114,3],[115,2,115,3],[116,2,116,3],[117,2,117,3],[118,2,118,3],[105,2,105,3],[106,2,106,3],[107,2,107,3],[108,2,108,3],[109,2,109,3],[133,2,133,3],[134,2,134,3],[135,2,135,3],[137,2,137,6],[138,2,138,6],[139,2,139,3],[122,2,122,6],[125,2,125,6],[129,2,129,6],[130,2,130,3],[131,2,131,3],[132,2,132,3],[147,2,147,3],[148,2,148,3],[149,2,149,3],[151,2,151,6],[152,2,152,6],[153,2,153,6],[140,2,140,3],[141,2,141,3],[143,2,143,6],[144,2,144,3],[145,2,145,3],[146,2,146,3],[160,2,160,3],[162,2,162,6],[163,2,163,3],[165,2,165,6],[166,2,166,3],[168,2,168,6],[154,2,154,6],[155,2,155,3],[156,2,156,3],[157,2,157,3],[158,2,158,3],[159,2,159,3],[175,2,175,3],[176,2,176,3],[177,2,177,3],[178,2,178,3],[179,2,179,3],[181,2,181,6],[169,2,169,6],[170,2,170,6],[171,2,171,6],[172,2,172,6],[173,2,173,6],[174,2,174,3],[188,2,188,3],[189,2,189,3],[190,2,190,3],[191,2,191,3],[195,2,195,6],[182,2,182,6],[183,2,183,6],[184,2,184,6],[185,2,185,6],[186,2,186,3],[187,2,187,3]]}
["Položkový rozpočet "]
[]
["Stavba :",null,"3236 Bytová zóna Hruštice - Károvsko - Etapa VII.",null,"Rozpočet:",{"$f":"'305 3236305 Rek'!H1","v":"3236/305"}]
["Objekt :",null,"305 Odvodnění komunikace",null,{"$f":"'305 3236305 Rek'!G2","v":"Odvodnění komunikace"}]
[]
["P.č.","Číslo položky","Název položky","MJ","množství","cena / MJ","celkem (Kč)","Jednotková hmotnost","Celková hmotnost","Jednotková dem.hmot.","Celková dem.hmot."]
["Díl:","1","Zemní práce",null,null,null,null,null,null,null,null,null,null,null,1]
[1,"120001101RRX","Příplatek za ztížení vykopávky v blízkosti vedení ","m3",9.8019999999999996,null,{"$f":"E8*F8","v":0},0,{"$f":"E8*H8","v":0},0,{"$f":"E8*J8","v":0},null,null,null,2,null,null,null,null,null,null,null,null,null,null,null,1,1,1,null,null,null,null,null,null,null,null,null,null,null,null,null,null,null,null,null,null,null,null,null,null,1,{"$f":"IF(AZ8=1,G8,0)","v":0},{"$f":"IF(AZ8=2,G8,0)","v":0},{"$f":"IF(AZ8=3,G8,0)","v":0},{"$f":"IF(AZ8=4,G8,0)","v":0},{"$f":"IF(AZ8=5,G8,0)","v":0},null,null,null,null,null,null,null,null,null,null,null,null,null,null,null,null,null,null,null,null,null,1,1]
[null,null,"Včetně ruční dokopávky a ručního výkopu.",null,null,null,null,null,null,null,null,"Včetně ruční dokopávky a ručního výkopu.",null,null,3]
[null,null,"Součástí položky je i případná potřeba dočasnéhon zajištění potrubí a kabelových vedení ve výkopu.",null,null,null,null,null,null,null,null,"Součástí položky je i případná potřeba dočasnéhon zajištění potrubí a kabelových vedení ve výkopu.",null,null,3]
[null,null,"Výkopy:",null,0,null,null,null,null,null,null,null,"Výkopy:"]
[null,null,"Začátek provozního součtu",null,0,null,null,null,null,null,null,null,"Začátek provozního součtu"]
[null,null,"Pro UV1:(1,80+0,50)*0,80*(1,85-0,40)",null,2.6680000000000001,null,null,null,null,null,null,null,"Pro UV1:(1,80+0,50)*0,80*(1,85-0,40)"]
[null,null,"Pro UV2:(1,80+0,50)*0,80*(1,85-0,40)",null,2.6680000000000001,null,null,null,null,null,null,null,"Pro UV2:(1,80+0,50)*0,80*(1,85-0,40)"]
[null,null,"Pro UV3:(2,50+0,50)*0,80*(1,85-0,40)",null,3.48,null,null,null,null,null,null,null,"Pro UV3:(2,50+0,50)*0,80*(1,85-0,40)"]
[null,null,"Pro UV4:(1,90+0,50)*0,80*(1,85-0,40)",null,2.7839999999999998,null,null,null,null,null,null,null,"Pro UV4:(1,90+0,50)*0,80*(1,85-0,40)"]
[null,null,"Pro UV5:(4,40+0,50)*0,80*(1,85-0,40)",null,5.6840000000000002,null,null,null,null,null,null,null,"Pro UV5:(4,40+0,50)*0,80*(1,85-0,40)"]
[null,null,"Pro ŽL1:2,00*0,80*(1,85-0,40)",null,2.3199999999999998,null,null,null,null,null,null,null,"Pro ŽL1:2,00*0,80*(1,85-0,40)"]
[null,null,"Konec provozního součtu",null,19.604000000000003,null,null,null,null,null,null,null,"Konec provozního součtu"]
[null,null,"V hornině tř. 3 - 4 - 50%:19,6040*0,5",null,9.8019999999999996,null,null,null,null,null,null,null,"V hornině tř. 3 - 4 - 50%:19,6040*0,5"]
[2,"132201210RRX","Hloubení rýh š.do 200 cm hor.3 do 50 m3,STROJNĚ ","m3",9.8019999999999996,null,{"$f":"E21*F21","v":0},0,{"$f":"E21*H21","v":0},0,{"$f":"E21*J21","v":0},null,null,null,2,null,null,null,null,null,null,null,null,null,null,null,1,1,1,null,null,null,null,null,null,null,null,null,null,null,null,null,null,null,null,null,null,null,null,null,null,1,{"$f":"IF(AZ21=1,G21,0)","v":0},{"$f":"IF(AZ21=2,G21,0)","v":0},{"$f":"IF(AZ21=3,G21,0)","v":0},{"$f":"IF(AZ21=4,G21,0)","v":0},{"$f":"IF(AZ21=5,G21,0)","v":0},null,null,null,null,null,null,null,null,null,null,null,null,null,null,null,null,null,null,null,null,null,1,1]
[null,null,"Položka obsahuje hloubení rýh traktorbagrem, naložení výkopku na dopravní prostředek pro svislé, nebo vodorovné přemístění, popř. přemístění výkopku do 3 m (po povrchu území), případné zajištění rypadel polštáři, udržování pracoviště a ochranu výkopiště proti stékání srážkové vody z okolního terénu i s jejím odvodněním, nebo odvedením, přesekání a odstranění kořenů ve výkopišti, odstranění napadávek, urovnání dna výkopu.",null,null,null,null,null,null,null,null,"Položka obsahuje hloubení rýh traktorbagrem, naložení výkopku na dopravní prostředek pro svislé, nebo vodorovné přemístění, popř. přemístění výkopku do 3 m (po povrchu území), případné zajištění rypadel polštáři, udržování pracoviště a ochranu výkopiště proti stékání srážkové vody z okolního terénu i s jejím odvodněním, nebo odvedením, přesekání a odstranění kořenů ve výkopišti, odstranění napadávek, urovnání dna výkopu.",null,null,3]
[null,null,"Součástí položky je i zřízení a odstranění pažení rýhy v souladu s předpisy BOZP.",null,null,null,null,null,null,null,null,"Součástí položky je i zřízení a odstranění pažení rýhy v souladu s předpisy BOZP.",null,null,3]
[null,null,"Začátek provozního součtu",null,0,null,null,null,null,null,null,null,"Začátek provozního součtu"]
[null,null,"Pro UV1:(1,80+0,50)*0,80*(1,85-0,40)",null,2.6680000000000001,null,null,null,null,null,null,null,"Pro UV1:(1,80+0,50)*0,80*(1,85-0,40)"]
[null,null,"Pro UV2:(1,80+0,50)*0,80*(1,85-0,40)",null,2.6680000000000001,null,null,null,null,null,null,null,"Pro UV2:(1,80+0,50)*0,80*(1,85-0,40)"]
[null,null,"Pro UV3:(2,50+0,50)*0,80*(1,85-0,40)",null,3.48,null,null,null,null,null,null,null,"Pro UV3:(2,50+0,50)*0,80*(1,85-0,40)"]
[null,null,"Pro UV4:(1,90+0,50)*0,80*(1,85-0,40)",null,2.7839999999999998,null,null,null,null,null,null,null,"Pro UV4:(1,90+0,50)*0,80*(1,85-0,40)"]
[null,null,"Pro UV5:(4,40+0,50)*0,80*(1,85-0,40)",null,5.6840000000000002,null,null,null,null,null,null,null,"Pro UV5:(4,40+0,50)*0,80*(1,85-0,40)"]
[null,null,"Pro ŽL1:2,00*0,80*(1,85-0,40)",null,2.3199999999999998,null,null,null,null,null,null,null,"Pro ŽL1:2,00*0,80*(1,85-0,40)"]
[null,null,"Konec provozního součtu",null,19.604000000000003,null,null,null,null,null,null,null,"Konec provozního součtu"]
[null,null,"V hornině tř. 3 - 50%:19,6040*0,5",null,9.8019999999999996,null,null,null,null,null,null,null,"V hornině tř. 3 - 50%:19,6040*0,5"]
[3,"132201219R00","Přípl.za lepivost,hloubení rýh 200cm,hor.3,STROJNĚ ","m3",4.9009999999999998,null,{"$f":"E33*F33","v":0},0,{"$f":"E33*H33","v":0},0,{"$f":"E33*J33","v":0},null,null,null,2,null,null,null,null,null,null,null,null,null,null,null,1,1,1,null,null,null,null,null,null,null,null,null,null,null,null,null,null,null,null,null,null,null,null,null,null,1,{"$f":"IF(AZ33=1,G33,0)","v":0},{"$f":"IF(AZ33=2,G33,0)","v":0},{"$f":"IF(AZ33=3,G33,0)","v":0},{"$f":"IF(AZ33=4,G33,0)","v":0},{"$f":"IF(AZ33=5,G33,0)","v":0},null,null,null,null,null,null,null,null,null,null,null,null,null,null,null,null,null,null,null,null,null,1,1]
[null,null,"Začátek provozního součtu",null,0,null,null,null,null,null,null,null,"Začátek provozního součtu"]
[null,null,"Pro UV1:(1,80+0,50)*0,80*(1,85-0,40)",null,2.6680000000000001,null,null,null,null,null,null,null,"Pro UV1:(1,80+0,50)*0,80*(1,85-0,40)"]
[null,null,"Pro UV2:(1,80+0,50)*0,80*(1,85-0,40)",null,2.6680000000000001,null,null,null,null,null,null,null,"Pro UV2:(1,80+0,50)*0,80*(1,85-0,40)"]
[null,null,"Pro UV3:(2,50+0,50)*0,80*(1,85-0,40)",null,3.48,null,null,null,null,null,null,null,"Pro UV3:(2,50+0,50)*0,80*(1,85-0,40)"]
[null,null,"Pro UV4:(1,90+0,50)*0,80*(1,85-0,40)",null,2.7839999999999998,null,null,null,null,null,null,null,"Pro UV4:(1,90+0,50)*0,80*(1,85-0,40)"]
[null,null,"Pro UV5:(4,40+0,50)*0,80*(1,85-0,40)",null,5.6840000000000002,null,null,null,null,null,null,null,"Pro UV5:(4,40+0,50)*0,80*(1,85-0,40)"]
[null,null,"Pro ŽL1:2,00*0,80*(1,85-0,40)",null,2.3199999999999998,null,null,null,null,null,null,null,"Pro ŽL1:2,00*0,80*(1,85-0,40)"]
[null,null,"Konec provozního součtu",null,19.604000000000003,null,null,null,null,null,null,null,"Konec provozního součtu"]
[null,null,"V hornině tř. 3 - 50%:19,6040*0,5*0,5",null,4.9009999999999998,null,null,null,null,null,null,null,"V hornině tř. 3 - 50%:19,6040*0,5*0,5"]
[4,"132301210RRX","Hloubení rýh š.do 200 cm hor.4 do 50 m3, STROJNĚ ","m3",9.8019999999999996,null,{"$f":"E43*F43","v":0},0,{"$f":"E43*H43","v":0},0,{"$f":"E43*J43","v":0},null,null,null,2,null,null,null,null,null,null,null,null,null,null,null,1,1,1,null,null,null,null,null,null,null,null,null,null,null,null,null,null,null,null,null,null,null,null,null,null,1,{"$f":"IF(AZ43=1,G43,0)","v":0},{"$f":"IF(AZ43=2,G43,0)","v":0},{"$f":"IF(AZ43=3,G43,0)","v":0},{"$f":"IF(AZ43=4,G43,0)","v":0},{"$f":"IF(AZ43=5,G43,0)","v":0},null,null,null,null,null,null,null,null,null,null,null,null,null,null,null,null,null,null,null,null,null,1,1]
[null,null,"Položka obsahuje hloubení rýh traktorbagrem, naložení výkopku na dopravní prostředek pro svislé, nebo vodorovné přemístění, popř. přemístění výkopku do 3 m (po povrchu území), případné zajištění rypadel polštáři, udržování pracoviště a ochranu výkopiště proti stékání srážkové vody z okolního terénu i s jejím odvodněním, nebo odvedením, přesekání a odstranění kořenů ve výkopišti, odstranění napadávek, urovnání dna výkopu.",null,null,null,null,null,null,null,null,"Položka obsahuje hloubení rýh traktorbagrem, naložení výkopku na dopravní prostředek pro svislé, nebo vodorovné přemístění, popř. přemístění výkopku do 3 m (po povrchu území), případné zajištění rypadel polštáři, udržování pracoviště a ochranu výkopiště proti stékání srážkové vody z okolního terénu i s jejím odvodněním, nebo odvedením, přesekání a odstranění kořenů ve výkopišti, odstranění napadávek, urovnání dna výkopu.",null,null,3]
[null,null,"Součástí položky je i zřízení a odstranění pažení rýhy v souladu s předpisy BOZP.",null,null,null,null,null,null,null,null,"Součástí položky je i zřízení a odstranění pažení rýhy v souladu s předpisy BOZP.",null,null,3]
[null,null,"Začátek provozního součtu",null,0,null,null,null,null,null,null,null,"Začátek provozního součtu"]
[null,null,"Pro UV1:(1,80+0,50)*0,80*(1,85-0,40)",null,2.6680000000000001,null,null,null,null,null,null,null,"Pro UV1:(1,80+0,50)*0,80*(1,85-0,40)"]
[null,null,"Pro UV2:(1,80+0,50)*0,80*(1,85-0,40)",null,2.6680000000000001,null,null,null,null,null,null,null,"Pro UV2:(1,80+0,50)*0,80*(1,85-0,40)"]
[null,null,"Pro UV3:(2,50+0,50)*0,80*(1,85-0,40)",null,3.48,null,null,null,null,null,null,null,"Pro UV3:(2,50+0,50)*0,80*(1,85-0,40)"]
[null,null,"Pro UV4:(1,90+0,50)*0,80*(1,85-0,40)",null,2.7839999999999998,null,null,null,null,null,null,null,"Pro UV4:(1,90+0,50)*0,80*(1,85-0,40)"]
[null,null,"Pro UV5:(4,40+0,50)*0,80*(1,85-0,40)",null,5.6840000000000002,null,null,null,null,null,null,null,"Pro UV5:(4,40+0,50)*0,80*(1,85-0,40)"]
[null,null,"Pro ŽL1:2,00*0,80*(1,85-0,40)",null,2.3199999999999998,null,null,null,null,null,null,null,"Pro ŽL1:2,00*0,80*(1,85-0,40)"]
[null,null,"Konec provozního součtu",null,19.604000000000003,null,null,null,null,null,null,null,"Konec provozního součtu"]
[null,null,"V hornině tř. 4 - 50%:19,6040*0,5",null,9.8019999999999996,null,null,null,null,null,null,null,"V hornině tř. 4 - 50%:19,6040*0,5"]
[5,"132301219R00","Přípl.za lepivost,hloubení rýh 200cm,hor.4,STROJNĚ ","m3",4.9009999999999998,null,{"$f":"E55*F55","v":0},0,{"$f":"E55*H55","v":0},0,{"$f":"E55*J55","v":0},null,null,null,2,null,null,null,null,null,null,null,null,null,null,null,1,1,1,null,null,null,null,null,null,null,null,null,null,null,null,null,null,null,null,null,null,null,null,null,null,1,{"$f":"IF(AZ55=1,G55,0)","v":0},{"$f":"IF(AZ55=2,G55,0)","v":0},{"$f":"IF(AZ55=3,G55,0)","v":0},{"$f":"IF(AZ55=4,G55,0)","v":0},{"$f":"IF(AZ55=5,G55,0)","v":0},null,null,null,null,null,null,null,null,null,null,null,null,null,null,null,null,null,null,null,null,null,1,1]
[null,null,"Začátek provozního součtu",null,0,null,null,null,null,null,null,null,"Začátek provozního součtu"]
[null,null,"Pro UV1:(1,80+0,50)*0,80*(1,85-0,40)",null,2.6680000000000001,null,null,null,null,null,null,null,"Pro UV1:(1,80+0,50)*0,80*(1,85-0,40)"]
[null,null,"Pro UV2:(1,80+0,50)*0,80*(1,85-0,40)",null,2.6680000000000001,null,null,null,null,null,null,null,"Pro UV2:(1,80+0,50)*0,80*(1,85-0,40)"]
[null,null,"Pro UV3:(2,50+0,50)*0,80*(1,85-0,40)",null,3.48,null,null,null,null,null,null,null,"Pro UV3:(2,50+0,50)*0,80*(1,85-0,40)"]
[null,null,"Pro UV4:(1,90+0,50)*0,80*(1,85-0,40)",null,2.7839999999999998,null,null,null,null,null,null,null,"Pro UV4:(1,90+0,50)*0,80*(1,85-0,40)"]
[null,null,"Pro UV5:(4,40+0,50)*0,80*(1,85-0,40)",null,5.6840000000000002,null,null,null,null,null,null,null,"Pro UV5:(4,40+0,50)*0,80*(1,85-0,40)"]
[null,null,"Pro ŽL1:2,00*0,80*(1,85-0,40)",null,2.3199999999999998,null,null,null,null,null,null,null,"Pro ŽL1:2,00*0,80*(1,85-0,40)"]
[null,null,"Konec provozního součtu",null,19.604000000000003,null,null,null,null,null,null,null,"Konec provozního součtu"]
[null,null,"V hornině tř. 4 - 50%:19,6040*0,5*0,5",null,4.9009999999999998,null,null,null,null,null,null,null,"V hornině tř. 4 - 50%:19,6040*0,5*0,5"]
[6,"162701105RSZ","Vodorovné přemístění výkopku z hor.1-7 na skládku zhotovitele","m3",14.196,null,{"$f":"E65*F65","v":0},0,{"$f":"E65*H65","v":0},0,{"$f":"E65*J65","v":0},null,null,null,2,null,null,null,null,null,null,null,null,null,null,null,1,1,1,null,null,null,null,null,null,null,null,null,null,null,null,null,null,null,null,null,null,null,null,null,null,1,{"$f":"IF(AZ65=1,G65,0)","v":0},{"$f":"IF(AZ65=2,G65,0)","v":0},{"$f":"IF(AZ65=3,G65,0)","v":0},{"$f":"IF(AZ65=4,G65,0)","v":0},{"$f":"IF(AZ65=5,G65,0)","v":0},null,null,null,null,null,null,null,null,null,null,null,null,null,null,null,null,null,null,null,null,null,1,1]
[null,null,"Výkopy:",null,0,null,null,null,null,null,null,null,"Výkopy:"]
[null,null,"Začátek provozního součtu",null,0,null,null,null,null,null,null,null,"Začátek provozního součtu"]
[null,null,"Pro UV1:(1,80+0,50)*0,80*(1,85-0,40)",null,2.6680000000000001,null,null,null,null,null,null,null,"Pro UV1:(1,80+0,50)*0,80*(1,85-0,40)"]
[null,null,"Pro UV2:(1,80+0,50)*0,80*(1,85-0,40)",null,2.6680000000000001,null,null,null,null,null,null,null,"Pro UV2:(1,80+0,50)*0,80*(1,85-0,40)"]
[null,null,"Pro UV3:(2,50+0,50)*0,80*(1,85-0,40)",null,3.48,null,null,null,null,null,null,null,"Pro UV3:(2,50+0,50)*0,80*(1,85-0,40)"]
[null,null,"Pro UV4:(1,90+0,50)*0,80*(1,85-0,40)",null,2.7839999999999998,null,null,null,null,null,null,null,"Pro UV4:(1,90+0,50)*0,80*(1,85-0,40)"]
[null,null,"Pro UV5:(4,40+0,50)*0,80*(1,85-0,40)",null,5.6840000000000002,null,null,null,null,null,null,null,"Pro UV5:(4,40+0,50)*0,80*(1,85-0,40)"]
[null,null,"Pro ŽL1:2,00*0,80*(1,85-0,40)",null,2.3199999999999998,null,null,null,null,null,null,null,"Pro ŽL1:2,00*0,80*(1,85-0,40)"]
[null,null,"Konec provozního součtu",null,19.604000000000003,null,null,null,null,null,null,null,"Konec provozního součtu"]
[null,null,"V hornině tř. 3 - 4 :19,6040",null,19.603999999999999,null,null,null,null,null,null,null,"V hornině tř. 3 - 4 :19,6040"]
[null,null,"Odpočet zásypů zeminou:-5,4080",null,-5.4080000000000004,null,null,null,null,null,null,null,"Odpočet zásypů zeminou:-5,4080"]
[7,"174100050RAA","Zásyp jam,rýh a šachet štěrkodrtí fr. 0-63 mm včetně dovozu štěrkodrtě","m3",8.1120000000000001,null,{"$f":"E77*F77","v":0},1.873,{"$f":"E77*H77","v":15.193776},0,{"$f":"E77*J77","v":0},null,null,null,2,null,null,null,null,null,null,null,null,null,null,null,1,1,1,null,null,null,null,null,null,null,null,null,null,null,null,null,null,null,null,null,null,null,null,null,null,1,{"$f":"IF(AZ77=1,G77,0)","v":0},{"$f":"IF(AZ77=2,G77,0)","v":0},{"$f":"IF(AZ77=3,G77,0)","v":0},{"$f":"IF(AZ77=4,G77,0)","v":0},{"$f":"IF(AZ77=5,G77,0)","v":0},null,null,null,null,null,null,null,null,null,null,null,null,null,null,null,null,null,null,null,null,null,1,1]
[null,null,"Pro UV1:(1,80+0,50)*0,80*(1,85-0,10-0,15-0,30-0,30-0,40)",null,1.1040000000000001,null,null,null,null,null,null,null,"Pro UV1:(1,80+0,50)*0,80*(1,85-0,10-0,15-0,30-0,30-0,40)"]
[null,null,"Pro UV2:(1,80+0,50)*0,80*(1,85-0,10-0,15-0,30-0,30-0,40)",null,1.1040000000000001,null,null,null,null,null,null,null,"Pro UV2:(1,80+0,50)*0,80*(1,85-0,10-0,15-0,30-0,30-0,40)"]
[null,null,"Pro UV3:(2,50+0,50)*0,80*(1,85-0,10-0,15-0,30-0,30-0,40)",null,1.44,null,null,null,null,null,null,null,"Pro UV3:(2,50+0,50)*0,80*(1,85-0,10-0,15-0,30-0,30-0,40)"]
[null,null,"Pro UV4:(1,90+0,50)*0,80*(1,85-0,10-0,15-0,30-0,30-0,40)",null,1.1519999999999999,null,null,null,null,null,null,null,"Pro UV4:(1,90+0,50)*0,80*(1,85-0,10-0,15-0,30-0,30-0,40)"]
[null,null,"Pro UV5:(4,40+0,50)*0,80*(1,85-0,10-0,15-0,30-0,30-0,40)",null,2.3519999999999999,null,null,null,null,null,null,null,"Pro UV5:(4,40+0,50)*0,80*(1,85-0,10-0,15-0,30-0,30-0,40)"]
[null,null,"Pro ŽL1:2,00*0,80*(1,85-0,10-0,15-0,30-0,30-0,40)",null,0.96,null,null,null,null,null,null,null,"Pro ŽL1:2,00*0,80*(1,85-0,10-0,15-0,30-0,30-0,40)"]
[8,"174101101R00","Zásyp jam, rýh, šachet se zhutněním ","m3",5.4080000000000004,null,{"$f":"E84*F84","v":0},0,{"$f":"E84*H84","v":0},0,{"$f":"E84*J84","v":0},null,null,null,2,null,null,null,null,null,null,null,null,null,null,null,1,1,1,null,null,null,null,null,null,null,null,null,null,null,null,null,null,null,null,null,null,null,null,null,null,1,{"$f":"IF(AZ84=1,G84,0)","v":0},{"$f":"IF(AZ84=2,G84,0)","v":0},{"$f":"IF(AZ84=3,G84,0)","v":0},{"$f":"IF(AZ84=4,G84,0)","v":0},{"$f":"IF(AZ84=5,G84,0)","v":0},null,null,null,null,null,null,null,null,null,null,null,null,null,null,null,null,null,null,null,null,null,1,1]
[null,null,"včetně strojního přemístění materiálu pro zásyp ze vzdálenosti do 10 m od okraje zásypu",null,null,null,null,null,null,null,null,"včetně strojního přemístění materiálu pro zásyp ze vzdálenosti do 10 m od okraje zásypu",null,null,3]
[null,null,"Pro UV1:(1,80+0,50)*0,80*0,40",null,0.73599999999999999,null,null,null,null,null,null,null,"Pro UV1:(1,80+0,50)*0,80*0,40"]
[null,null,"Pro UV2:(1,80+0,50)*0,80*0,40",null,0.73599999999999999,null,null,null,null,null,null,null,"Pro UV2:(1,80+0,50)*0,80*0,40"]
[null,null,"Pro UV3:(2,50+0,50)*0,80*0,40",null,0.96,null,null,null,null,null,null,null,"Pro UV3:(2,50+0,50)*0,80*0,40"]
[null,null,"Pro UV4:(1,90+0,50)*0,80*0,40",null,0.76800000000000002,null,null,null,null,null,null,null,"Pro UV4:(1,90+0,50)*0,80*0,40"]
[null,null,"Pro UV5:(4,40+0,50)*0,80*0,40",null,1.5680000000000001,null,null,null,null,null,null,null,"Pro UV5:(4,40+0,50)*0,80*0,40"]
[null,null,"Pro ŽL1:2,00*0,80*0,40",null,0.64,null,null,null,null,null,null,null,"Pro ŽL1:2,00*0,80*0,40"]
[9,"175100020RAA","Obsyp potrubí štěrkopískem včetně dovozu štěrkopísku","m3",4.9295,null,{"$f":"E92*F92","v":0},1.873,{"$f":"E92*H92","v":9.2329535000000007},0,{"$f":"E92*J92","v":0},null,null,null,2,null,null,null,null,null,null,null,null,null,null,null,1,1,1,null,null,null,null,null,null,null,null,null,null,null,null,null,null,null,null,null,null,null,null,null,null,1,{"$f":"IF(AZ92=1,G92,0)","v":0},{"$f":"IF(AZ92=2,G92,0)","v":0},{"$f":"IF(AZ92=3,G92,0)","v":0},{"$f":"IF(AZ92=4,G92,0)","v":0},{"$f":"IF(AZ92=5,G92,0)","v":0},null,null,null,null,null,null,null,null,null,null,null,null,null,null,null,null,null,null,null,null,null,1,1]
[null,null,"Pro UV1:1,80*(0,80*(0,15+0,30)-0,075^2*Pi)",null,0.61619999999999997,null,null,null,null,null,null,null,"Pro UV1:1,80*(0,80*(0,15+0,30)-0,075^2*Pi)"]
[null,null,"Pro UV2:1,80*(0,80*(0,15+0,30)-0,075^2*Pi)",null,0.61619999999999997,null,null,null,null,null,null,null,"Pro UV2:1,80*(0,80*(0,15+0,30)-0,075^2*Pi)"]
[null,null,"Pro UV3:2,50*(0,80*(0,15+0,30)-0,075^2*Pi)",null,0.85580000000000001,null,null,null,null,null,null,null,"Pro UV3:2,50*(0,80*(0,15+0,30)-0,075^2*Pi)"]
[null,null,"Pro UV4:1,90*(0,80*(0,15+0,30)-0,075^2*Pi)",null,0.65039999999999998,null,null,null,null,null,null,null,"Pro UV4:1,90*(0,80*(0,15+0,30)-0,075^2*Pi)"]
[null,null,"Pro UV5:4,40*(0,80*(0,15+0,30)-0,075^2*Pi)",null,1.5062,null,null,null,null,null,null,null,"Pro UV5:4,40*(0,80*(0,15+0,30)-0,075^2*Pi)"]
[null,null,"Pro ŽL1:2,00*(0,80*(0,15+0,30)-0,075^2*Pi)",null,0.68469999999999998,null,null,null,null,null,null,null,"Pro ŽL1:2,00*(0,80*(0,15+0,30)-0,075^2*Pi)"]
[10,"199000002R00","Poplatek za skládku horniny 1- 7 ","m3",14.196,null,{"$f":"E99*F99","v":0},0,{"$f":"E99*H99","v":0},0,{"$f":"E99*J99","v":0},null,null,null,2,null,null,null,null,null,null,null,null,null,null,null,1,1,1,null,null,null,null,null,null,null,null,null,null,null,null,null,null,null,null,null,null,null,null,null,null,1,{"$f":"IF(AZ99=1,G99,0)","v":0},{"$f":"IF(AZ99=2,G99,0)","v":0},{"$f":"IF(AZ99=3,G99,0)","v":0},{"$f":"IF(AZ99=4,G99,0)","v":0},{"$f":"IF(AZ99=5,G99,0)","v":0},null,null,null,null,null,null,null,null,null,null,null,null,null,null,null,null,null,null,null,null,null,1,1]
[null,null,"Výkopy:",null,0,null,null,null,null,null,null,null,"Výkopy:"]
[null,null,"Začátek provozního součtu",null,0,null,null,null,null,null,null,null,"Začátek provozního součtu"]
[null,null,"Pro UV1:(1,80+0,50)*0,80*(1,85-0,40)",null,2.6680000000000001,null,null,null,null,null,null,null,"Pro UV1:(1,80+0,50)*0,80*(1,85-0,40)"]
[null,null,"Pro UV2:(1,80+0,50)*0,80*(1,85-0,40)",null,2.6680000000000001,null,null,null,null,null,null,null,"Pro UV2:(1,80+0,50)*0,80*(1,85-0,40)"]
[null,null,"Pro UV3:(2,50+0,50)*0,80*(1,85-0,40)",null,3.48,null,null,null,null,null,null,null,"Pro UV3:(2,50+0,50)*0,80*(1,85-0,40)"]
[null,null,"Pro UV4:(1,90+0,50)*0,80*(1,85-0,40)",null,2.7839999999999998,null,null,null,null,null,null,null,"Pro UV4:(1,90+0,50)*0,80*(1,85-0,40)"]
[null,null,"Pro UV5:(4,40+0,50)*0,80*(1,85-0,40)",null,5.6840000000000002,null,null,null,null,null,null,null,"Pro UV5:(4,40+0,50)*0,80*(1,85-0,40)"]
[null,null,"Pro ŽL1:2,00*0,80*(1,85-0,40)",null,2.3199999999999998,null,null,null,null,null,null,null,"Pro ŽL1:2,00*0,80*(1,85-0,40)"]
[null,null,"Konec provozního součtu",null,19.604000000000003,null,null,null,null,null,null,null,"Konec provozního součtu"]
[null,null,"V hornině tř. 3 - 4 :19,6040",null,19.603999999999999,null,null,null,null,null,null,null,"V hornině tř. 3 - 4 :19,6040"]
[null,null,"Odpočet zásypů zeminou:-5,4080",null,-5.4080000000000004,null,null,null,null,null,null,null,"Odpočet zásypů zeminou:-5,4080"]
[null,"Celkem za","1 Zemní práce",null,null,null,{"$f":"SUM(G7:G110)","v":0},null,{"$f":"SUM(I7:I110)","v":24.4267295},null,{"$f":"SUM(K7:K110)","v":0},null,null,null,4,null,null,null,null,null,null,null,null,null,null,null,null,null,null,null,null,null,null,null,null,null,null,null,null,null,null,null,null,null,null,null,null,null,null,null,null,null,{"$f":"SUM(BA7:BA110)","v":0},{"$f":"SUM(BB7:BB110)","v":0},{"$f":"SUM(BC7:BC110)","v":0},{"$f":"SUM(BD7:BD110)","v":0},{"$f":"SUM(BE7:BE110)","v":0}]
["Díl:","45","Podkladní a vedlejší konstrukce",null,null,null,null,null,null,null,null,null,null,null,1]
[11,"451572111R00","Lože pod potrubí z kameniva těženého 0 - 4 mm ","m3",1.1519999999999999,null,{"$f":"E113*F113","v":0},0.43051,{"$f":"E113*H113","v":0.49594751999999998},0,{"$f":"E113*J113","v":0},null,null,null,2,null,null,null,null,null,null,null,null,null,null,null,1,1,1,null,null,null,null,null,null,null,null,null,null,null,null,null,null,null,null,null,null,null,null,null,null,1,{"$f":"IF(AZ113=1,G113,0)","v":0},{"$f":"IF(AZ113=2,G113,0)","v":0},{"$f":"IF(AZ113=3,G113,0)","v":0},{"$f":"IF(AZ113=4,G113,0)","v":0},{"$f":"IF(AZ113=5,G113,0)","v":0},null,null,null,null,null,null,null,null,null,null,null,null,null,null,null,null,null,null,null,null,null,1,1]
[null,null,"Pro UV1:1,80*0,80*0,10",null,0.14399999999999999,null,null,null,null,null,null,null,"Pro UV1:1,80*0,80*0,10"]
[null,null,"Pro UV2:1,80*0,80*0,10",null,0.14399999999999999,null,null,null,null,null,null,null,"Pro UV2:1,80*0,80*0,10"]
[null,null,"Pro UV3:2,50*0,80*0,10",null,0.2,null,null,null,null,null,null,null,"Pro UV3:2,50*0,80*0,10"]
[null,null,"Pro UV4:1,90*0,80*0,10",null,0.152,null,null,null,null,null,null,null,"Pro UV4:1,90*0,80*0,10"]
[null,null,"Pro UV5:4,40*0,80*0,10",null,0.35199999999999998,null,null,null,null,null,null,null,"Pro UV5:4,40*0,80*0,10"]
[null,null,"Pro ŽL1:2,00*0,80*0,10",null,0.16,null,null,null,null,null,null,null,"Pro ŽL1:2,00*0,80*0,10"]
[null,"Celkem za","45 Podkladní a vedlejší konstrukce",null,null,null,{"$f":"SUM(G112:G119)","v":0},null,{"$f":"SUM(I112:I119)","v":0.49594751999999998},null,{"$f":"SUM(K112:K119)","v":0},null,null,null,4,null,null,null,null,null,null,null,null,null,null,null,null,null,null,null,null,null,null,null,null,null,null,null,null,null,null,null,null,null,null,null,null,null,null,null,null,null,{"$f":"SUM(BA112:BA119)","v":0},{"$f":"SUM(BB112:BB119)","v":0},{"$f":"SUM(BC112:BC119)","v":0},{"$f":"SUM(BD112:BD119)","v":0},{"$f":"SUM(BE112:BE119)","v":0}]
["Díl:","5","Komunikace",null,null,null,null,null,null,null,null,null,null,null,1]
[12,"597092211RS4","Žlab odvodňovací ACO MultiDrain V 150 S dl.1000 mm typ 2, šířka 185 mm, spád 215-220 mm","kus",5,null,{"$f":"E122*F122","v":0},0.12045,{"$f":"E122*H122","v":0.60224999999999995},0,{"$f":"E122*J122","v":0},null,null,null,2,null,null,null,null,null,null,null,null,null,null,null,1,1,1,null,null,null,null,null,null,null,null,null,null,null,null,null,null,null,null,null,null,null,null,null,null,1,{"$f":"IF(AZ122=1,G122,0)","v":0},{"$f":"IF(AZ122=2,G122,0)","v":0},{"$f":"IF(AZ122=3,G122,0)","v":0},{"$f":"IF(AZ122=4,G122,0)","v":0},{"$f":"IF(AZ122=5,G122,0)","v":0},null,null,null,null,null,null,null,null,null,null,null,null,null,null,null,null,null,null,null,null,null,1,1]
[null,null,"Položka je určena pro montáž a dodávku odvodňovacího žlabu z polymerického betonu s integrovanou ochranou hran z pozink. oceli s bezpečnostní drážkou ACO DRAIN (SF) , pro vodotěsnou pokládku, včetně osazení do betonového lože. Žlab slouží k odvedení povrchové vody ze zpevněných ploch. Zatížení A15, B 125, C 250, D 400, E 600. Stavební výška 215-220 mm, šířka žlabu 185 mm, délka 1000 mm. typ 2",null,null,null,null,null,null,null,null,"Položka je určena pro montáž a dodávku odvodňovacího žlabu z polymerického betonu s integrovanou ochranou hran z pozink. oceli s bezpečnostní drážkou ACO DRAIN (SF) , pro vodotěsnou pokládku, včetně osazení do betonového lože. Žlab slouží k odvedení povrchové vody ze zpevněných ploch. Zatížení A15, B 125, C 250, D 400, E 600. Stavební výška 215-220 mm, šířka žlabu 185 mm, délka 1000 mm. typ 2",null,null,3]
[13,"597092232RS5","Čelo žlabu pro přípojku DN150 ACO MultiDrain V 150 pro stavební výšku 20.","kus",2,null,{"$f":"E124*F124","v":0},4.1999999999999997E-3,{"$f":"E124*H124","v":8.3999999999999995E-3},0,{"$f":"E124*J124","v":0},null,null,null,2,null,null,null,null,null,null,null,null,null,null,null,1,1,1,null,null,null,null,null,null,null,null,null,null,null,null,null,null,null,null,null,null,null,null,null,null,1,{"$f":"IF(AZ124=1,G124,0)","v":0},{"$f":"IF(AZ124=2,G124,0)","v":0},{"$f":"IF(AZ124=3,G124,0)","v":0},{"$f":"IF(AZ124=4,G124,0)","v":0},{"$f":"IF(AZ124=5,G124,0)","v":0},null,null,null,null,null,null,null,null,null,null,null,null,null,null,null,null,null,null,null,null,null,1,1]
[14,"597092253RV4","Krycí rošt ACO Drainlock V 150 S, C 250,dl.500 mm s podélnými pruty v mřížkové optice, tvárná litina","kus",10,null,{"$f":"E125*F125","v":0},5.5700000000000003E-3,{"$f":"E125*H125","v":5.57E-2},0,{"$f":"E125*J125","v":0},null,null,null,2,null,null,null,null,null,null,null,null,null,null,null,1,1,1,null,null,null,null,null,null,null,null,null,null,null,null,null,null,null,null,null,null,null,null,null,null,1,{"$f":"IF(AZ125=1,G125,0)","v":0},{"$f":"IF(AZ125=2,G125,0)","v":0},{"$f":"IF(AZ125=3,G125,0)","v":0},{"$f":"IF(AZ125=4,G125,0)","v":0},{"$f":"IF(AZ125=5,G125,0)","v":0},null,null,null,null,null,null,null,null,null,null,null,null,null,null,null,null,null,null,null,null,null,1,1]
[null,null,"Položka je určena pro osazení a dodávku krycího roštu z litiny. Zatížení C 250. Stavební délka 500 mm, šířka 173 mm.",null,null,null,null,null,null,null,null,"Položka je určena pro osazení a dodávku krycího roštu z litiny. Zatížení C 250. Stavební délka 500 mm, šířka 173 mm.",null,null,3]
[null,"Celkem za","5 Komunikace",null,null,null,{"$f":"SUM(G121:G126)","v":0},null,{"$f":"SUM(I121:I126)","v":0.66634999999999989},null,{"$f":"SUM(K121:K126)","v":0},null,null,null,4,null,null,null,null,null,null,null,null,null,null,null,null,null,null,null,null,null,null,null,null,null,null,null,null,null,null,null,null,null,null,null,null,null,null,null,null,null,{"$f":"SUM(BA121:BA126)","v":0},{"$f":"SUM(BB121:BB126)","v":0},{"$f":"SUM(BC121:BC126)","v":0},{"$f":"SUM(BD121:BD126)","v":0},{"$f":"SUM(BE121:BE126)","v":0}]
["Díl:","8","Trubní vedení",null,null,null,null,null,null,null,null,null,null,null,1]
[15,"871311111RRX","Montáž trubek z PVC/PP ve výkopu DN 150 mm ","m",14.4,null,{"$f":"E129*F129","v":0},1E-4,{"$f":"E129*H129","v":1.4400000000000001E-3},0,{"$f":"E129*J129","v":0},null,null,null,2,null,null,null,null,null,null,null,null,null,null,null,1,0,0,null,null,null,null,null,null,null,null,null,null,null,null,null,null,null,null,null,null,null,null,null,null,1,{"$f":"IF(AZ129=1,G129,0)","v":0},{"$f":"IF(AZ129=2,G129,0)","v":0},{"$f":"IF(AZ129=3,G129,0)","v":0},{"$f":"IF(AZ129=4,G129,0)","v":0},{"$f":"IF(AZ129=5,G129,0)","v":0},null,null,null,null,null,null,null,null,null,null,null,null,null,null,null,null,null,null,null,null,null,1,0]
[null,null,"Položka je určena pro montáž potrubí z PVC nabo PP těsněných gumovým kroužkem. Volba položky se řídí vnějším průměrem trubky. V položce jsou zakalkulovány i náklady na montáž tvarovek. V položce nejsou zakalkulovány náklady na dodání trubek a tvarovek; tyto materiály se oceňují ve specifikaci.",null,null,null,null,null,null,null,null,"Položka je určena pro montáž potrubí z PVC nabo PP těsněných gumovým kroužkem. Volba položky se řídí vnějším průměrem trubky. V položce jsou zakalkulovány i náklady na montáž tvarovek. V položce nejsou zakalkulovány náklady na dodání trubek a tvarovek; tyto materiály se oceňují ve specifikaci.",null,null,3]
[null,null,"Pro UV1:1,80",null,1.8,null,null,null,null,null,null,null,"Pro UV1:1,80"]
[null,null,"Pro UV2:1,80",null,1.8,null,null,null,null,null,null,null,"Pro UV2:1,80"]
[null,null,"Pro UV3:2,50",null,2.5,null,null,null,null,null,null,null,"Pro UV3:2,50"]
[null,null,"Pro UV4:1,90",null,1.9,null,null,null,null,null,null,null,"Pro UV4:1,90"]
[null,null,"Pro UV5:4,40",null,4.4000000000000004,null,null,null,null,null,null,null,"Pro UV5:4,40"]
[null,null,"Pro ŽL1:2,00",null,2,null,null,null,null,null,null,null,"Pro ŽL1:2,00"]
[16,"877395122RT2","Montáž nalepovací tvar. z plastu na potrubí DN 400 včetně dodávky odbočky nalepovací PVC 400/160 mm","kus",3,null,{"$f":"E137*F137","v":0},6.3600000000000002E-3,{"$f":"E137*H137","v":1.908E-2},0,{"$f":"E137*J137","v":0},null,null,null,2,null,null,null,null,null,null,null,null,null,null,null,1,1,1,null,null,null,null,null,null,null,null,null,null,null,null,null,null,null,null,null,null,null,null,null,null,1,{"$f":"IF(AZ137=1,G137,0)","v":0},{"$f":"IF(AZ137=2,G137,0)","v":0},{"$f":"IF(AZ137=3,G137,0)","v":0},{"$f":"IF(AZ137=4,G137,0)","v":0},{"$f":"IF(AZ137=5,G137,0)","v":0},null,null,null,null,null,null,null,null,null,null,null,null,null,null,null,null,null,null,null,null,null,1,1]
[null,null,"Položka je určena pro montáž nalepovací odbočné tvarovky na potrubí z kanalizačních trub z PP a PVC.",null,null,null,null,null,null,null,null,"Položka je určena pro montáž nalepovací odbočné tvarovky na potrubí z kanalizačních trub z PP a PVC.",null,null,3]
[null,null,"V položce montáže nalepovací odbočné tvarovky jsou zakalkulovány i náklady na dodání nalepovacích tvarovek.",null,null,null,null,null,null,null,null,"V položce montáže nalepovací odbočné tvarovky jsou zakalkulovány i náklady na dodání nalepovacích tvarovek.",null,null,3]
[null,null,"Pro UV1:1",null,1,null,null,null,null,null,null,null,"Pro UV1:1"]
[null,null,"Pro UV2:1",null,1,null,null,null,null,null,null,null,"Pro UV2:1"]
[null,null,"Pro UV3:1",null,1,null,null,null,null,null,null,null,"Pro UV3:1"]
[17,"892571111R00","Zkouška těsnosti kanalizace DN do 200, vodou ","m",14.4,null,{"$f":"E143*F143","v":0},0,{"$f":"E143*H143","v":0},0,{"$f":"E143*J143","v":0},null,null,null,2,null,null,null,null,null,null,null,null,null,null,null,1,1,1,null,null,null,null,null,null,null,null,null,null,null,null,null,null,null,null,null,null,null,null,null,null,1,{"$f":"IF(AZ143=1,G143,0)","v":0},{"$f":"IF(AZ143=2,G143,0)","v":0},{"$f":"IF(AZ143=3,G143,0)","v":0},{"$f":"IF(AZ143=4,G143,0)","v":0},{"$f":"IF(AZ143=5,G143,0)","v":0},null,null,null,null,null,null,null,null,null,null,null,null,null,null,null,null,null,null,null,null,null,1,1]
[null,null,"V položce jsou zakalkulovány náklady na napuštění vodou a dodání vody pro zkoušku těsnosti.",null,null,null,null,null,null,null,null,"V položce jsou zakalkulovány náklady na napuštění vodou a dodání vody pro zkoušku těsnosti.",null,null,3]
[null,null,"Pro UV1:1,80",null,1.8,null,null,null,null,null,null,null,"Pro UV1:1,80"]
[null,null,"Pro UV2:1,80",null,1.8,null,null,null,null,null,null,null,"Pro UV2:1,80"]
[null,null,"Pro UV3:2,50",null,2.5,null,null,null,null,null,null,null,"Pro UV3:2,50"]
[null,null,"Pro UV4:1,90",null,1.9,null,null,null,null,null,null,null,"Pro UV4:1,90"]
[null,null,"Pro UV5:4,40",null,4.4000000000000004,null,null,null,null,null,null,null,"Pro UV5:4,40"]
[null,null,"Pro ŽL1:2,00",null,2,null,null,null,null,null,null,null,"Pro ŽL1:2,00"]
[18,"892601121R00","Čištění kanalizační stoky do DN 200, do 15 m ","úsek",6,null,{"$f":"E151*F151","v":0},0,{"$f":"E151*H151","v":0},0,{"$f":"E151*J151","v":0},null,null,null,2,null,null,null,null,null,null,null,null,null,null,null,1,1,1,null,null,null,null,null,null,null,null,null,null,null,null,null,null,null,null,null,null,null,null,null,null,1,{"$f":"IF(AZ151=1,G151,0)","v":0},{"$f":"IF(AZ151=2,G151,0)","v":0},{"$f":"IF(AZ151=3,G151,0)","v":0},{"$f":"IF(AZ151=4,G151,0)","v":0},{"$f":"IF(AZ151=5,G151,0)","v":0},null,null,null,null,null,null,null,null,null,null,null,null,null,null,null,null,null,null,null,null,null,1,1]
[null,null,"V položce je zakalkulováno:",null,null,null,null,null,null,null,null,"V položce je zakalkulováno:",null,null,3]
[null,null,"a) otevření a uzavření revizních šachet a čisticích kusů",null,null,null,null,null,null,null,null,"a) otevření a uzavření revizních šachet a čisticích kusů",null,null,3]
[null,null,"b) natažení vysokotlakých hadic k místu odkud se bude kanalizace čistit",null,null,null,null,null,null,null,null,"b) natažení vysokotlakých hadic k místu odkud se bude kanalizace čistit",null,null,3]
[null,null,"c) vyčištění potrubí tlakovou vodou nebo motorovým pérem.",null,null,null,null,null,null,null,null,"c) vyčištění potrubí tlakovou vodou nebo motorovým pérem.",null,null,3]
[null,null,"Pro UV1:1",null,1,null,null,null,null,null,null,null,"Pro UV1:1"]
[null,null,"Pro UV2:1",null,1,null,null,null,null,null,null,null,"Pro UV2:1"]
[null,null,"Pro UV3:1",null,1,null,null,null,null,null,null,null,"Pro UV3:1"]
[null,null,"Pro UV4:1",null,1,null,null,null,null,null,null,null,"Pro UV4:1"]
[null,null,"Pro UV5:1",null,1,null,null,null,null,null,null,null,"Pro UV5:1"]
[null,null,"Pro ŽL1:1",null,1,null,null,null,null,null,null,null,"Pro ŽL1:1"]
[19,"895941311RT2","Zřízení vpusti uliční z dílců typ UVB - 50 včetně dodávky dílců pro uliční vpusti TB -Q","kus",5,null,{"$f":"E162*F162","v":0},3.0596700000000001,{"$f":"E162*H162","v":15.298350000000001},0,{"$f":"E162*J162","v":0},null,null,null,2,null,null,null,null,null,null,null,null,null,null,null,1,1,1,null,null,null,null,null,null,null,null,null,null,null,null,null,null,null,null,null,null,null,null,null,null,1,{"$f":"IF(AZ162=1,G162,0)","v":0},{"$f":"IF(AZ162=2,G162,0)","v":0},{"$f":"IF(AZ162=3,G162,0)","v":0},{"$f":"IF(AZ162=4,G162,0)","v":0},{"$f":"IF(AZ162=5,G162,0)","v":0},null,null,null,null,null,null,null,null,null,null,null,null,null,null,null,null,null,null,null,null,null,1,1]
[null,null,"Dodávka prvků dle TZ projektové dokumentace včetně kalového koše A4",null,null,null,null,null,null,null,null,"Dodávka prvků dle TZ projektové dokumentace včetně kalového koše A4",null,null,3]
[null,null,"UV1 - UV5:5",null,5,null,null,null,null,null,null,null,"UV1 - UV5:5"]
[20,"899202111R00","Osazení mříží litinových s rámem do 100 kg včetně dodávky mříže D400  500 x 500 KM12P","kus",5,null,{"$f":"E165*F165","v":0},7.936E-2,{"$f":"E165*H165","v":0.39679999999999999},0,{"$f":"E165*J165","v":0},null,null,null,2,null,null,null,null,null,null,null,null,null,null,null,1,0,0,null,null,null,null,null,null,null,null,null,null,null,null,null,null,null,null,null,null,null,null,null,null,1,{"$f":"IF(AZ165=1,G165,0)","v":0},{"$f":"IF(AZ165=2,G165,0)","v":0},{"$f":"IF(AZ165=3,G165,0)","v":0},{"$f":"IF(AZ165=4,G165,0)","v":0},{"$f":"IF(AZ165=5,G165,0)","v":0},null,null,null,null,null,null,null,null,null,null,null,null,null,null,null,null,null,null,null,null,null,1,0]
[null,null,"Položka je určena pro osazení mříží litinových včetně rámů a košů na bahno.",null,null,null,null,null,null,null,null,"Položka je určena pro osazení mříží litinových včetně rámů a košů na bahno.",null,null,3]
[null,null,"UV1 - UV5:5",null,5,null,null,null,null,null,null,null,"UV1 - UV5:5"]
[21,"286111903","Trubka kanalizační PVC SN min. 12 DN 150","kus",15.7392,null,{"$f":"E168*F168","v":0},3.0599999999999999E-2,{"$f":"E168*H168","v":0.48161951999999997},null,{"$f":"E168*J168","v":0},null,null,null,2,null,null,null,null,null,null,null,null,null,null,null,3,1,286111903,null,null,null,null,null,null,null,null,null,null,null,null,null,null,null,null,null,null,null,null,null,null,1,{"$f":"IF(AZ168=1,G168,0)","v":0},{"$f":"IF(AZ168=2,G168,0)","v":0},{"$f":"IF(AZ168=3,G168,0)","v":0},{"$f":"IF(AZ168=4,G168,0)","v":0},{"$f":"IF(AZ168=5,G168,0)","v":0},null,null,null,null,null,null,null,null,null,null,null,null,null,null,null,null,null,null,null,null,null,3,1]
[null,null,"Jedná  se  o  plnostěnné kanalizační trubky DN 150 – DN 400, min. SN 12 kN/m2 , zvenčí  i  zevnitř  hladké. Jsou  opatřeny hrdlem,  v  němž  je  vložen vysoce  elastický  jazýčkový  kroužek.  konce  trubek  (dříků)  jsou opatřeny  zkosením  pod  úhlem  15°.  Způsob  použití  trubek  je  „U“  dle  normy  ČSN  EN  1401-1, tj. mimo budovy. Spolehlivá  funkce  těsnění  je  jištěna  výztužným  kroužkem  z  elastomeru.  Je  tak  zamezeno  vypad-nutí nebo vytlačení kroužku při manipulaci a montáži. Tento systém zaručuje při správné montáži ",null,null,null,null,null,null,null,null,"Jedná  se  o  plnostěnné kanalizační trubky DN 150 – DN 400, min. SN 12 kN/m2 , zvenčí  i  zevnitř  hladké. Jsou  opatřeny hrdlem,  v  němž  je  vložen vysoce  elastický  jazýčkový  kroužek.  konce  trubek  (dříků)  jsou opatřeny  zkosením  pod  úhlem  15°.  Způsob  použití  trubek  je  „U“  dle  normy  ČSN  EN  1401-1, tj. mimo budovy. Spolehlivá  funkce  těsnění  je  jištěna  výztužným  kroužkem  z  elastomeru.  Je  tak  zamezeno  vypad-nutí nebo vytlačení kroužku při manipulaci a montáži. Tento systém zaručuje při správné montáži ",null,null,3]
[null,null,"dokonalou  těsnost  do  výšky  vodního  sloupce  5  metrů.",null,null,null,null,null,null,null,null,"dokonalou  těsnost  do  výšky  vodního  sloupce  5  metrů.",null,null,3]
[null,null,"Teplota při pokládce: min. -10 °C, max. 50 °C",null,null,null,null,null,null,null,null,"Teplota při pokládce: min. -10 °C, max. 50 °C",null,null,3]
[null,null,"Max. teplota média: trvale do 40 °C, krátkodobě do 60 °C",null,null,null,null,null,null,null,null,"Max. teplota média: trvale do 40 °C, krátkodobě do 60 °C",null,null,3]
[null,null,"Orientační výška krytí: min. 0,5 m, max. 10 m",null,null,null,null,null,null,null,null,"Orientační výška krytí: min. 0,5 m, max. 10 m",null,null,3]
[null,null,"Max. rychlost média: 12 m/s",null,null,null,null,null,null,null,null,"Max. rychlost média: 12 m/s",null,null,3]
[null,null,"Pro UV1:1,80*1,093",null,1.9674,null,null,null,null,null,null,null,"Pro UV1:1,80*1,093"]
[null,null,"Pro UV2:1,80*1,093",null,1.9674,null,null,null,null,null,null,null,"Pro UV2:1,80*1,093"]
[null,null,"Pro UV3:2,50*1,093",null,2.7324999999999999,null,null,null,null,null,null,null,"Pro UV3:2,50*1,093"]
[null,null,"Pro UV4:1,90*1,093",null,2.0767000000000002,null,null,null,null,null,null,null,"Pro UV4:1,90*1,093"]
[null,null,"Pro UV5:4,40*1,093",null,4.8091999999999997,null,null,null,null,null,null,null,"Pro UV5:4,40*1,093"]
[null,null,"Pro ŽL1:2,00*1,093",null,2.1859999999999999,null,null,null,null,null,null,null,"Pro ŽL1:2,00*1,093"]
[22,"286506003","Koleno kanalizační PVC SDR 34 DN 150/45°","kus",12.18,null,{"$f":"E181*F181","v":0},1.2700000000000001E-3,{"$f":"E181*H181","v":1.5468600000000001E-2},null,{"$f":"E181*J181","v":0},null,null,null,2,null,null,null,null,null,null,null,null,null,null,null,3,1,286506003,null,null,null,null,null,null,null,null,null,null,null,null,null,null,null,null,null,null,null,null,null,null,1,{"$f":"IF(AZ181=1,G181,0)","v":0},{"$f":"IF(AZ181=2,G181,0)","v":0},{"$f":"IF(AZ181=3,G181,0)","v":0},{"$f":"IF(AZ181=4,G181,0)","v":0},{"$f":"IF(AZ181=5,G181,0)","v":0},null,null,null,null,null,null,null,null,null,null,null,null,null,null,null,null,null,null,null,null,null,3,1]
[null,null,"Tvarovky kanalizačního systému PVC SDR 34",null,null,null,null,null,null,null,null,"Tvarovky kanalizačního systému PVC SDR 34",null,null,3]
[null,null,"Teplota při pokládce: min. -10 °C, max. 50 °C",null,null,null,null,null,null,null,null,"Teplota při pokládce: min. -10 °C, max. 50 °C",null,null,3]
[null,null,"Max. teplota média: trvale do 40 °C, krátkodobě do 60 °C",null,null,null,null,null,null,null,null,"Max. teplota média: trvale do 40 °C, krátkodobě do 60 °C",null,null,3]
[null,null,"Orientační výška krytí: min. 0,5 m, max. 10 m",null,null,null,null,null,null,null,null,"Orientační výška krytí: min. 0,5 m, max. 10 m",null,null,3]
[null,null,"Max. rychlost média: 12 m/s",null,null,null,null,null,null,null,null,"Max. rychlost média: 12 m/s",null,null,3]
[null,null,"Pro UV1:2*1,015",null,2.0299999999999998,null,null,null,null,null,null,null,"Pro UV1:2*1,015"]
[null,null,"Pro UV2:2*1,015",null,2.0299999999999998,null,null,null,null,null,null,null,"Pro UV2:2*1,015"]
[null,null,"Pro UV3:2*1,015",null,2.0299999999999998,null,null,null,null,null,null,null,"Pro UV3:2*1,015"]
[null,null,"Pro UV4:2*1,015",null,2.0299999999999998,null,null,null,null,null,null,null,"Pro UV4:2*1,015"]
[null,null,"Pro UV5:2*1,015",null,2.0299999999999998,null,null,null,null,null,null,null,"Pro UV5:2*1,015"]
[null,null,"Pro ŽL1:2*1,015",null,2.0299999999999998,null,null,null,null,null,null,null,"Pro ŽL1:2*1,015"]
[null,"Celkem za","8 Trubní vedení",null,null,null,{"$f":"SUM(G128:G192)","v":0},null,{"$f":"SUM(I128:I192)","v":16.21275812},null,{"$f":"SUM(K128:K192)","v":0},null,null,null,4,null,null,null,null,null,null,null,null,null,null,null,null,null,null,null,null,null,null,null,null,null,null,null,null,null,null,null,null,null,null,null,null,null,null,null,null,null,{"$f":"SUM(BA128:BA192)","v":0},{"$f":"SUM(BB128:BB192)","v":0},{"$f":"SUM(BC128:BC192)","v":0},{"$f":"SUM(BD128:BD192)","v":0},{"$f":"SUM(BE128:BE192)","v":0}]
["Díl:","99","Staveništní přesun hmot",null,null,null,null,null,null,null,null,null,null,null,1]
[23,"998276101R00","Přesun hmot, trubní vedení plastová, otevř. výkop ","t",41.80178514,null,{"$f":"E195*F195","v":0},0,{"$f":"E195*H195","v":0},null,{"$f":"E195*J195","v":0},null,null,null,2,null,null,null,null,null,null,null,null,null,null,null,7,1,2,null,null,null,null,null,null,null,null,null,null,null,null,null,null,null,null,null,null,null,null,null,null,1,{"$f":"IF(AZ195=1,G195,0)","v":0},{"$f":"IF(AZ195=2,G195,0)","v":0},{"$f":"IF(AZ195=3,G195,0)","v":0},{"$f":"IF(AZ195=4,G195,0)","v":0},{"$f":"IF(AZ195=5,G195,0)","v":0},null,null,null,null,null,null,null,null,null,null,null,null,null,null,null,null,null,null,null,null,null,7,1]
[null,null,"Položka je určena pro trubní vedení (vodovod nebo kanalizace) hloubené nebo ražené z trub z plastických hmot nebo sklolaminátových včetně drobných objektů. Platnost položky je vymezena pro nejmenší skladovací plochu 50 m2 + 1,30 m2/t, pro největší dopravní vzdálenost 15 m od hrany výkopu na povrchu nebo 15 m od okraje šachty k těžišti skládek na povrchu. ",null,null,null,null,null,null,null,null,"Položka je určena pro trubní vedení (vodovod nebo kanalizace) hloubené nebo ražené z trub z plastických hmot nebo sklolaminátových včetně drobných objektů. Platnost položky je vymezena pro nejmenší skladovací plochu 50 m2 + 1,30 m2/t, pro největší dopravní vzdálenost 15 m od hrany výkopu na povrchu nebo 15 m od okraje šachty k těžišti skládek na povrchu. ",null,null,3]
[null,"Celkem za","99 Staveništní přesun hmot",null,null,null,{"$f":"SUM(G194:G196)","v":0},null,{"$f":"SUM(I194:I196)","v":0},null,{"$f":"SUM(K194:K196)","v":0},null,null,null,4,null,null,null,null,null,null,null,null,null,null,null,null,null,null,null,null,null,null,null,null,null,null,null,null,null,null,null,null,null,null,null,null,null,null,null,null,null,{"$f":"SUM(BA194:BA196)","v":0},{"$f":"SUM(BB194:BB196)","v":0},{"$f":"SUM(BC194:BC196)","v":0},{"$f":"SUM(BD194:BD196)","v":0},{"$f":"SUM(BE194:BE196)","v":0}]

{"sheet":"306 3236306.1 KL","index":28,"n_rows":45,"n_cols":8,"rows_kept":45,"cut":false,"hidden":false,"merged":[[22,0,22,1],[7,2,7,4],[8,2,8,4],[9,2,9,4],[10,2,10,4],[11,2,11,4],[50,1,50,6],[29,5,29,6],[30,5,30,6],[31,5,31,6],[32,5,32,6],[33,5,33,6],[36,1,44,6],[45,1,45,6],[46,1,46,6],[47,1,47,6],[48,1,48,6],[49,1,49,6]]}
["POLOŽKOVÝ ROZPOČET"]
["Rozpočet",null,"3236/306.1","Prodloužení vodovodu",null,"JKSO ","827.11.A1"]
[]
["Objekt",null,null,null,null,"SKP "]
["306",null,"Prodloužení vodovodu, přípojky",null,null,"Měrná jednotka","m"]
["Stavba",null,null,null,null,"Počet jednotek",0]
["3236",null,"Bytová zóna Hruštice - Károvsko - Etapa VII.",null,null,"Náklady na m.j.",{"$f":"IF(G6=0,,ROUND((F30+F32)/G6,1))","v":0}]
["Projektant",null,"PROFES PROJEKT spol.s r.o.",null,null,"Typ rozpočtu"]
["Zpracovatel projektu"]
["Objednatel",null,"Město TURNOV"]
["Dodavatel",null,".",null,null,"Zakázkové číslo "]
["Rozpočtoval",null,null,null,null,"Počet listů"]
["ROZPOČTOVÉ NÁKLADY"]
["Základní rozpočtové náklady"]
[null,"HSV celkem",{"$f":"'306 3236306.1 Rek'!E11","v":0}]
["Z","PSV celkem",{"$f":"'306 3236306.1 Rek'!F11","v":0}]
["R","M práce celkem",{"$f":"'306 3236306.1 Rek'!H11","v":0}]
["N","M dodávky celkem",{"$f":"'306 3236306.1 Rek'!G11","v":0}]
["ZRN celkem",null,{"$f":"SUM(C15:C18)","v":0}]
[]
["HZS",null,{"$f":"'306 3236306.1 Rek'!I11","v":0}]
["ZRN+HZS",null,{"$f":"C19+C21","v":0}]
["ZRN+ost.náklady+HZS",null,{"$f":"C22+G23","v":0}]
["Vypracoval",null,null,"Za zhotovitele",null,"Za objednatele"]
["Jméno :",null,null,"Jméno :",null,"Jméno :"]
["Datum :",null,null,"Datum :",null,"Datum :"]
[]
["Podpis :",null,null,"Podpis:",null,"Podpis:"]
[]
["Základ pro DPH",null,21,"%  ",null,{"$f":"C23-F32","v":0}]
["DPH",null,{"$f":"C30","v":21},"% ",null,{"$f":"ROUND(PRODUCT(F30,C31/100),0)","v":0}]
["Základ pro DPH",null,0,"% ",null,0]
["DPH",null,{"$f":"C32","v":0},"% ",null,{"$f":"ROUND(PRODUCT(F32,C33/100),0)","v":0}]
["CENA ZA OBJEKT CELKEM",null,null,null,null,{"$f":"ROUND(SUM(F30:F33),0)","v":0}]
[]
["Poznámka :",null,null,null,null,null,null," "]
[null,null,null,null,null,null,null," "]
[null,null,null,null,null,null,null," "]
[null,null,null,null,null,null,null," "]
[null,null,null,null,null,null,null," "]
[null,null,null,null,null,null,null," "]
[null,null,null,null,null,null,null," "]
[null,null,null,null,null,null,null," "]
[null,null,null,null,null,null,null," "]
[null,null,null,null,null,null,null," "]

{"sheet":"306 3236306.1 Rek","index":29,"n_rows":11,"n_cols":9,"rows_kept":11,"cut":false,"hidden":false,"merged":[[0,0,0,1],[1,0,1,1],[1,6,1,8]]}
["Stavba :",null,"3236 Bytová zóna Hruštice - Károvsko - Etapa VII.",null,null,null,"Rozpočet :","3236/306.1"]
["Objekt :",null,"306 Prodloužení vodovodu, přípojky",null,null,null,"Prodloužení vodovodu"]
[]
["REKAPITULACE  STAVEBNÍCH  DÍLŮ"]
[]
[null,"Stavební díl",null,null,"HSV","PSV","Dodávka","Montáž","HZS"]
[{"$f":"'306 3236306.1 Pol'!B7","v":"1"},{"$f":"'306 3236306.1 Pol'!C7","v":"Zemní práce"},null,null,{"$f":"'306 3236306.1 Pol'!BA71","v":0},{"$f":"'306 3236306.1 Pol'!BB71","v":0},{"$f":"'306 3236306.1 Pol'!BC71","v":0},{"$f":"'306 3236306.1 Pol'!BD71","v":0},{"$f":"'306 3236306.1 Pol'!BE71","v":0}]
[{"$f":"'306 3236306.1 Pol'!B72","v":"45"},{"$f":"'306 3236306.1 Pol'!C72","v":"Podkladní a vedlejší konstrukce"},null,null,{"$f":"'306 3236306.1 Pol'!BA77","v":0},{"$f":"'306 3236306.1 Pol'!BB77","v":0},{"$f":"'306 3236306.1 Pol'!BC77","v":0},{"$f":"'306 3236306.1 Pol'!BD77","v":0},{"$f":"'306 3236306.1 Pol'!BE77","v":0}]
[{"$f":"'306 3236306.1 Pol'!B78","v":"8"},{"$f":"'306 3236306.1 Pol'!C78","v":"Trubní vedení"},null,null,{"$f":"'306 3236306.1 Pol'!BA365","v":0},{"$f":"'306 3236306.1 Pol'!BB365","v":0},{"$f":"'306 3236306.1 Pol'!BC365","v":0},{"$f":"'306 3236306.1 Pol'!BD365","v":0},{"$f":"'306 3236306.1 Pol'!BE365","v":0}]
[{"$f":"'306 3236306.1 Pol'!B366","v":"99"},{"$f":"'306 3236306.1 Pol'!C366","v":"Staveništní přesun hmot"},null,null,{"$f":"'306 3236306.1 Pol'!BA369","v":0},{"$f":"'306 3236306.1 Pol'!BB369","v":0},{"$f":"'306 3236306.1 Pol'!BC369","v":0},{"$f":"'306 3236306.1 Pol'!BD369","v":0},{"$f":"'306 3236306.1 Pol'!BE369","v":0}]
[null,"CELKEM  OBJEKT",null,null,{"$f":"SUM(E7:E10)","v":0},{"$f":"SUM(F7:F10)","v":0},{"$f":"SUM(G7:G10)","v":0},{"$f":"SUM(H7:H10)","v":0},{"$f":"SUM(I7:I10)","v":0}]

{"sheet":"306 3236306.1 Pol","index":30,"n_rows":369,"n_cols":80,"rows_kept":369,"cut":false,"hidden":false,"merged":[[12,2,12,3],[13,2,13,3],[14,2,14,3],[15,2,15,3],[17,2,17,6],[18,2,18,6],[0,0,0,6],[2,0,2,1],[3,0,3,1],[3,4,3,6],[8,2,8,6],[9,2,9,6],[10,2,10,3],[11,2,11,3],[26,2,26,3],[27,2,27,3],[28,2,28,3],[29,2,29,3],[31,2,31,6],[32,2,32,6],[19,2,19,3],[20,2,20,3],[21,2,21,3],[22,2,22,3],[23,2,23,3],[25,2,25,3],[40,2,40,3],[41,2,41,3],[42,2,42,3],[43,2,43,3],[45,2,45,3],[46,2,46,3],[33,2,33,3],[34,2,34,3],[35,2,35,3],[36,2,36,3],[37,2,37,3],[39,2,39,3],[54,2,54,3],[56,2,56,6],[57,2,57,3],[58,2,58,3],[60,2,60,3],[61,2,61,3],[47,2,47,3],[48,2,48,3],[49,2,49,3],[50,2,50,3],[51,2,51,3],[53,2,53,3],[69,2,69,3],[73,2,73,3],[74,2,74,3],[90,2,90,6],[91,2,91,6],[92,2,92,3],[93,2,93,3],[63,2,63,3],[64,2,64,3],[65,2,65,3],[66,2,66,3],[67,2,67,3],[68,2,68,3],[79,2,79,3],[80,2,80,3],[82,2,82,6],[83,2,83,6],[84,2,84,3],[85,2,85,3],[86,2,86,3],[87,2,87,3],[88,2,88,3],[101,2,101,3],[102,2,102,3],[103,2,103,3],[104,2,104,3],[105,2,105,3],[106,2,106,3],[94,2,94,3],[95,2,95,3],[97,2,97,3],[98,2,98,3],[99,2,99,3],[100,2,100,3],[114,2,114,3],[115,2,115,3],[116,2,116,3],[118,2,118,3],[119,2,119,3],[120,2,120,3],[107,2,107,3],[108,2,108,3],[109,2,109,3],[110,2,110,3],[111,2,111,3],[112,2,112,3],[129,2,129,3],[131,2,131,6],[132,2,132,3],[133,2,133,3],[134,2,134,3],[135,2,135,3],[122,2,122,3],[123,2,123,3],[124,2,124,3],[126,2,126,6],[127,2,127,3],[128,2,128,3],[142,2,142,3],[143,2,143,3],[144,2,144,3],[145,2,145,3],[146,2,146,3],[147,2,147,3],[136,2,136,3],[137,2,137,3],[138,2,138,3],[139,2,139,3],[140,2,140,3],[141,2,141,3],[156,2,156,3],[158,2,158,6],[159,2,159,3],[160,2,160,3],[161,2,161,3],[162,2,162,3],[149,2,149,6],[150,2,150,3],[151,2,151,3],[152,2,152,3],[154,2,154,6],[155,2,155,3],[169,2,169,3],[170,2,170,3],[171,2,171,3],[172,2,172,3],[173,2,173,3],[174,2,174,3],[163,2,163,3],[164,2,164,3],[165,2,165,3],[166,2,166,3],[167,2,167,3],[168,2,168,3],[183,2,183,3],[184,2,184,3],[185,2,185,3],[186,2,186,3],[188,2,188,3],[189,2,189,3],[176,2,176,6],[177,2,177,3],[178,2,178,3],[179,2,179,3],[180,2,180,3],[182,2,182,6],[197,2,197,3],[199,2,199,6],[200,2,200,3],[201,2,201,3],[202,2,202,3],[203,2,203,3],[191,2,191,6],[192,2,192,3],[193,2,193,3],[194,2,194,3],[195,2,195,3],[196,2,196,3],[210,2,210,3],[211,2,211,3],[212,2,212,3],[213,2,213,3],[214,2,214,3],[215,2,215,3],[204,2,204,3],[205,2,205,3],[206,2,206,3],[207,2,207,3],[208,2,208,3],[209,2,209,3],[223,2,223,3],[224,2,224,3],[225,2,225,3],[227,2,227,3],[228,2,228,3],[229,2,229,3],[216,2,216,3],[217,2,217,3],[218,2,218,3],[219,2,219,3],[220,2,220,3],[222,2,222,3],[236,2,236,3],[237,2,237,3],[238,2,238,3],[239,2,239,3],[240,2,240,3],[241,2,241,3],[230,2,230,3],[231,2,231,3],[232,2,232,3],[233,2,233,3],[234,2,234,3],[235,2,235,3],[250,2,250,3],[251,2,251,3],[253,2,253,3],[254,2,254,3],[255,2,255,3],[242,2,242,3],[244,2,244,3],[245,2,245,3],[246,2,246,3],[247,2,247,3],[249,2,249,3],[263,2,263,3],[264,2,264,3],[265,2,265,3],[266,2,266,3],[267,2,267,3],[268,2,268,3],[257,2,257,3],[258,2,258,3],[259,2,259,3],[260,2,260,3],[261,2,261,3],[262,2,262,3],[276,2,276,3],[277,2,277,3],[278,2,278,3],[279,2,279,3],[280,2,280,3],[281,2,281,3],[269,2,269,3],[270,2,270,3],[271,2,271,3],[272,2,272,3],[274,2,274,3],[275,2,275,3],[288,2,288,3],[289,2,289,3],[291,2,291,3],[282,2,282,3],[283,2,283,3],[284,2,284,3],[285,2,285,3],[286,2,286,3],[287,2,287,3],[298,2,298,3],[299,2,299,3],[300,2,300,3],[301,2,301,3],[302,2,302,3],[303,2,303,3],[292,2,292,3],[293,2,293,3],[294,2,294,3],[295,2,295,3],[296,2,296,3],[297,2,297,3],[312,2,312,3],[313,2,313,3],[314,2,314,3],[315,2,315,3],[317,2,317,6],[318,2,318,6],[304,2,304,3],[305,2,305,3],[306,2,306,3],[308,2,308,3],[309,2,309,3],[310,2,310,3],[325,2,325,3],[327,2,327,6],[328,2,328,6],[329,2,329,6],[330,2,330,6],[331,2,331,6],[319,2,319,6],[320,2,320,6],[321,2,321,6],[322,2,322,6],[323,2,323,3],[324,2,324,3],[339,2,339,3],[340,2,340,3],[342,2,342,3],[343,2,343,3],[345,2,345,3],[346,2,346,3],[332,2,332,6],[333,2,333,3],[334,2,334,3],[335,2,335,3],[337,2,337,3],[338,2,338,3],[363,2,363,3],[367,2,367,6],[355,2,355,3],[357,2,357,3],[358,2,358,3],[359,2,359,3],[361,2,361,3],[362,2,362,3],[347,2,347,3],[349,2,349,3],[350,2,350,3],[351,2,351,3],[353,2,353,3],[354,2,354,3]]}
["Položkový rozpočet "]
[]
["Stavba :",null,"3236 Bytová zóna Hruštice - Károvsko - Etapa VII.",null,"Rozpočet:",{"$f":"'306 3236306.1 Rek'!H1","v":"3236/306.1"}]
["Objekt :",null,"306 Prodloužení vodovodu, přípojky",null,{"$f":"'306 3236306.1 Rek'!G2","v":"Prodloužení vodovodu"}]
[]
["P.č.","Číslo položky","Název položky","MJ","množství","cena / MJ","celkem (Kč)","Jednotková hmotnost","Celková hmotnost","Jednotková dem.hmot.","Celková dem.hmot."]
["Díl:","1","Zemní práce",null,null,null,null,null,null,null,null,null,null,null,1]
[1,"120001101RRX","Příplatek za ztížení vykopávky v blízkosti vedení ","m3",9.6614000000000004,null,{"$f":"E8*F8","v":0},0,{"$f":"E8*H8","v":0},0,{"$f":"E8*J8","v":0},null,null,null,2,null,null,null,null,null,null,null,null,null,null,null,1,1,1,null,null,null,null,null,null,null,null,null,null,null,null,null,null,null,null,null,null,null,null,null,null,1,{"$f":"IF(AZ8=1,G8,0)","v":0},{"$f":"IF(AZ8=2,G8,0)","v":0},{"$f":"IF(AZ8=3,G8,0)","v":0},{"$f":"IF(AZ8=4,G8,0)","v":0},{"$f":"IF(AZ8=5,G8,0)","v":0},null,null,null,null,null,null,null,null,null,null,null,null,null,null,null,null,null,null,null,null,null,1,1]
[null,null,"Včetně ruční dokopávky a ručního výkopu.",null,null,null,null,null,null,null,null,"Včetně ruční dokopávky a ručního výkopu.",null,null,3]
[null,null,"Součástí položky je i případná potřeba dočasnéhon zajištění potrubí a kabelových vedení ve výkopu.",null,null,null,null,null,null,null,null,"Součástí položky je i případná potřeba dočasnéhon zajištění potrubí a kabelových vedení ve výkopu.",null,null,3]
[null,null,"Výkopy:",null,0,null,null,null,null,null,null,null,"Výkopy:"]
[null,null,"Začátek provozního součtu",null,0,null,null,null,null,null,null,null,"Začátek provozního součtu"]
[null,null,"Řad \"Np\" TLT DN100:39,80*0,80*(1,60-0,40)",null,38.207999999999998,null,null,null,null,null,null,null,"Řad \"Np\" TLT DN100:39,80*0,80*(1,60-0,40)"]
[null,null,"Řad \"Nv\" TLT DN100:62,40*0,80*((1,50+1,64)/2-0,40)",null,58.406399999999998,null,null,null,null,null,null,null,"Řad \"Nv\" TLT DN100:62,40*0,80*((1,50+1,64)/2-0,40)"]
[null,null,"Konec provozního součtu",null,96.614399999999989,null,null,null,null,null,null,null,"Konec provozního součtu"]
[null,null,"V hornině tř. 3 - 4 - 10%:96,6144*0,1",null,9.6614000000000004,null,null,null,null,null,null,null,"V hornině tř. 3 - 4 - 10%:96,6144*0,1"]
[2,"132201211RRX","Hloubení rýh š.do 200 cm hor.3 do 100 m3,STROJNĚ ","m3",48.307200000000002,null,{"$f":"E17*F17","v":0},0,{"$f":"E17*H17","v":0},0,{"$f":"E17*J17","v":0},null,null,null,2,null,null,null,null,null,null,null,null,null,null,null,1,1,1,null,null,null,null,null,null,null,null,null,null,null,null,null,null,null,null,null,null,null,null,null,null,1,{"$f":"IF(AZ17=1,G17,0)","v":0},{"$f":"IF(AZ17=2,G17,0)","v":0},{"$f":"IF(AZ17=3,G17,0)","v":0},{"$f":"IF(AZ17=4,G17,0)","v":0},{"$f":"IF(AZ17=5,G17,0)","v":0},null,null,null,null,null,null,null,null,null,null,null,null,null,null,null,null,null,null,null,null,null,1,1]
[null,null,"Položka obsahuje hloubení rýh traktorbagrem, naložení výkopku na dopravní prostředek pro svislé, nebo vodorovné přemístění, popř. přemístění výkopku do 3 m (po povrchu území), případné zajištění rypadel polštáři, udržování pracoviště a ochranu výkopiště proti stékání srážkové vody z okolního terénu i s jejím odvodněním, nebo odvedením, přesekání a odstranění kořenů ve výkopišti, odstranění napadávek, urovnání dna výkopu.",null,null,null,null,null,null,null,null,"Položka obsahuje hloubení rýh traktorbagrem, naložení výkopku na dopravní prostředek pro svislé, nebo vodorovné přemístění, popř. přemístění výkopku do 3 m (po povrchu území), případné zajištění rypadel polštáři, udržování pracoviště a ochranu výkopiště proti stékání srážkové vody z okolního terénu i s jejím odvodněním, nebo odvedením, přesekání a odstranění kořenů ve výkopišti, odstranění napadávek, urovnání dna výkopu.",null,null,3]
[null,null,"Součástí položky je i zřízení a odstranění pažení rýhy v souladu s předpisy BOZP.",null,null,null,null,null,null,null,null,"Součástí položky je i zřízení a odstranění pažení rýhy v souladu s předpisy BOZP.",null,null,3]
[null,null,"Začátek provozního součtu",null,0,null,null,null,null,null,null,null,"Začátek provozního součtu"]
[null,null,"Řad \"Np\" TLT DN100:39,80*0,80*(1,60-0,40)",null,38.207999999999998,null,null,null,null,null,null,null,"Řad \"Np\" TLT DN100:39,80*0,80*(1,60-0,40)"]
[null,null,"Řad \"Nv\" TLT DN100:62,40*0,80*((1,50+1,64)/2-0,40)",null,58.406399999999998,null,null,null,null,null,null,null,"Řad \"Nv\" TLT DN100:62,40*0,80*((1,50+1,64)/2-0,40)"]
[null,null,"Konec provozního součtu",null,96.614399999999989,null,null,null,null,null,null,null,"Konec provozního součtu"]
[null,null,"V hornině tř. 3 - 50%:96,6144*0,5",null,48.307200000000002,null,null,null,null,null,null,null,"V hornině tř. 3 - 50%:96,6144*0,5"]
[3,"132201219R00","Přípl.za lepivost,hloubení rýh 200cm,hor.3,STROJNĚ ","m3",24.153600000000001,null,{"$f":"E25*F25","v":0},0,{"$f":"E25*H25","v":0},0,{"$f":"E25*J25","v":0},null,null,null,2,null,null,null,null,null,null,null,null,null,null,null,1,1,1,null,null,null,null,null,null,null,null,null,null,null,null,null,null,null,null,null,null,null,null,null,null,1,{"$f":"IF(AZ25=1,G25,0)","v":0},{"$f":"IF(AZ25=2,G25,0)","v":0},{"$f":"IF(AZ25=3,G25,0)","v":0},{"$f":"IF(AZ25=4,G25,0)","v":0},{"$f":"IF(AZ25=5,G25,0)","v":0},null,null,null,null,null,null,null,null,null,null,null,null,null,null,null,null,null,null,null,null,null,1,1]
[null,null,"Začátek provozního součtu",null,0,null,null,null,null,null,null,null,"Začátek provozního součtu"]
[null,null,"Řad \"Np\" TLT DN100:39,80*0,80*(1,60-0,40)",null,38.207999999999998,null,null,null,null,null,null,null,"Řad \"Np\" TLT DN100:39,80*0,80*(1,60-0,40)"]
[null,null,"Řad \"Nv\" TLT DN100:62,40*0,80*((1,50+1,64)/2-0,40)",null,58.406399999999998,null,null,null,null,null,null,null,"Řad \"Nv\" TLT DN100:62,40*0,80*((1,50+1,64)/2-0,40)"]
[null,null,"Konec provozního součtu",null,96.614399999999989,null,null,null,null,null,null,null,"Konec provozního součtu"]
[null,null,"V hornině tř. 3 - 50%:96,6144*0,5*0,5",null,24.153600000000001,null,null,null,null,null,null,null,"V hornině tř. 3 - 50%:96,6144*0,5*0,5"]
[4,"132301211RRX","Hloubení rýh š.do 200 cm hor.4 do 100 m3, STROJNĚ ","m3",48.307200000000002,null,{"$f":"E31*F31","v":0},0,{"$f":"E31*H31","v":0},0,{"$f":"E31*J31","v":0},null,null,null,2,null,null,null,null,null,null,null,null,null,null,null,1,1,1,null,null,null,null,null,null,null,null,null,null,null,null,null,null,null,null,null,null,null,null,null,null,1,{"$f":"IF(AZ31=1,G31,0)","v":0},{"$f":"IF(AZ31=2,G31,0)","v":0},{"$f":"IF(AZ31=3,G31,0)","v":0},{"$f":"IF(AZ31=4,G31,0)","v":0},{"$f":"IF(AZ31=5,G31,0)","v":0},null,null,null,null,null,null,null,null,null,null,null,null,null,null,null,null,null,null,null,null,null,1,1]
[null,null,"Položka obsahuje hloubení rýh traktorbagrem, naložení výkopku na dopravní prostředek pro svislé, nebo vodorovné přemístění, popř. přemístění výkopku do 3 m (po povrchu území), případné zajištění rypadel polštáři, udržování pracoviště a ochranu výkopiště proti stékání srážkové vody z okolního terénu i s jejím odvodněním, nebo odvedením, přesekání a odstranění kořenů ve výkopišti, odstranění napadávek, urovnání dna výkopu.",null,null,null,null,null,null,null,null,"Položka obsahuje hloubení rýh traktorbagrem, naložení výkopku na dopravní prostředek pro svislé, nebo vodorovné přemístění, popř. přemístění výkopku do 3 m (po povrchu území), případné zajištění rypadel polštáři, udržování pracoviště a ochranu výkopiště proti stékání srážkové vody z okolního terénu i s jejím odvodněním, nebo odvedením, přesekání a odstranění kořenů ve výkopišti, odstranění napadávek, urovnání dna výkopu.",null,null,3]
[null,null,"Součástí položky je i zřízení a odstranění pažení rýhy v souladu s předpisy BOZP.",null,null,null,null,null,null,null,null,"Součástí položky je i zřízení a odstranění pažení rýhy v souladu s předpisy BOZP.",null,null,3]
[null,null,"Začátek provozního součtu",null,0,null,null,null,null,null,null,null,"Začátek provozního součtu"]
[null,null,"Řad \"Np\" TLT DN100:39,80*0,80*(1,60-0,40)",null,38.207999999999998,null,null,null,null,null,null,null,"Řad \"Np\" TLT DN100:39,80*0,80*(1,60-0,40)"]
[null,null,"Řad \"Nv\" TLT DN100:62,40*0,80*((1,50+1,64)/2-0,40)",null,58.406399999999998,null,null,null,null,null,null,null,"Řad \"Nv\" TLT DN100:62,40*0,80*((1,50+1,64)/2-0,40)"]
[null,null,"Konec provozního součtu",null,96.614399999999989,null,null,null,null,null,null,null,"Konec provozního součtu"]
[null,null,"V hornině tř. 4 - 50%:96,6144*0,5",null,48.307200000000002,null,null,null,null,null,null,null,"V hornině tř. 4 - 50%:96,6144*0,5"]
[5,"132301219R00","Přípl.za lepivost,hloubení rýh 200cm,hor.4,STROJNĚ ","m3",24.153600000000001,null,{"$f":"E39*F39","v":0},0,{"$f":"E39*H39","v":0},0,{"$f":"E39*J39","v":0},null,null,null,2,null,null,null,null,null,null,null,null,null,null,null,1,1,1,null,null,null,null,null,null,null,null,null,null,null,null,null,null,null,null,null,null,null,null,null,null,1,{"$f":"IF(AZ39=1,G39,0)","v":0},{"$f":"IF(AZ39=2,G39,0)","v":0},{"$f":"IF(AZ39=3,G39,0)","v":0},{"$f":"IF(AZ39=4,G39,0)","v":0},{"$f":"IF(AZ39=5,G39,0)","v":0},null,null,null,null,null,null,null,null,null,null,null,null,null,null,null,null,null,null,null,null,null,1,1]
[null,null,"Začátek provozního součtu",null,0,null,null,null,null,null,null,null,"Začátek provozního součtu"]
[null,null,"Řad \"Np\" TLT DN100:39,80*0,80*(1,60-0,40)",null,38.207999999999998,null,null,null,null,null,null,null,"Řad \"Np\" TLT DN100:39,80*0,80*(1,60-0,40)"]
[null,null,"Řad \"Nv\" TLT DN100:62,40*0,80*((1,50+1,64)/2-0,40)",null,58.406399999999998,null,null,null,null,null,null,null,"Řad \"Nv\" TLT DN100:62,40*0,80*((1,50+1,64)/2-0,40)"]
[null,null,"Konec provozního součtu",null,96.614399999999989,null,null,null,null,null,null,null,"Konec provozního součtu"]
[null,null,"V hornině tř. 4 - 50%:96,6144*0,5*0,5",null,24.153600000000001,null,null,null,null,null,null,null,"V hornině tř. 4 - 50%:96,6144*0,5*0,5"]
[6,"162701105RSZ","Vodorovné přemístění výkopku z hor.1-7 na skládku zhotovitele","m3",66.406400000000005,null,{"$f":"E45*F45","v":0},0,{"$f":"E45*H45","v":0},0,{"$f":"E45*J45","v":0},null,null,null,2,null,null,null,null,null,null,null,null,null,null,null,1,1,1,null,null,null,null,null,null,null,null,null,null,null,null,null,null,null,null,null,null,null,null,null,null,1,{"$f":"IF(AZ45=1,G45,0)","v":0},{"$f":"IF(AZ45=2,G45,0)","v":0},{"$f":"IF(AZ45=3,G45,0)","v":0},{"$f":"IF(AZ45=4,G45,0)","v":0},{"$f":"IF(AZ45=5,G45,0)","v":0},null,null,null,null,null,null,null,null,null,null,null,null,null,null,null,null,null,null,null,null,null,1,1]
[null,null,"Výkopy:",null,0,null,null,null,null,null,null,null,"Výkopy:"]
[null,null,"Začátek provozního součtu",null,0,null,null,null,null,null,null,null,"Začátek provozního součtu"]
[null,null,"Řad \"Np\" TLT DN100:39,80*0,80*(1,60-0,40)",null,38.207999999999998,null,null,null,null,null,null,null,"Řad \"Np\" TLT DN100:39,80*0,80*(1,60-0,40)"]
[null,null,"Řad \"Nv\" TLT DN100:62,40*0,80*((1,50+1,64)/2-0,40)",null,58.406399999999998,null,null,null,null,null,null,null,"Řad \"Nv\" TLT DN100:62,40*0,80*((1,50+1,64)/2-0,40)"]
[null,null,"Konec provozního součtu",null,96.614399999999989,null,null,null,null,null,null,null,"Konec provozního součtu"]
[null,null,"V hornině tř. 3 - 4:96,6144",null,96.614400000000003,null,null,null,null,null,null,null,"V hornině tř. 3 - 4:96,6144"]
[null,null,"Odpočet zásypů zeminou:-30,2080",null,-30.207999999999998,null,null,null,null,null,null,null,"Odpočet zásypů zeminou:-30,2080"]
[7,"174100050RAA","Zásyp jam,rýh a šachet štěrkodrtí fr. 0-63 mm včetně dovozu štěrkodrtě","m3",63.910400000000003,null,{"$f":"E53*F53","v":0},1.873,{"$f":"E53*H53","v":119.7041792},0,{"$f":"E53*J53","v":0},null,null,null,2,null,null,null,null,null,null,null,null,null,null,null,1,1,1,null,null,null,null,null,null,null,null,null,null,null,null,null,null,null,null,null,null,null,null,null,null,1,{"$f":"IF(AZ53=1,G53,0)","v":0},{"$f":"IF(AZ53=2,G53,0)","v":0},{"$f":"IF(AZ53=3,G53,0)","v":0},{"$f":"IF(AZ53=4,G53,0)","v":0},{"$f":"IF(AZ53=5,G53,0)","v":0},null,null,null,null,null,null,null,null,null,null,null,null,null,null,null,null,null,null,null,null,null,1,1]
[null,null,"Řad \"Np\" TLT DN100:39,80*0,80*(1,60-0,10-0,10-0,30-0,30)",null,25.472000000000001,null,null,null,null,null,null,null,"Řad \"Np\" TLT DN100:39,80*0,80*(1,60-0,10-0,10-0,30-0,30)"]
[null,null,"Řad \"Nv\" TLT DN100:62,40*0,80*((1,50+1,64)/2-0,10-0,10-0,30-0,30)",null,38.438400000000001,null,null,null,null,null,null,null,"Řad \"Nv\" TLT DN100:62,40*0,80*((1,50+1,64)/2-0,10-0,10-0,30-0,30)"]
[8,"174101101R00","Zásyp jam, rýh, šachet se zhutněním ","m3",30.207999999999998,null,{"$f":"E56*F56","v":0},0,{"$f":"E56*H56","v":0},0,{"$f":"E56*J56","v":0},null,null,null,2,null,null,null,null,null,null,null,null,null,null,null,1,1,1,null,null,null,null,null,null,null,null,null,null,null,null,null,null,null,null,null,null,null,null,null,null,1,{"$f":"IF(AZ56=1,G56,0)","v":0},{"$f":"IF(AZ56=2,G56,0)","v":0},{"$f":"IF(AZ56=3,G56,0)","v":0},{"$f":"IF(AZ56=4,G56,0)","v":0},{"$f":"IF(AZ56=5,G56,0)","v":0},null,null,null,null,null,null,null,null,null,null,null,null,null,null,null,null,null,null,null,null,null,1,1]
[null,null,"včetně strojního přemístění materiálu pro zásyp ze vzdálenosti do 10 m od okraje zásypu",null,null,null,null,null,null,null,null,"včetně strojního přemístění materiálu pro zásyp ze vzdálenosti do 10 m od okraje zásypu",null,null,3]
[null,null,"Řad \"Np\" TLT DN100:39,80*0,80*0,40",null,12.736000000000001,null,null,null,null,null,null,null,"Řad \"Np\" TLT DN100:39,80*0,80*0,40"]
[null,null,"Řad \"Nv\" TLT DN100:62,40*0,80*(0,40+0,30)/2",null,17.472000000000001,null,null,null,null,null,null,null,"Řad \"Nv\" TLT DN100:62,40*0,80*(0,40+0,30)/2"]
[9,"175100020RAA","Obsyp potrubí štěrkopískem včetně dovozu štěrkopísku","m3",31.901299999999999,null,{"$f":"E60*F60","v":0},1.873,{"$f":"E60*H60","v":59.751134899999997},0,{"$f":"E60*J60","v":0},null,null,null,2,null,null,null,null,null,null,null,null,null,null,null,1,1,1,null,null,null,null,null,null,null,null,null,null,null,null,null,null,null,null,null,null,null,null,null,null,1,{"$f":"IF(AZ60=1,G60,0)","v":0},{"$f":"IF(AZ60=2,G60,0)","v":0},{"$f":"IF(AZ60=3,G60,0)","v":0},{"$f":"IF(AZ60=4,G60,0)","v":0},{"$f":"IF(AZ60=5,G60,0)","v":0},null,null,null,null,null,null,null,null,null,null,null,null,null,null,null,null,null,null,null,null,null,1,1]
[null,null,"Řad \"Np\" TLT DN100:39,80*(0,80*(0,10+0,30)-0,05^2*Pi)",null,12.423400000000001,null,null,null,null,null,null,null,"Řad \"Np\" TLT DN100:39,80*(0,80*(0,10+0,30)-0,05^2*Pi)"]
[null,null,"Řad \"Nv\" TLT DN100:62,40*(0,80*(0,10+0,30)-0,05^2*Pi)",null,19.477900000000002,null,null,null,null,null,null,null,"Řad \"Nv\" TLT DN100:62,40*(0,80*(0,10+0,30)-0,05^2*Pi)"]
[10,"199000002R00","Poplatek za skládku horniny 1- 7 ","m3",66.406400000000005,null,{"$f":"E63*F63","v":0},0,{"$f":"E63*H63","v":0},0,{"$f":"E63*J63","v":0},null,null,null,2,null,null,null,null,null,null,null,null,null,null,null,1,1,1,null,null,null,null,null,null,null,null,null,null,null,null,null,null,null,null,null,null,null,null,null,null,1,{"$f":"IF(AZ63=1,G63,0)","v":0},{"$f":"IF(AZ63=2,G63,0)","v":0},{"$f":"IF(AZ63=3,G63,0)","v":0},{"$f":"IF(AZ63=4,G63,0)","v":0},{"$f":"IF(AZ63=5,G63,0)","v":0},null,null,null,null,null,null,null,null,null,null,null,null,null,null,null,null,null,null,null,null,null,1,1]
[null,null,"Výkopy:",null,0,null,null,null,null,null,null,null,"Výkopy:"]
[null,null,"Začátek provozního součtu",null,0,null,null,null,null,null,null,null,"Začátek provozního součtu"]
[null,null,"Řad \"Np\" TLT DN100:39,80*0,80*(1,60-0,40)",null,38.207999999999998,null,null,null,null,null,null,null,"Řad \"Np\" TLT DN100:39,80*0,80*(1,60-0,40)"]
[null,null,"Řad \"Nv\" TLT DN100:62,40*0,80*((1,50+1,64)/2-0,40)",null,58.406399999999998,null,null,null,null,null,null,null,"Řad \"Nv\" TLT DN100:62,40*0,80*((1,50+1,64)/2-0,40)"]
[null,null,"Konec provozního součtu",null,96.614399999999989,null,null,null,null,null,null,null,"Konec provozního součtu"]
[null,null,"V hornině tř. 3 - 4:96,6144",null,96.614400000000003,null,null,null,null,null,null,null,"V hornině tř. 3 - 4:96,6144"]
[null,null,"Odpočet zásypů zeminou:-30,2080",null,-30.207999999999998,null,null,null,null,null,null,null,"Odpočet zásypů zeminou:-30,2080"]
[null,"Celkem za","1 Zemní práce",null,null,null,{"$f":"SUM(G7:G70)","v":0},null,{"$f":"SUM(I7:I70)","v":179.45531410000001},null,{"$f":"SUM(K7:K70)","v":0},null,null,null,4,null,null,null,null,null,null,null,null,null,null,null,null,null,null,null,null,null,null,null,null,null,null,null,null,null,null,null,null,null,null,null,null,null,null,null,null,null,{"$f":"SUM(BA7:BA70)","v":0},{"$f":"SUM(BB7:BB70)","v":0},{"$f":"SUM(BC7:BC70)","v":0},{"$f":"SUM(BD7:BD70)","v":0},{"$f":"SUM(BE7:BE70)","v":0}]
["Díl:","45","Podkladní a vedlejší konstrukce",null,null,null,null,null,null,null,null,null,null,null,1]
[11,"451572111R00","Lože pod potrubí z kameniva těženého 0 - 4 mm ","m3",8.1760000000000002,null,{"$f":"E73*F73","v":0},0.43051,{"$f":"E73*H73","v":3.51984976},0,{"$f":"E73*J73","v":0},null,null,null,2,null,null,null,null,null,null,null,null,null,null,null,1,1,1,null,null,null,null,null,null,null,null,null,null,null,null,null,null,null,null,null,null,null,null,null,null,1,{"$f":"IF(AZ73=1,G73,0)","v":0},{"$f":"IF(AZ73=2,G73,0)","v":0},{"$f":"IF(AZ73=3,G73,0)","v":0},{"$f":"IF(AZ73=4,G73,0)","v":0},{"$f":"IF(AZ73=5,G73,0)","v":0},null,null,null,null,null,null,null,null,null,null,null,null,null,null,null,null,null,null,null,null,null,1,1]
[null,null,"Řad \"Np\" TLT DN100:39,80*0,80*0,10",null,3.1840000000000002,null,null,null,null,null,null,null,"Řad \"Np\" TLT DN100:39,80*0,80*0,10"]
[null,null,"Řad \"Nv\" TLT DN100:62,40*0,80*0,10",null,4.992,null,null,null,null,null,null,null,"Řad \"Nv\" TLT DN100:62,40*0,80*0,10"]
[12,"452313131R00","Bloky pro potrubí z betonu C 12/15 ","m3",1.1850000000000001,null,{"$f":"E76*F76","v":0},2.5,{"$f":"E76*H76","v":2.9625000000000004},0,{"$f":"E76*J76","v":0},null,null,null,2,null,null,null,null,null,null,null,null,null,null,null,1,1,1,null,null,null,null,null,null,null,null,null,null,null,null,null,null,null,null,null,null,null,null,null,null,1,{"$f":"IF(AZ76=1,G76,0)","v":0},{"$f":"IF(AZ76=2,G76,0)","v":0},{"$f":"IF(AZ76=3,G76,0)","v":0},{"$f":"IF(AZ76=4,G76,0)","v":0},{"$f":"IF(AZ76=5,G76,0)","v":0},null,null,null,null,null,null,null,null,null,null,null,null,null,null,null,null,null,null,null,null,null,1,1]
[null,"Celkem za","45 Podkladní a vedlejší konstrukce",null,null,null,{"$f":"SUM(G72:G76)","v":0},null,{"$f":"SUM(I72:I76)","v":6.48234976},null,{"$f":"SUM(K72:K76)","v":0},null,null,null,4,null,null,null,null,null,null,null,null,null,null,null,null,null,null,null,null,null,null,null,null,null,null,null,null,null,null,null,null,null,null,null,null,null,null,null,null,null,{"$f":"SUM(BA72:BA76)","v":0},{"$f":"SUM(BB72:BB76)","v":0},{"$f":"SUM(BC72:BC76)","v":0},{"$f":"SUM(BD72:BD76)","v":0},{"$f":"SUM(BE72:BE76)","v":0}]
["Díl:","8","Trubní vedení",null,null,null,null,null,null,null,null,null,null,null,1]
[13,"851601102RT1","Montáž potrubí tlakového, tvárná litina DN 100 hrdlové, pružný spoj, ve výkopu","m",102.2,null,{"$f":"E79*F79","v":0},0,{"$f":"E79*H79","v":0},0,{"$f":"E79*J79","v":0},null,null,null,2,null,null,null,null,null,null,null,null,null,null,null,1,1,1,null,null,null,null,null,null,null,null,null,null,null,null,null,null,null,null,null,null,null,null,null,null,1,{"$f":"IF(AZ79=1,G79,0)","v":0},{"$f":"IF(AZ79=2,G79,0)","v":0},{"$f":"IF(AZ79=3,G79,0)","v":0},{"$f":"IF(AZ79=4,G79,0)","v":0},{"$f":"IF(AZ79=5,G79,0)","v":0},null,null,null,null,null,null,null,null,null,null,null,null,null,null,null,null,null,null,null,null,null,1,1]
[null,null,"Řad \"Np\" TLT DN100:39,80",null,39.799999999999997,null,null,null,null,null,null,null,"Řad \"Np\" TLT DN100:39,80"]
[null,null,"Řad \"Nv\" TLT DN100:62,40",null,62.4,null,null,null,null,null,null,null,"Řad \"Nv\" TLT DN100:62,40"]
[14,"857242121R00","Montáž tvarovek litin. jednoos.přír. výkop DN 80 ","kus",6,null,{"$f":"E82*F82","v":0},2.2000000000000001E-4,{"$f":"E82*H82","v":1.32E-3},0,{"$f":"E82*J82","v":0},null,null,null,2,null,null,null,null,null,null,null,null,null,null,null,1,1,1,null,null,null,null,null,null,null,null,null,null,null,null,null,null,null,null,null,null,null,null,null,null,1,{"$f":"IF(AZ82=1,G82,0)","v":0},{"$f":"IF(AZ82=2,G82,0)","v":0},{"$f":"IF(AZ82=3,G82,0)","v":0},{"$f":"IF(AZ82=4,G82,0)","v":0},{"$f":"IF(AZ82=5,G82,0)","v":0},null,null,null,null,null,null,null,null,null,null,null,null,null,null,null,null,null,null,null,null,null,1,1]
[null,null,"Položka je určena pro montáž litinových tvarovek na potrubí litinovém tlakovém přírubovém jednoosých v otevřeném výkopu, v otevřeném kanálu nebo v šachtě.",null,null,null,null,null,null,null,null,"Položka je určena pro montáž litinových tvarovek na potrubí litinovém tlakovém přírubovém jednoosých v otevřeném výkopu, v otevřeném kanálu nebo v šachtě.",null,null,3]
[null,null,"Součástí položky je i dodávka nerezových spojovacích prvků (šrouby, podložky, matky) a kompletního obandážování spojů.",null,null,null,null,null,null,null,null,"Součástí položky je i dodávka nerezových spojovacích prvků (šrouby, podložky, matky) a kompletního obandážování spojů.",null,null,3]
[null,null,"Řad \"Np\" TLT DN100:",null,0,null,null,null,null,null,null,null,"Řad \"Np\" TLT DN100:"]
[null,null,"Řad \"Nv\" TLT DN100:",null,0,null,null,null,null,null,null,null,"Řad \"Nv\" TLT DN100:"]
[null,null,"N DN80:2",null,2,null,null,null,null,null,null,null,"N DN80:2"]
[null,null,"PPL DN80:3",null,3,null,null,null,null,null,null,null,"PPL DN80:3"]
[null,null,"Q DN80:1",null,1,null,null,null,null,null,null,null,"Q DN80:1"]
[15,"857262121R00","Montáž tvarovek litin. jednoos. přír. výkop DN 100 ","kus",5,null,{"$f":"E90*F90","v":0},4.0999999999999999E-4,{"$f":"E90*H90","v":2.0499999999999997E-3},0,{"$f":"E90*J90","v":0},null,null,null,2,null,null,null,null,null,null,null,null,null,null,null,1,1,1,null,null,null,null,null,null,null,null,null,null,null,null,null,null,null,null,null,null,null,null,null,null,1,{"$f":"IF(AZ90=1,G90,0)","v":0},{"$f":"IF(AZ90=2,G90,0)","v":0},{"$f":"IF(AZ90=3,G90,0)","v":0},{"$f":"IF(AZ90=4,G90,0)","v":0},{"$f":"IF(AZ90=5,G90,0)","v":0},null,null,null,null,null,null,null,null,null,null,null,null,null,null,null,null,null,null,null,null,null,1,1]
[null,null,"Položka je určena pro montáž litinových tvarovek na potrubí litinovém tlakovém přírubovém jednoosých v otevřeném výkopu, v otevřeném kanálu nebo v šachtě.",null,null,null,null,null,null,null,null,"Položka je určena pro montáž litinových tvarovek na potrubí litinovém tlakovém přírubovém jednoosých v otevřeném výkopu, v otevřeném kanálu nebo v šachtě.",null,null,3]
[null,null,"Součástí položky je i dodávka nerezových spojovacích prvků (šrouby, podložky, matky) a kompletního obandážování spojů.",null,null,null,null,null,null,null,null,"Součástí položky je i dodávka nerezových spojovacích prvků (šrouby, podložky, matky) a kompletního obandážování spojů.",null,null,3]
[null,null,"Řad \"Np\" TLT DN100:",null,0,null,null,null,null,null,null,null,"Řad \"Np\" TLT DN100:"]
[null,null,"Řad \"Nv\" TLT DN100:",null,0,null,null,null,null,null,null,null,"Řad \"Nv\" TLT DN100:"]
[null,null,"FFR DN100/80:1",null,1,null,null,null,null,null,null,null,"FFR DN100/80:1"]
[null,null,"EU DN100:4",null,4,null,null,null,null,null,null,null,"EU DN100:4"]
[16,"891163111R00","Montáž ventilů hlavních pro přípojky DN 25 ","kus",14,null,{"$f":"E97*F97","v":0},2.0000000000000002E-5,{"$f":"E97*H97","v":2.8000000000000003E-4},0,{"$f":"E97*J97","v":0},null,null,null,2,null,null,null,null,null,null,null,null,null,null,null,1,1,1,null,null,null,null,null,null,null,null,null,null,null,null,null,null,null,null,null,null,null,null,null,null,1,{"$f":"IF(AZ97=1,G97,0)","v":0},{"$f":"IF(AZ97=2,G97,0)","v":0},{"$f":"IF(AZ97=3,G97,0)","v":0},{"$f":"IF(AZ97=4,G97,0)","v":0},{"$f":"IF(AZ97=5,G97,0)","v":0},null,null,null,null,null,null,null,null,null,null,null,null,null,null,null,null,null,null,null,null,null,1,1]
[null,null,"Řad \"Np\" TLT DN100:",null,0,null,null,null,null,null,null,null,"Řad \"Np\" TLT DN100:"]
[null,null,"Řad \"Nv\" TLT DN100:",null,0,null,null,null,null,null,null,null,"Řad \"Nv\" TLT DN100:"]
[null,null,"Vp2 PE D 32x3,0 mm:1",null,1,null,null,null,null,null,null,null,"Vp2 PE D 32x3,0 mm:1"]
[null,null,"Vp3 PE D 32x3,0 mm:1",null,1,null,null,null,null,null,null,null,"Vp3 PE D 32x3,0 mm:1"]
[null,null,"Vp4 PE D 32x3,0 mm:1",null,1,null,null,null,null,null,null,null,"Vp4 PE D 32x3,0 mm:1"]
[null,null,"Vp5 PE D 32x3,0 mm:1",null,1,null,null,null,null,null,null,null,"Vp5 PE D 32x3,0 mm:1"]
[null,null,"Vp6 PE D 32x3,0 mm:1",null,1,null,null,null,null,null,null,null,"Vp6 PE D 32x3,0 mm:1"]
[null,null,"Vs1 PE D 32x3,0 mm:1",null,1,null,null,null,null,null,null,null,"Vs1 PE D 32x3,0 mm:1"]
[null,null,"Vs2 PE D 32x3,0 mm:1",null,1,null,null,null,null,null,null,null,"Vs2 PE D 32x3,0 mm:1"]
[null,null,"Vs3 PE D 32x3,0 mm:1",null,1,null,null,null,null,null,null,null,"Vs3 PE D 32x3,0 mm:1"]
[null,null,"Vs4 PE D 32x3,0 mm:1",null,1,null,null,null,null,null,null,null,"Vs4 PE D 32x3,0 mm:1"]
[null,null,"Vs5 PE D 32x3,0 mm:1",null,1,null,null,null,null,null,null,null,"Vs5 PE D 32x3,0 mm:1"]
[null,null,"Vs6 PE D 32x3,0 mm:1",null,1,null,null,null,null,null,null,null,"Vs6 PE D 32x3,0 mm:1"]
[null,null,"Vs7 PE D 32x3,0 mm:1",null,1,null,null,null,null,null,null,null,"Vs7 PE D 32x3,0 mm:1"]
[null,null,"Vs8 PE D 32x3,0 mm:1",null,1,null,null,null,null,null,null,null,"Vs8 PE D 32x3,0 mm:1"]
[null,null,"Vs9 PE D 32x3,0 mm:1",null,1,null,null,null,null,null,null,null,"Vs9 PE D 32x3,0 mm:1"]
[17,"891241111R00","Montáž vodovodních šoupátek ve výkopu DN 80 ","kus",1,null,{"$f":"E114*F114","v":0},2.2000000000000001E-4,{"$f":"E114*H114","v":2.2000000000000001E-4},0,{"$f":"E114*J114","v":0},null,null,null,2,null,null,null,null,null,null,null,null,null,null,null,1,1,1,null,null,null,null,null,null,null,null,null,null,null,null,null,null,null,null,null,null,null,null,null,null,1,{"$f":"IF(AZ114=1,G114,0)","v":0},{"$f":"IF(AZ114=2,G114,0)","v":0},{"$f":"IF(AZ114=3,G114,0)","v":0},{"$f":"IF(AZ114=4,G114,0)","v":0},{"$f":"IF(AZ114=5,G114,0)","v":0},null,null,null,null,null,null,null,null,null,null,null,null,null,null,null,null,null,null,null,null,null,1,1]
[null,null,"Řad \"Np\" TLT DN100:",null,0,null,null,null,null,null,null,null,"Řad \"Np\" TLT DN100:"]
[null,null,"Řad \"Nv\" TLT DN100:",null,0,null,null,null,null,null,null,null,"Řad \"Nv\" TLT DN100:"]
[null,null,"Š DN80:1",null,1,null,null,null,null,null,null,null,"Š DN80:1"]
[18,"891243321R00","Montáž ventilů odvzdušňovacích přírub. DN 80 ","kus",1,null,{"$f":"E118*F118","v":0},7.9000000000000001E-4,{"$f":"E118*H118","v":7.9000000000000001E-4},0,{"$f":"E118*J118","v":0},null,null,null,2,null,null,null,null,null,null,null,null,null,null,null,1,1,1,null,null,null,null,null,null,null,null,null,null,null,null,null,null,null,null,null,null,null,null,null,null,1,{"$f":"IF(AZ118=1,G118,0)","v":0},{"$f":"IF(AZ118=2,G118,0)","v":0},{"$f":"IF(AZ118=3,G118,0)","v":0},{"$f":"IF(AZ118=4,G118,0)","v":0},{"$f":"IF(AZ118=5,G118,0)","v":0},null,null,null,null,null,null,null,null,null,null,null,null,null,null,null,null,null,null,null,null,null,1,1]
[null,null,"Řad \"Np\" TLT DN100:",null,0,null,null,null,null,null,null,null,"Řad \"Np\" TLT DN100:"]
[null,null,"Řad \"Nv\" TLT DN100:",null,0,null,null,null,null,null,null,null,"Řad \"Nv\" TLT DN100:"]
[null,null,"ZOH DN80/1,25:1",null,1,null,null,null,null,null,null,null,"ZOH DN80/1,25:1"]
[19,"891247111R00","Montáž hydrantů podzemních DN 80 ","kus",1,null,{"$f":"E122*F122","v":0},1.1E-4,{"$f":"E122*H122","v":1.1E-4},0,{"$f":"E122*J122","v":0},null,null,null,2,null,null,null,null,null,null,null,null,null,null,null,1,1,1,null,null,null,null,null,null,null,null,null,null,null,null,null,null,null,null,null,null,null,null,null,null,1,{"$f":"IF(AZ122=1,G122,0)","v":0},{"$f":"IF(AZ122=2,G122,0)","v":0},{"$f":"IF(AZ122=3,G122,0)","v":0},{"$f":"IF(AZ122=4,G122,0)","v":0},{"$f":"IF(AZ122=5,G122,0)","v":0},null,null,null,null,null,null,null,null,null,null,null,null,null,null,null,null,null,null,null,null,null,1,1]
[null,null,"Řad \"Np\" TLT DN100:",null,0,null,null,null,null,null,null,null,"Řad \"Np\" TLT DN100:"]
[null,null,"Řad \"Nv\" TLT DN100:",null,0,null,null,null,null,null,null,null,"Řad \"Nv\" TLT DN100:"]
[null,null,"Hp DN80/1,5:1",null,1,null,null,null,null,null,null,null,"Hp DN80/1,5:1"]
[20,"891261111R00","Montáž vodovodních šoupátek ve výkopu DN 100 ","kus",3,null,{"$f":"E126*F126","v":0},4.0999999999999999E-4,{"$f":"E126*H126","v":1.23E-3},0,{"$f":"E126*J126","v":0},null,null,null,2,null,null,null,null,null,null,null,null,null,null,null,1,1,1,null,null,null,null,null,null,null,null,null,null,null,null,null,null,null,null,null,null,null,null,null,null,1,{"$f":"IF(AZ126=1,G126,0)","v":0},{"$f":"IF(AZ126=2,G126,0)","v":0},{"$f":"IF(AZ126=3,G126,0)","v":0},{"$f":"IF(AZ126=4,G126,0)","v":0},{"$f":"IF(AZ126=5,G126,0)","v":0},null,null,null,null,null,null,null,null,null,null,null,null,null,null,null,null,null,null,null,null,null,1,1]
[null,null,"Položka je určena pro montáž vodovodních šoupátek v otevřeném výkopu nebo v šachtách s osazením zemní soupravy (bez poklopů). V položce jsou zakalkulovány i náklady na vytvoření otvorů ve stropech šachet pro prostup zemních souprav šoupátek. ",null,null,null,null,null,null,null,null,"Položka je určena pro montáž vodovodních šoupátek v otevřeném výkopu nebo v šachtách s osazením zemní soupravy (bez poklopů). V položce jsou zakalkulovány i náklady na vytvoření otvorů ve stropech šachet pro prostup zemních souprav šoupátek. ",null,null,3]
[null,null,"Řad \"Np\" TLT DN100:",null,0,null,null,null,null,null,null,null,"Řad \"Np\" TLT DN100:"]
[null,null,"Řad \"Nv\" TLT DN100:",null,0,null,null,null,null,null,null,null,"Řad \"Nv\" TLT DN100:"]
[null,null,"Š DN100:3",null,3,null,null,null,null,null,null,null,"Š DN100:3"]
[21,"891269111R00","Montáž navrtávacích pasů DN 100 ","kus",14,null,{"$f":"E131*F131","v":0},0,{"$f":"E131*H131","v":0},0,{"$f":"E131*J131","v":0},null,null,null,2,null,null,null,null,null,null,null,null,null,null,null,1,1,1,null,null,null,null,null,null,null,null,null,null,null,null,null,null,null,null,null,null,null,null,null,null,1,{"$f":"IF(AZ131=1,G131,0)","v":0},{"$f":"IF(AZ131=2,G131,0)","v":0},{"$f":"IF(AZ131=3,G131,0)","v":0},{"$f":"IF(AZ131=4,G131,0)","v":0},{"$f":"IF(AZ131=5,G131,0)","v":0},null,null,null,null,null,null,null,null,null,null,null,null,null,null,null,null,null,null,null,null,null,1,1]
[null,null,"Položka je určena pro montáž navrtávacích pasů s ventilem na potrubí z trub osinkocementových, litinových, ocelových nebo plastckých hmot.",null,null,null,null,null,null,null,null,"Položka je určena pro montáž navrtávacích pasů s ventilem na potrubí z trub osinkocementových, litinových, ocelových nebo plastckých hmot.",null,null,3]
[null,null,"Řad \"Np\" TLT DN100:",null,0,null,null,null,null,null,null,null,"Řad \"Np\" TLT DN100:"]
[null,null,"Řad \"Nv\" TLT DN100:",null,0,null,null,null,null,null,null,null,"Řad \"Nv\" TLT DN100:"]
[null,null,"Vp2 PE D 32x3,0 mm:1",null,1,null,null,null,null,null,null,null,"Vp2 PE D 32x3,0 mm:1"]
[null,null,"Vp3 PE D 32x3,0 mm:1",null,1,null,null,null,null,null,null,null,"Vp3 PE D 32x3,0 mm:1"]
[null,null,"Vp4 PE D 32x3,0 mm:1",null,1,null,null,null,null,null,null,null,"Vp4 PE D 32x3,0 mm:1"]
[null,null,"Vp5 PE D 32x3,0 mm:1",null,1,null,null,null,null,null,null,null,"Vp5 PE D 32x3,0 mm:1"]
[null,null,"Vp6 PE D 32x3,0 mm:1",null,1,null,null,null,null,null,null,null,"Vp6 PE D 32x3,0 mm:1"]
[null,null,"Vs1 PE D 32x3,0 mm:1",null,1,null,null,null,null,null,null,null,"Vs1 PE D 32x3,0 mm:1"]
[null,null,"Vs2 PE D 32x3,0 mm:1",null,1,null,null,null,null,null,null,null,"Vs2 PE D 32x3,0 mm:1"]
[null,null,"Vs3 PE D 32x3,0 mm:1",null,1,null,null,null,null,null,null,null,"Vs3 PE D 32x3,0 mm:1"]
[null,null,"Vs4 PE D 32x3,0 mm:1",null,1,null,null,null,null,null,null,null,"Vs4 PE D 32x3,0 mm:1"]
[null,null,"Vs5 PE D 32x3,0 mm:1",null,1,null,null,null,null,null,null,null,"Vs5 PE D 32x3,0 mm:1"]
[null,null,"Vs6 PE D 32x3,0 mm:1",null,1,null,null,null,null,null,null,null,"Vs6 PE D 32x3,0 mm:1"]
[null,null,"Vs7 PE D 32x3,0 mm:1",null,1,null,null,null,null,null,null,null,"Vs7 PE D 32x3,0 mm:1"]
[null,null,"Vs8 PE D 32x3,0 mm:1",null,1,null,null,null,null,null,null,null,"Vs8 PE D 32x3,0 mm:1"]
[null,null,"Vs9 PE D 32x3,0 mm:1",null,1,null,null,null,null,null,null,null,"Vs9 PE D 32x3,0 mm:1"]
[22,"892271111R00","Tlaková zkouška vodovodního potrubí DN 125 včetně zajištění konců potrubí","m",133,null,{"$f":"E149*F149","v":0},0,{"$f":"E149*H149","v":0},0,{"$f":"E149*J149","v":0},null,null,null,2,null,null,null,null,null,null,null,null,null,null,null,1,1,1,null,null,null,null,null,null,null,null,null,null,null,null,null,null,null,null,null,null,null,null,null,null,1,{"$f":"IF(AZ149=1,G149,0)","v":0},{"$f":"IF(AZ149=2,G149,0)","v":0},{"$f":"IF(AZ149=3,G149,0)","v":0},{"$f":"IF(AZ149=4,G149,0)","v":0},{"$f":"IF(AZ149=5,G149,0)","v":0},null,null,null,null,null,null,null,null,null,null,null,null,null,null,null,null,null,null,null,null,null,1,1]
[null,null,"V položce jsou započteny náklady na přísun, montáž, demontáž a odsun zkoušecího čerpadla, napuštění tlakovou vodou a dodání vody pro tlakovou zkoušku.",null,null,null,null,null,null,null,null,"V položce jsou započteny náklady na přísun, montáž, demontáž a odsun zkoušecího čerpadla, napuštění tlakovou vodou a dodání vody pro tlakovou zkoušku.",null,null,3]
[null,null,"Řad \"Np\" TLT DN100:39,80",null,39.799999999999997,null,null,null,null,null,null,null,"Řad \"Np\" TLT DN100:39,80"]
[null,null,"Řad \"Nv\" TLT DN100:62,40",null,62.4,null,null,null,null,null,null,null,"Řad \"Nv\" TLT DN100:62,40"]
[null,null,"Přeložka řadu \"V\" TLT DN100:30,80",null,30.8,null,null,null,null,null,null,null,"Přeložka řadu \"V\" TLT DN100:30,80"]
[23,"892273111R00","Desinfekce vodovodního potrubí DN 125 ","m",102.2,null,{"$f":"E154*F154","v":0},0,{"$f":"E154*H154","v":0},0,{"$f":"E154*J154","v":0},null,null,null,2,null,null,null,null,null,null,null,null,null,null,null,1,1,1,null,null,null,null,null,null,null,null,null,null,null,null,null,null,null,null,null,null,null,null,null,null,1,{"$f":"IF(AZ154=1,G154,0)","v":0},{"$f":"IF(AZ154=2,G154,0)","v":0},{"$f":"IF(AZ154=3,G154,0)","v":0},{"$f":"IF(AZ154=4,G154,0)","v":0},{"$f":"IF(AZ154=5,G154,0)","v":0},null,null,null,null,null,null,null,null,null,null,null,null,null,null,null,null,null,null,null,null,null,1,1]
[null,null,"V položce jsou zakalkulovány náklady na napuštění a vypuštění vody, dodání vody a desinfekčního prostředku a na bakteriologický rozbor vody.",null,null,null,null,null,null,null,null,"V položce jsou zakalkulovány náklady na napuštění a vypuštění vody, dodání vody a desinfekčního prostředku a na bakteriologický rozbor vody.",null,null,3]
[null,null,"Řad \"Np\" TLT DN100:39,80",null,39.799999999999997,null,null,null,null,null,null,null,"Řad \"Np\" TLT DN100:39,80"]
[null,null,"Řad \"Nv\" TLT DN100:62,40",null,62.4,null,null,null,null,null,null,null,"Řad \"Nv\" TLT DN100:62,40"]
[24,"899401111R00","Osazení poklopů litinových ventilových ","kus",14,null,{"$f":"E158*F158","v":0},6.3829999999999998E-2,{"$f":"E158*H158","v":0.89361999999999997},0,{"$f":"E158*J158","v":0},null,null,null,2,null,null,null,null,null,null,null,null,null,null,null,1,1,1,null,null,null,null,null,null,null,null,null,null,null,null,null,null,null,null,null,null,null,null,null,null,1,{"$f":"IF(AZ158=1,G158,0)","v":0},{"$f":"IF(AZ158=2,G158,0)","v":0},{"$f":"IF(AZ158=3,G158,0)","v":0},{"$f":"IF(AZ158=4,G158,0)","v":0},{"$f":"IF(AZ158=5,G158,0)","v":0},null,null,null,null,null,null,null,null,null,null,null,null,null,null,null,null,null,null,null,null,null,1,1]
[null,null,"V položkách osazení poklopů jsou zakalkulovány i náklady na jejich podezdění nebo osazení poklopů samonivelačních.",null,null,null,null,null,null,null,null,"V položkách osazení poklopů jsou zakalkulovány i náklady na jejich podezdění nebo osazení poklopů samonivelačních.",null,null,3]
[null,null,"Řad \"Np\" TLT DN100:",null,0,null,null,null,null,null,null,null,"Řad \"Np\" TLT DN100:"]
[null,null,"Řad \"Nv\" TLT DN100:",null,0,null,null,null,null,null,null,null,"Řad \"Nv\" TLT DN100:"]
[null,null,"Pro Vp2 PE D 32x3,0 mm:1",null,1,null,null,null,null,null,null,null,"Pro Vp2 PE D 32x3,0 mm:1"]
[null,null,"Pro Vp3 PE D 32x3,0 mm:1",null,1,null,null,null,null,null,null,null,"Pro Vp3 PE D 32x3,0 mm:1"]
[null,null,"Pro Vp4 PE D 32x3,0 mm:1",null,1,null,null,null,null,null,null,null,"Pro Vp4 PE D 32x3,0 mm:1"]
[null,null,"Pro Vp5 PE D 32x3,0 mm:1",null,1,null,null,null,null,null,null,null,"Pro Vp5 PE D 32x3,0 mm:1"]
[null,null,"Pro Vp6 PE D 32x3,0 mm:1",null,1,null,null,null,null,null,null,null,"Pro Vp6 PE D 32x3,0 mm:1"]
[null,null,"Pro Vs1 PE D 32x3,0 mm:1",null,1,null,null,null,null,null,null,null,"Pro Vs1 PE D 32x3,0 mm:1"]
[null,null,"Pro Vs2 PE D 32x3,0 mm:1",null,1,null,null,null,null,null,null,null,"Pro Vs2 PE D 32x3,0 mm:1"]
[null,null,"Pro Vs3 PE D 32x3,0 mm:1",null,1,null,null,null,null,null,null,null,"Pro Vs3 PE D 32x3,0 mm:1"]
[null,null,"Pro Vs4 PE D 32x3,0 mm:1",null,1,null,null,null,null,null,null,null,"Pro Vs4 PE D 32x3,0 mm:1"]
[null,null,"Pro Vs5 PE D 32x3,0 mm:1",null,1,null,null,null,null,null,null,null,"Pro Vs5 PE D 32x3,0 mm:1"]
[null,null,"Pro Vs6 PE D 32x3,0 mm:1",null,1,null,null,null,null,null,null,null,"Pro Vs6 PE D 32x3,0 mm:1"]
[null,null,"Pro Vs7 PE D 32x3,0 mm:1",null,1,null,null,null,null,null,null,null,"Pro Vs7 PE D 32x3,0 mm:1"]
[null,null,"Pro Vs8 PE D 32x3,0 mm:1",null,1,null,null,null,null,null,null,null,"Pro Vs8 PE D 32x3,0 mm:1"]
[null,null,"Pro Vs9 PE D 32x3,0 mm:1",null,1,null,null,null,null,null,null,null,"Pro Vs9 PE D 32x3,0 mm:1"]
[25,"899401112R00","Osazení poklopů litinových šoupátkových ","kus",4,null,{"$f":"E176*F176","v":0},0.11178,{"$f":"E176*H176","v":0.44712000000000002},0,{"$f":"E176*J176","v":0},null,null,null,2,null,null,null,null,null,null,null,null,null,null,null,1,1,1,null,null,null,null,null,null,null,null,null,null,null,null,null,null,null,null,null,null,null,null,null,null,1,{"$f":"IF(AZ176=1,G176,0)","v":0},{"$f":"IF(AZ176=2,G176,0)","v":0},{"$f":"IF(AZ176=3,G176,0)","v":0},{"$f":"IF(AZ176=4,G176,0)","v":0},{"$f":"IF(AZ176=5,G176,0)","v":0},null,null,null,null,null,null,null,null,null,null,null,null,null,null,null,null,null,null,null,null,null,1,1]
[null,null,"V položkách osazení poklopů jsou zakalkulovány i náklady na jejich podezdění nebo osazení poklopů samonivelačních.",null,null,null,null,null,null,null,null,"V položkách osazení poklopů jsou zakalkulovány i náklady na jejich podezdění nebo osazení poklopů samonivelačních.",null,null,3]
[null,null,"Řad \"Np\" TLT DN100:",null,0,null,null,null,null,null,null,null,"Řad \"Np\" TLT DN100:"]
[null,null,"Řad \"Nv\" TLT DN100:",null,0,null,null,null,null,null,null,null,"Řad \"Nv\" TLT DN100:"]
[null,null,"Pro Š DN80:1",null,1,null,null,null,null,null,null,null,"Pro Š DN80:1"]
[null,null,"Pro Š DN100:3",null,3,null,null,null,null,null,null,null,"Pro Š DN100:3"]
[26,"899401113R00","Osazení poklopů litinových hydrantových ","kus",2,null,{"$f":"E182*F182","v":0},0.32906000000000002,{"$f":"E182*H182","v":0.65812000000000004},0,{"$f":"E182*J182","v":0},null,null,null,2,null,null,null,null,null,null,null,null,null,null,null,1,1,1,null,null,null,null,null,null,null,null,null,null,null,null,null,null,null,null,null,null,null,null,null,null,1,{"$f":"IF(AZ182=1,G182,0)","v":0},{"$f":"IF(AZ182=2,G182,0)","v":0},{"$f":"IF(AZ182=3,G182,0)","v":0},{"$f":"IF(AZ182=4,G182,0)","v":0},{"$f":"IF(AZ182=5,G182,0)","v":0},null,null,null,null,null,null,null,null,null,null,null,null,null,null,null,null,null,null,null,null,null,1,1]
[null,null,"V položkách osazení poklopů jsou zakalkulovány i náklady na jejich podezdění nebo osazení poklopů samonivelačních.",null,null,null,null,null,null,null,null,"V položkách osazení poklopů jsou zakalkulovány i náklady na jejich podezdění nebo osazení poklopů samonivelačních.",null,null,3]
[null,null,"Řad \"Np\" TLT DN100:",null,0,null,null,null,null,null,null,null,"Řad \"Np\" TLT DN100:"]
[null,null,"Řad \"Nv\" TLT DN100:",null,0,null,null,null,null,null,null,null,"Řad \"Nv\" TLT DN100:"]
[null,null,"Pro Hp DN80/1,5:1",null,1,null,null,null,null,null,null,null,"Pro Hp DN80/1,5:1"]
[null,null,"Pro ZOH DN80/1,25:1",null,1,null,null,null,null,null,null,null,"Pro ZOH DN80/1,25:1"]
[27,"899711122R00","Fólie výstražná z PVC, šířka 30 cm ","m",102.2,null,{"$f":"E188*F188","v":0},0,{"$f":"E188*H188","v":0},0,{"$f":"E188*J188","v":0},null,null,null,2,null,null,null,null,null,null,null,null,null,null,null,1,1,1,null,null,null,null,null,null,null,null,null,null,null,null,null,null,null,null,null,null,null,null,null,null,1,{"$f":"IF(AZ188=1,G188,0)","v":0},{"$f":"IF(AZ188=2,G188,0)","v":0},{"$f":"IF(AZ188=3,G188,0)","v":0},{"$f":"IF(AZ188=4,G188,0)","v":0},{"$f":"IF(AZ188=5,G188,0)","v":0},null,null,null,null,null,null,null,null,null,null,null,null,null,null,null,null,null,null,null,null,null,1,1]
[null,null,"Řad \"Np\" TLT DN100:39,80",null,39.799999999999997,null,null,null,null,null,null,null,"Řad \"Np\" TLT DN100:39,80"]
[null,null,"Řad \"Nv\" TLT DN100:62,40",null,62.4,null,null,null,null,null,null,null,"Řad \"Nv\" TLT DN100:62,40"]
[28,"899713111RRX","Orientační tabulky na sloupku ocelovém, betonovém ","kus",6,null,{"$f":"E191*F191","v":0},2.4000000000000001E-4,{"$f":"E191*H191","v":1.4400000000000001E-3},0,{"$f":"E191*J191","v":0},null,null,null,2,null,null,null,null,null,null,null,null,null,null,null,1,1,1,null,null,null,null,null,null,null,null,null,null,null,null,null,null,null,null,null,null,null,null,null,null,1,{"$f":"IF(AZ191=1,G191,0)","v":0},{"$f":"IF(AZ191=2,G191,0)","v":0},{"$f":"IF(AZ191=3,G191,0)","v":0},{"$f":"IF(AZ191=4,G191,0)","v":0},{"$f":"IF(AZ191=5,G191,0)","v":0},null,null,null,null,null,null,null,null,null,null,null,null,null,null,null,null,null,null,null,null,null,1,1]
[null,null,"Položka platí pro orientační tabulky na vodovodních a kanalizačních řadech. V položce jsou zakalkulovány náklady na dodání a připevnění tabulky a na osazení sloupku. V položce jsou zakalkulovány náklady na zemní práce a na dodání sloupků (betonových nebo ocelových s betonovými patkami)",null,null,null,null,null,null,null,null,"Položka platí pro orientační tabulky na vodovodních a kanalizačních řadech. V položce jsou zakalkulovány náklady na dodání a připevnění tabulky a na osazení sloupku. V položce jsou zakalkulovány náklady na zemní práce a na dodání sloupků (betonových nebo ocelových s betonovými patkami)",null,null,3]
[null,null,"Řad \"Np\" TLT DN100:",null,0,null,null,null,null,null,null,null,"Řad \"Np\" TLT DN100:"]
[null,null,"Řad \"Nv\" TLT DN100:",null,0,null,null,null,null,null,null,null,"Řad \"Nv\" TLT DN100:"]
[null,null,"Pro Š DN80:1",null,1,null,null,null,null,null,null,null,"Pro Š DN80:1"]
[null,null,"Pro Š DN100:3",null,3,null,null,null,null,null,null,null,"Pro Š DN100:3"]
[null,null,"Pro Hp DN80/1,5:1",null,1,null,null,null,null,null,null,null,"Pro Hp DN80/1,5:1"]
[null,null,"Pro ZOH DN80/1,25:1",null,1,null,null,null,null,null,null,null,"Pro ZOH DN80/1,25:1"]
[29,"899731114R00","Vodič signalizační CYY 6 mm2 ","m",178.2,null,{"$f":"E199*F199","v":0},8.0000000000000007E-5,{"$f":"E199*H199","v":1.4256E-2},0,{"$f":"E199*J199","v":0},null,null,null,2,null,null,null,null,null,null,null,null,null,null,null,1,1,1,null,null,null,null,null,null,null,null,null,null,null,null,null,null,null,null,null,null,null,null,null,null,1,{"$f":"IF(AZ199=1,G199,0)","v":0},{"$f":"IF(AZ199=2,G199,0)","v":0},{"$f":"IF(AZ199=3,G199,0)","v":0},{"$f":"IF(AZ199=4,G199,0)","v":0},{"$f":"IF(AZ199=5,G199,0)","v":0},null,null,null,null,null,null,null,null,null,null,null,null,null,null,null,null,null,null,null,null,null,1,1]
[null,null,"Součástí položky je zajištění proměření vodiče a výchozí revize.",null,null,null,null,null,null,null,null,"Součástí položky je zajištění proměření vodiče a výchozí revize.",null,null,3]
[null,null,"Řad \"Np\" TLT DN100:39,80",null,39.799999999999997,null,null,null,null,null,null,null,"Řad \"Np\" TLT DN100:39,80"]
[null,null,"Řad \"Nv\" TLT DN100:62,40",null,62.4,null,null,null,null,null,null,null,"Řad \"Nv\" TLT DN100:62,40"]
[null,null,"Vyvedení:",null,0,null,null,null,null,null,null,null,"Vyvedení:"]
[null,null,"Pro Š DN80:2,00*2*1",null,4,null,null,null,null,null,null,null,"Pro Š DN80:2,00*2*1"]
[null,null,"Pro Š DN100:2,00*2*3",null,12,null,null,null,null,null,null,null,"Pro Š DN100:2,00*2*3"]
[null,null,"Pro Hp DN80/1,5:2,00*1*1",null,2,null,null,null,null,null,null,null,"Pro Hp DN80/1,5:2,00*1*1"]
[null,null,"Pro ZOH DN80/1,25:2,00*1*1",null,2,null,null,null,null,null,null,null,"Pro ZOH DN80/1,25:2,00*1*1"]
[null,null,"Pro Vp2 PE D 32x3,0 mm:2,00*2*1",null,4,null,null,null,null,null,null,null,"Pro Vp2 PE D 32x3,0 mm:2,00*2*1"]
[null,null,"Pro Vp3 PE D 32x3,0 mm:2,00*2*1",null,4,null,null,null,null,null,null,null,"Pro Vp3 PE D 32x3,0 mm:2,00*2*1"]
[null,null,"Pro Vp4 PE D 32x3,0 mm:2,00*2*1",null,4,null,null,null,null,null,null,null,"Pro Vp4 PE D 32x3,0 mm:2,00*2*1"]
[null,null,"Pro Vp5 PE D 32x3,0 mm:2,00*2*1",null,4,null,null,null,null,null,null,null,"Pro Vp5 PE D 32x3,0 mm:2,00*2*1"]
[null,null,"Pro Vp6 PE D 32x3,0 mm:2,00*2*1",null,4,null,null,null,null,null,null,null,"Pro Vp6 PE D 32x3,0 mm:2,00*2*1"]
[null,null,"Pro Vs1 PE D 32x3,0 mm:2,00*2*1",null,4,null,null,null,null,null,null,null,"Pro Vs1 PE D 32x3,0 mm:2,00*2*1"]
[null,null,"Pro Vs2 PE D 32x3,0 mm:2,00*2*1",null,4,null,null,null,null,null,null,null,"Pro Vs2 PE D 32x3,0 mm:2,00*2*1"]
[null,null,"Pro Vs3 PE D 32x3,0 mm:2,00*2*1",null,4,null,null,null,null,null,null,null,"Pro Vs3 PE D 32x3,0 mm:2,00*2*1"]
[null,null,"Pro Vs4 PE D 32x3,0 mm:2,00*2*1",null,4,null,null,null,null,null,null,null,"Pro Vs4 PE D 32x3,0 mm:2,00*2*1"]
[null,null,"Pro Vs5 PE D 32x3,0 mm:2,00*2*1",null,4,null,null,null,null,null,null,null,"Pro Vs5 PE D 32x3,0 mm:2,00*2*1"]
[null,null,"Pro Vs6 PE D 32x3,0 mm:2,00*2*1",null,4,null,null,null,null,null,null,null,"Pro Vs6 PE D 32x3,0 mm:2,00*2*1"]
[null,null,"Pro Vs7 PE D 32x3,0 mm:2,00*2*1",null,4,null,null,null,null,null,null,null,"Pro Vs7 PE D 32x3,0 mm:2,00*2*1"]
[null,null,"Pro Vs8 PE D 32x3,0 mm:2,00*2*1",null,4,null,null,null,null,null,null,null,"Pro Vs8 PE D 32x3,0 mm:2,00*2*1"]
[null,null,"Pro Vs9 PE D 32x3,0 mm:2,00*2*1",null,4,null,null,null,null,null,null,null,"Pro Vs9 PE D 32x3,0 mm:2,00*2*1"]
[30,"42200240.3","Hydrant DUO podzemní DN80/1,50 m","kus",1,null,{"$f":"E222*F222","v":0},4.7999999999999996E-3,{"$f":"E222*H222","v":4.7999999999999996E-3},null,{"$f":"E222*J222","v":0},null,null,null,2,null,null,null,null,null,null,null,null,null,null,null,3,1,42200240.299999997,null,null,null,null,null,null,null,null,null,null,null,null,null,null,null,null,null,null,null,null,null,null,1,{"$f":"IF(AZ222=1,G222,0)","v":0},{"$f":"IF(AZ222=2,G222,0)","v":0},{"$f":"IF(AZ222=3,G222,0)","v":0},{"$f":"IF(AZ222=4,G222,0)","v":0},{"$f":"IF(AZ222=5,G222,0)","v":0},null,null,null,null,null,null,null,null,null,null,null,null,null,null,null,null,null,null,null,null,null,3,1]
[null,null,"0",null,0,null,null,null,null,null,null,null,0]
[null,null,"Řad \"Np\" TLT DN100:",null,0,null,null,null,null,null,null,null,"Řad \"Np\" TLT DN100:"]
[null,null,"Řad \"Nv\" TLT DN100:",null,0,null,null,null,null,null,null,null,"Řad \"Nv\" TLT DN100:"]
[null,null,"Hp DN80/1,5:1",null,1,null,null,null,null,null,null,null,"Hp DN80/1,5:1"]
[31,"42200740.SN","Poklop uliční těžký 1650  - voda + podkladová deska nebo samonivelační","kus",14,null,{"$f":"E227*F227","v":0},6.4999999999999997E-3,{"$f":"E227*H227","v":9.0999999999999998E-2},null,{"$f":"E227*J227","v":0},null,null,null,2,null,null,null,null,null,null,null,null,null,null,null,3,1,"42200740.SN",null,null,null,null,null,null,null,null,null,null,null,null,null,null,null,null,null,null,null,null,null,null,1,{"$f":"IF(AZ227=1,G227,0)","v":0},{"$f":"IF(AZ227=2,G227,0)","v":0},{"$f":"IF(AZ227=3,G227,0)","v":0},{"$f":"IF(AZ227=4,G227,0)","v":0},{"$f":"IF(AZ227=5,G227,0)","v":0},null,null,null,null,null,null,null,null,null,null,null,null,null,null,null,null,null,null,null,null,null,3,1]
[null,null,"Řad \"Np\" TLT DN100:",null,0,null,null,null,null,null,null,null,"Řad \"Np\" TLT DN100:"]
[null,null,"Řad \"Nv\" TLT DN100:",null,0,null,null,null,null,null,null,null,"Řad \"Nv\" TLT DN100:"]
[null,null,"Pro Vp2 PE D 32x3,0 mm:1",null,1,null,null,null,null,null,null,null,"Pro Vp2 PE D 32x3,0 mm:1"]
[null,null,"Pro Vp3 PE D 32x3,0 mm:1",null,1,null,null,null,null,null,null,null,"Pro Vp3 PE D 32x3,0 mm:1"]
[null,null,"Pro Vp4 PE D 32x3,0 mm:1",null,1,null,null,null,null,null,null,null,"Pro Vp4 PE D 32x3,0 mm:1"]
[null,null,"Pro Vp5 PE D 32x3,0 mm:1",null,1,null,null,null,null,null,null,null,"Pro Vp5 PE D 32x3,0 mm:1"]
[null,null,"Pro Vp6 PE D 32x3,0 mm:1",null,1,null,null,null,null,null,null,null,"Pro Vp6 PE D 32x3,0 mm:1"]
[null,null,"Pro Vs1 PE D 32x3,0 mm:1",null,1,null,null,null,null,null,null,null,"Pro Vs1 PE D 32x3,0 mm:1"]
[null,null,"Pro Vs2 PE D 32x3,0 mm:1",null,1,null,null,null,null,null,null,null,"Pro Vs2 PE D 32x3,0 mm:1"]
[null,null,"Pro Vs3 PE D 32x3,0 mm:1",null,1,null,null,null,null,null,null,null,"Pro Vs3 PE D 32x3,0 mm:1"]
[null,null,"Pro Vs4 PE D 32x3,0 mm:1",null,1,null,null,null,null,null,null,null,"Pro Vs4 PE D 32x3,0 mm:1"]
[null,null,"Pro Vs5 PE D 32x3,0 mm:1",null,1,null,null,null,null,null,null,null,"Pro Vs5 PE D 32x3,0 mm:1"]
[null,null,"Pro Vs6 PE D 32x3,0 mm:1",null,1,null,null,null,null,null,null,null,"Pro Vs6 PE D 32x3,0 mm:1"]
[null,null,"Pro Vs7 PE D 32x3,0 mm:1",null,1,null,null,null,null,null,null,null,"Pro Vs7 PE D 32x3,0 mm:1"]
[null,null,"Pro Vs8 PE D 32x3,0 mm:1",null,1,null,null,null,null,null,null,null,"Pro Vs8 PE D 32x3,0 mm:1"]
[null,null,"Pro Vs9 PE D 32x3,0 mm:1",null,1,null,null,null,null,null,null,null,"Pro Vs9 PE D 32x3,0 mm:1"]
[32,"42200750.SN","Poklop uliční šoupátkový 1750  - voda + podkladová deska nebo samonivelační","kus",4,null,{"$f":"E244*F244","v":0},1.1299999999999999E-2,{"$f":"E244*H244","v":4.5199999999999997E-2},null,{"$f":"E244*J244","v":0},null,null,null,2,null,null,null,null,null,null,null,null,null,null,null,3,1,"42200750.SN",null,null,null,null,null,null,null,null,null,null,null,null,null,null,null,null,null,null,null,null,null,null,1,{"$f":"IF(AZ244=1,G244,0)","v":0},{"$f":"IF(AZ244=2,G244,0)","v":0},{"$f":"IF(AZ244=3,G244,0)","v":0},{"$f":"IF(AZ244=4,G244,0)","v":0},{"$f":"IF(AZ244=5,G244,0)","v":0},null,null,null,null,null,null,null,null,null,null,null,null,null,null,null,null,null,null,null,null,null,3,1]
[null,null,"Řad \"Np\" TLT DN100:",null,0,null,null,null,null,null,null,null,"Řad \"Np\" TLT DN100:"]
[null,null,"Řad \"Nv\" TLT DN100:",null,0,null,null,null,null,null,null,null,"Řad \"Nv\" TLT DN100:"]
[null,null,"Pro Š DN80:1",null,1,null,null,null,null,null,null,null,"Pro Š DN80:1"]
[null,null,"Pro Š DN100:3",null,3,null,null,null,null,null,null,null,"Pro Š DN100:3"]
[33,"42200760.SN","Poklop k podz. hydrantu 1950 - voda + podkladová deska nebo samonivelační","kus",1,null,{"$f":"E249*F249","v":0},3.2000000000000001E-2,{"$f":"E249*H249","v":3.2000000000000001E-2},null,{"$f":"E249*J249","v":0},null,null,null,2,null,null,null,null,null,null,null,null,null,null,null,3,1,"42200760.SN",null,null,null,null,null,null,null,null,null,null,null,null,null,null,null,null,null,null,null,null,null,null,1,{"$f":"IF(AZ249=1,G249,0)","v":0},{"$f":"IF(AZ249=2,G249,0)","v":0},{"$f":"IF(AZ249=3,G249,0)","v":0},{"$f":"IF(AZ249=4,G249,0)","v":0},{"$f":"IF(AZ249=5,G249,0)","v":0},null,null,null,null,null,null,null,null,null,null,null,null,null,null,null,null,null,null,null,null,null,3,1]
[null,null,"Řad \"Np\" TLT DN100:",null,0,null,null,null,null,null,null,null,"Řad \"Np\" TLT DN100:"]
[null,null,"Řad \"Nv\" TLT DN100:",null,0,null,null,null,null,null,null,null,"Řad \"Nv\" TLT DN100:"]
[null,null,"Pro Hp DN80/1,5:1",null,1,null,null,null,null,null,null,null,"Pro Hp DN80/1,5:1"]
[34,"42200770.SN","Poklop k odvzd. hydrantu 1790 - voda + podkladová deska nebo samonivelační","kus",1,null,{"$f":"E253*F253","v":0},3.2000000000000001E-2,{"$f":"E253*H253","v":3.2000000000000001E-2},null,{"$f":"E253*J253","v":0},null,null,null,2,null,null,null,null,null,null,null,null,null,null,null,3,1,"42200770.SN",null,null,null,null,null,null,null,null,null,null,null,null,null,null,null,null,null,null,null,null,null,null,1,{"$f":"IF(AZ253=1,G253,0)","v":0},{"$f":"IF(AZ253=2,G253,0)","v":0},{"$f":"IF(AZ253=3,G253,0)","v":0},{"$f":"IF(AZ253=4,G253,0)","v":0},{"$f":"IF(AZ253=5,G253,0)","v":0},null,null,null,null,null,null,null,null,null,null,null,null,null,null,null,null,null,null,null,null,null,3,1]
[null,null,"Řad \"Np\" TLT DN100:",null,0,null,null,null,null,null,null,null,"Řad \"Np\" TLT DN100:"]
[null,null,"Řad \"Nv\" TLT DN100:",null,0,null,null,null,null,null,null,null,"Řad \"Nv\" TLT DN100:"]
[null,null,"Pro ZOH DN80/1,25:1",null,1,null,null,null,null,null,null,null,"Pro ZOH DN80/1,25:1"]
[35,"42202681","Navrtávací ISO šoupátko č. 2681 DN 1\" + ISO 6221","kus",14,null,{"$f":"E257*F257","v":0},2.5999999999999999E-3,{"$f":"E257*H257","v":3.6400000000000002E-2},null,{"$f":"E257*J257","v":0},null,null,null,2,null,null,null,null,null,null,null,null,null,null,null,3,1,42202681,null,null,null,null,null,null,null,null,null,null,null,null,null,null,null,null,null,null,null,null,null,null,1,{"$f":"IF(AZ257=1,G257,0)","v":0},{"$f":"IF(AZ257=2,G257,0)","v":0},{"$f":"IF(AZ257=3,G257,0)","v":0},{"$f":"IF(AZ257=4,G257,0)","v":0},{"$f":"IF(AZ257=5,G257,0)","v":0},null,null,null,null,null,null,null,null,null,null,null,null,null,null,null,null,null,null,null,null,null,3,1]
[null,null,"Řad \"Np\" TLT DN100:",null,0,null,null,null,null,null,null,null,"Řad \"Np\" TLT DN100:"]
[null,null,"Řad \"Nv\" TLT DN100:",null,0,null,null,null,null,null,null,null,"Řad \"Nv\" TLT DN100:"]
[null,null,"Pro Vp2 PE D 32x3,0 mm:1",null,1,null,null,null,null,null,null,null,"Pro Vp2 PE D 32x3,0 mm:1"]
[null,null,"Pro Vp3 PE D 32x3,0 mm:1",null,1,null,null,null,null,null,null,null,"Pro Vp3 PE D 32x3,0 mm:1"]
[null,null,"Pro Vp4 PE D 32x3,0 mm:1",null,1,null,null,null,null,null,null,null,"Pro Vp4 PE D 32x3,0 mm:1"]
[null,null,"Pro Vp5 PE D 32x3,0 mm:1",null,1,null,null,null,null,null,null,null,"Pro Vp5 PE D 32x3,0 mm:1"]
[null,null,"Pro Vp6 PE D 32x3,0 mm:1",null,1,null,null,null,null,null,null,null,"Pro Vp6 PE D 32x3,0 mm:1"]
[null,null,"Pro Vs1 PE D 32x3,0 mm:1",null,1,null,null,null,null,null,null,null,"Pro Vs1 PE D 32x3,0 mm:1"]
[null,null,"Pro Vs2 PE D 32x3,0 mm:1",null,1,null,null,null,null,null,null,null,"Pro Vs2 PE D 32x3,0 mm:1"]
[null,null,"Pro Vs3 PE D 32x3,0 mm:1",null,1,null,null,null,null,null,null,null,"Pro Vs3 PE D 32x3,0 mm:1"]
[null,null,"Pro Vs4 PE D 32x3,0 mm:1",null,1,null,null,null,null,null,null,null,"Pro Vs4 PE D 32x3,0 mm:1"]
[null,null,"Pro Vs5 PE D 32x3,0 mm:1",null,1,null,null,null,null,null,null,null,"Pro Vs5 PE D 32x3,0 mm:1"]
[null,null,"Pro Vs6 PE D 32x3,0 mm:1",null,1,null,null,null,null,null,null,null,"Pro Vs6 PE D 32x3,0 mm:1"]
[null,null,"Pro Vs7 PE D 32x3,0 mm:1",null,1,null,null,null,null,null,null,null,"Pro Vs7 PE D 32x3,0 mm:1"]
[null,null,"Pro Vs8 PE D 32x3,0 mm:1",null,1,null,null,null,null,null,null,null,"Pro Vs8 PE D 32x3,0 mm:1"]
[null,null,"Pro Vs9 PE D 32x3,0 mm:1",null,1,null,null,null,null,null,null,null,"Pro Vs9 PE D 32x3,0 mm:1"]
[36,"42203370.08","Pás navrtávací Hacom č.3370 DN 100/2\"","kus",14,null,{"$f":"E274*F274","v":0},8.8000000000000005E-3,{"$f":"E274*H274","v":0.1232},null,{"$f":"E274*J274","v":0},null,null,null,2,null,null,null,null,null,null,null,null,null,null,null,3,1,42203370.079999998,null,null,null,null,null,null,null,null,null,null,null,null,null,null,null,null,null,null,null,null,null,null,1,{"$f":"IF(AZ274=1,G274,0)","v":0},{"$f":"IF(AZ274=2,G274,0)","v":0},{"$f":"IF(AZ274=3,G274,0)","v":0},{"$f":"IF(AZ274=4,G274,0)","v":0},{"$f":"IF(AZ274=5,G274,0)","v":0},null,null,null,null,null,null,null,null,null,null,null,null,null,null,null,null,null,null,null,null,null,3,1]
[null,null,"Řad \"Np\" TLT DN100:",null,0,null,null,null,null,null,null,null,"Řad \"Np\" TLT DN100:"]
[null,null,"Řad \"Nv\" TLT DN100:",null,0,null,null,null,null,null,null,null,"Řad \"Nv\" TLT DN100:"]
[null,null,"Pro Vp2 PE D 32x3,0 mm:1",null,1,null,null,null,null,null,null,null,"Pro Vp2 PE D 32x3,0 mm:1"]
[null,null,"Pro Vp3 PE D 32x3,0 mm:1",null,1,null,null,null,null,null,null,null,"Pro Vp3 PE D 32x3,0 mm:1"]
[null,null,"Pro Vp4 PE D 32x3,0 mm:1",null,1,null,null,null,null,null,null,null,"Pro Vp4 PE D 32x3,0 mm:1"]
[null,null,"Pro Vp5 PE D 32x3,0 mm:1",null,1,null,null,null,null,null,null,null,"Pro Vp5 PE D 32x3,0 mm:1"]
[null,null,"Pro Vp6 PE D 32x3,0 mm:1",null,1,null,null,null,null,null,null,null,"Pro Vp6 PE D 32x3,0 mm:1"]
[null,null,"Pro Vs1 PE D 32x3,0 mm:1",null,1,null,null,null,null,null,null,null,"Pro Vs1 PE D 32x3,0 mm:1"]
[null,null,"Pro Vs2 PE D 32x3,0 mm:1",null,1,null,null,null,null,null,null,null,"Pro Vs2 PE D 32x3,0 mm:1"]
[null,null,"Pro Vs3 PE D 32x3,0 mm:1",null,1,null,null,null,null,null,null,null,"Pro Vs3 PE D 32x3,0 mm:1"]
[null,null,"Pro Vs4 PE D 32x3,0 mm:1",null,1,null,null,null,null,null,null,null,"Pro Vs4 PE D 32x3,0 mm:1"]
[null,null,"Pro Vs5 PE D 32x3,0 mm:1",null,1,null,null,null,null,null,null,null,"Pro Vs5 PE D 32x3,0 mm:1"]
[null,null,"Pro Vs6 PE D 32x3,0 mm:1",null,1,null,null,null,null,null,null,null,"Pro Vs6 PE D 32x3,0 mm:1"]
[null,null,"Pro Vs7 PE D 32x3,0 mm:1",null,1,null,null,null,null,null,null,null,"Pro Vs7 PE D 32x3,0 mm:1"]
[null,null,"Pro Vs8 PE D 32x3,0 mm:1",null,1,null,null,null,null,null,null,null,"Pro Vs8 PE D 32x3,0 mm:1"]
[null,null,"Pro Vs9 PE D 32x3,0 mm:1",null,1,null,null,null,null,null,null,null,"Pro Vs9 PE D 32x3,0 mm:1"]
[37,"42209601","Zemní souprava tel. (1,3 - 1,8 m) č.9601 3/4-2\"","kus",14,null,{"$f":"E291*F291","v":0},2.5000000000000001E-3,{"$f":"E291*H291","v":3.5000000000000003E-2},null,{"$f":"E291*J291","v":0},null,null,null,2,null,null,null,null,null,null,null,null,null,null,null,3,1,42209601,null,null,null,null,null,null,null,null,null,null,null,null,null,null,null,null,null,null,null,null,null,null,1,{"$f":"IF(AZ291=1,G291,0)","v":0},{"$f":"IF(AZ291=2,G291,0)","v":0},{"$f":"IF(AZ291=3,G291,0)","v":0},{"$f":"IF(AZ291=4,G291,0)","v":0},{"$f":"IF(AZ291=5,G291,0)","v":0},null,null,null,null,null,null,null,null,null,null,null,null,null,null,null,null,null,null,null,null,null,3,1]
[null,null,"Řad \"Np\" TLT DN100:",null,0,null,null,null,null,null,null,null,"Řad \"Np\" TLT DN100:"]
[null,null,"Řad \"Nv\" TLT DN100:",null,0,null,null,null,null,null,null,null,"Řad \"Nv\" TLT DN100:"]
[null,null,"Pro Vp2 PE D 32x3,0 mm:1",null,1,null,null,null,null,null,null,null,"Pro Vp2 PE D 32x3,0 mm:1"]
[null,null,"Pro Vp3 PE D 32x3,0 mm:1",null,1,null,null,null,null,null,null,null,"Pro Vp3 PE D 32x3,0 mm:1"]
[null,null,"Pro Vp4 PE D 32x3,0 mm:1",null,1,null,null,null,null,null,null,null,"Pro Vp4 PE D 32x3,0 mm:1"]
[null,null,"Pro Vp5 PE D 32x3,0 mm:1",null,1,null,null,null,null,null,null,null,"Pro Vp5 PE D 32x3,0 mm:1"]
[null,null,"Pro Vp6 PE D 32x3,0 mm:1",null,1,null,null,null,null,null,null,null,"Pro Vp6 PE D 32x3,0 mm:1"]
[null,null,"Pro Vs1 PE D 32x3,0 mm:1",null,1,null,null,null,null,null,null,null,"Pro Vs1 PE D 32x3,0 mm:1"]
[null,null,"Pro Vs2 PE D 32x3,0 mm:1",null,1,null,null,null,null,null,null,null,"Pro Vs2 PE D 32x3,0 mm:1"]
[null,null,"Pro Vs3 PE D 32x3,0 mm:1",null,1,null,null,null,null,null,null,null,"Pro Vs3 PE D 32x3,0 mm:1"]
[null,null,"Pro Vs4 PE D 32x3,0 mm:1",null,1,null,null,null,null,null,null,null,"Pro Vs4 PE D 32x3,0 mm:1"]
[null,null,"Pro Vs5 PE D 32x3,0 mm:1",null,1,null,null,null,null,null,null,null,"Pro Vs5 PE D 32x3,0 mm:1"]
[null,null,"Pro Vs6 PE D 32x3,0 mm:1",null,1,null,null,null,null,null,null,null,"Pro Vs6 PE D 32x3,0 mm:1"]
[null,null,"Pro Vs7 PE D 32x3,0 mm:1",null,1,null,null,null,null,null,null,null,"Pro Vs7 PE D 32x3,0 mm:1"]
[null,null,"Pro Vs8 PE D 32x3,0 mm:1",null,1,null,null,null,null,null,null,null,"Pro Vs8 PE D 32x3,0 mm:1"]
[null,null,"Pro Vs9 PE D 32x3,0 mm:1",null,1,null,null,null,null,null,null,null,"Pro Vs9 PE D 32x3,0 mm:1"]
[38,"42209822.06","Ventil odvzdušňovací 1305/80 PN 1-16","kus",1,null,{"$f":"E308*F308","v":0},2.8E-3,{"$f":"E308*H308","v":2.8E-3},null,{"$f":"E308*J308","v":0},null,null,null,2,null,null,null,null,null,null,null,null,null,null,null,3,1,42209822.060000002,null,null,null,null,null,null,null,null,null,null,null,null,null,null,null,null,null,null,null,null,null,null,1,{"$f":"IF(AZ308=1,G308,0)","v":0},{"$f":"IF(AZ308=2,G308,0)","v":0},{"$f":"IF(AZ308=3,G308,0)","v":0},{"$f":"IF(AZ308=4,G308,0)","v":0},{"$f":"IF(AZ308=5,G308,0)","v":0},null,null,null,null,null,null,null,null,null,null,null,null,null,null,null,null,null,null,null,null,null,3,1]
[null,null,"Řad \"Np\" TLT DN100:",null,0,null,null,null,null,null,null,null,"Řad \"Np\" TLT DN100:"]
[null,null,"Řad \"Nv\" TLT DN100:",null,0,null,null,null,null,null,null,null,"Řad \"Nv\" TLT DN100:"]
[null,null,"ZOH DN80/1,25:1",null,1,null,null,null,null,null,null,null,"ZOH DN80/1,25:1"]
[39,"42209999","Drenážní obal","kus",2,null,{"$f":"E312*F312","v":0},4.7999999999999996E-3,{"$f":"E312*H312","v":9.5999999999999992E-3},null,{"$f":"E312*J312","v":0},null,null,null,2,null,null,null,null,null,null,null,null,null,null,null,3,1,42209999,null,null,null,null,null,null,null,null,null,null,null,null,null,null,null,null,null,null,null,null,null,null,1,{"$f":"IF(AZ312=1,G312,0)","v":0},{"$f":"IF(AZ312=2,G312,0)","v":0},{"$f":"IF(AZ312=3,G312,0)","v":0},{"$f":"IF(AZ312=4,G312,0)","v":0},{"$f":"IF(AZ312=5,G312,0)","v":0},null,null,null,null,null,null,null,null,null,null,null,null,null,null,null,null,null,null,null,null,null,3,1]
[null,null,"Řad \"Np\" TLT DN100:",null,0,null,null,null,null,null,null,null,"Řad \"Np\" TLT DN100:"]
[null,null,"Řad \"Nv\" TLT DN100:",null,0,null,null,null,null,null,null,null,"Řad \"Nv\" TLT DN100:"]
[null,null,"Pro Hp DN80/1,5:1",null,1,null,null,null,null,null,null,null,"Pro Hp DN80/1,5:1"]
[null,null,"Pro ZOH DN80/1,25:1",null,1,null,null,null,null,null,null,null,"Pro ZOH DN80/1,25:1"]
[40,"42228310","Šoupátko 4000E2 DN 80 přírubové, voda","kus",1,null,{"$f":"E317*F317","v":0},1.6500000000000001E-2,{"$f":"E317*H317","v":1.6500000000000001E-2},null,{"$f":"E317*J317","v":0},null,null,null,2,null,null,null,null,null,null,null,null,null,null,null,3,1,42228310,null,null,null,null,null,null,null,null,null,null,null,null,null,null,null,null,null,null,null,null,null,null,1,{"$f":"IF(AZ317=1,G317,0)","v":0},{"$f":"IF(AZ317=2,G317,0)","v":0},{"$f":"IF(AZ317=3,G317,0)","v":0},{"$f":"IF(AZ317=4,G317,0)","v":0},{"$f":"IF(AZ317=5,G317,0)","v":0},null,null,null,null,null,null,null,null,null,null,null,null,null,null,null,null,null,null,null,null,null,3,1]
[null,null,"Šoupátko přírubové krkové - měkcetěsnící klínové šoupátko s hladkým a volným průtokovým kanálem",null,null,null,null,null,null,null,null,"Šoupátko přírubové krkové - měkcetěsnící klínové šoupátko s hladkým a volným průtokovým kanálem",null,null,3]
[null,null,"č. 4000E2",null,null,null,null,null,null,null,null,"č. 4000E2",null,null,3]
[null,null,"PN 16",null,null,null,null,null,null,null,null,"PN 16",null,null,3]
[null,null,"DN 80",null,null,null,null,null,null,null,null,"DN 80",null,null,3]
[null,null,"těleso a víko: tvárná litina GGG 400 - DIN 1693",null,null,null,null,null,null,null,null,"těleso a víko: tvárná litina GGG 400 - DIN 1693",null,null,3]
[null,null,"medium: pitná voda, neagresivní odpadní voda",null,null,null,null,null,null,null,null,"medium: pitná voda, neagresivní odpadní voda",null,null,3]
[null,null,"Řad \"Np\" TLT DN100:",null,0,null,null,null,null,null,null,null,"Řad \"Np\" TLT DN100:"]
[null,null,"Řad \"Nv\" TLT DN100:",null,0,null,null,null,null,null,null,null,"Řad \"Nv\" TLT DN100:"]
[null,null,"Š DN80:1",null,1,null,null,null,null,null,null,null,"Š DN80:1"]
[41,"42228312","Šoupátko 4000E2 DN 100 přírubové, voda","kus",3,null,{"$f":"E327*F327","v":0},2.4500000000000001E-2,{"$f":"E327*H327","v":7.350000000000001E-2},null,{"$f":"E327*J327","v":0},null,null,null,2,null,null,null,null,null,null,null,null,null,null,null,3,1,42228312,null,null,null,null,null,null,null,null,null,null,null,null,null,null,null,null,null,null,null,null,null,null,1,{"$f":"IF(AZ327=1,G327,0)","v":0},{"$f":"IF(AZ327=2,G327,0)","v":0},{"$f":"IF(AZ327=3,G327,0)","v":0},{"$f":"IF(AZ327=4,G327,0)","v":0},{"$f":"IF(AZ327=5,G327,0)","v":0},null,null,null,null,null,null,null,null,null,null,null,null,null,null,null,null,null,null,null,null,null,3,1]
[null,null,"Šoupátko přírubové krkové - měkcetěsnící klínové šoupátko s hladkým a volným průtokovým kanálem",null,null,null,null,null,null,null,null,"Šoupátko přírubové krkové - měkcetěsnící klínové šoupátko s hladkým a volným průtokovým kanálem",null,null,3]
[null,null,"č. 4000E2",null,null,null,null,null,null,null,null,"č. 4000E2",null,null,3]
[null,null,"PN 16",null,null,null,null,null,null,null,null,"PN 16",null,null,3]
[null,null,"DN 100",null,null,null,null,null,null,null,null,"DN 100",null,null,3]
[null,null,"těleso a víko: tvárná litina GGG 400 - DIN 1693",null,null,null,null,null,null,null,null,"těleso a víko: tvárná litina GGG 400 - DIN 1693",null,null,3]
[null,null,"medium: pitná voda, neagresivní odpadní voda",null,null,null,null,null,null,null,null,"medium: pitná voda, neagresivní odpadní voda",null,null,3]
[null,null,"Řad \"Np\" TLT DN100:",null,0,null,null,null,null,null,null,null,"Řad \"Np\" TLT DN100:"]
[null,null,"Řad \"Nv\" TLT DN100:",null,0,null,null,null,null,null,null,null,"Řad \"Nv\" TLT DN100:"]
[null,null,"Š DN100:3",null,3,null,null,null,null,null,null,null,"Š DN100:3"]
[42,"42293250","Souprava zemní 9500E2 DN50 -100, 1,3-1,8m","kus",4,null,{"$f":"E337*F337","v":0},7.3000000000000001E-3,{"$f":"E337*H337","v":2.92E-2},null,{"$f":"E337*J337","v":0},null,null,null,2,null,null,null,null,null,null,null,null,null,null,null,3,1,42293250,null,null,null,null,null,null,null,null,null,null,null,null,null,null,null,null,null,null,null,null,null,null,1,{"$f":"IF(AZ337=1,G337,0)","v":0},{"$f":"IF(AZ337=2,G337,0)","v":0},{"$f":"IF(AZ337=3,G337,0)","v":0},{"$f":"IF(AZ337=4,G337,0)","v":0},{"$f":"IF(AZ337=5,G337,0)","v":0},null,null,null,null,null,null,null,null,null,null,null,null,null,null,null,null,null,null,null,null,null,3,1]
[null,null,"Řad \"Np\" TLT DN100:",null,0,null,null,null,null,null,null,null,"Řad \"Np\" TLT DN100:"]
[null,null,"Řad \"Nv\" TLT DN100:",null,0,null,null,null,null,null,null,null,"Řad \"Nv\" TLT DN100:"]
[null,null,"Pro Š DN80:1",null,1,null,null,null,null,null,null,null,"Pro Š DN80:1"]
[null,null,"pro Š DN100:3",null,3,null,null,null,null,null,null,null,"pro Š DN100:3"]
[43,"55251102","Trouba vod.lit.tlak. DN 100 mm spoj TYTON","m",103.22199999999999,null,{"$f":"E342*F342","v":0},1.77E-2,{"$f":"E342*H342","v":1.8270294},null,{"$f":"E342*J342","v":0},null,null,null,2,null,null,null,null,null,null,null,null,null,null,null,3,1,55251102,null,null,null,null,null,null,null,null,null,null,null,null,null,null,null,null,null,null,null,null,null,null,1,{"$f":"IF(AZ342=1,G342,0)","v":0},{"$f":"IF(AZ342=2,G342,0)","v":0},{"$f":"IF(AZ342=3,G342,0)","v":0},{"$f":"IF(AZ342=4,G342,0)","v":0},{"$f":"IF(AZ342=5,G342,0)","v":0},null,null,null,null,null,null,null,null,null,null,null,null,null,null,null,null,null,null,null,null,null,3,1]
[null,null,"Řad \"Np\" TLT DN100:39,80*1,01",null,40.198,null,null,null,null,null,null,null,"Řad \"Np\" TLT DN100:39,80*1,01"]
[null,null,"Řad \"Nv\" TLT DN100:62,40*1,01",null,63.024000000000001,null,null,null,null,null,null,null,"Řad \"Nv\" TLT DN100:62,40*1,01"]
[44,"55259731","Tvar. přír. s hrdlem EU DN 100","kus",4,null,{"$f":"E345*F345","v":0},8.8000000000000005E-3,{"$f":"E345*H345","v":3.5200000000000002E-2},null,{"$f":"E345*J345","v":0},null,null,null,2,null,null,null,null,null,null,null,null,null,null,null,3,1,55259731,null,null,null,null,null,null,null,null,null,null,null,null,null,null,null,null,null,null,null,null,null,null,1,{"$f":"IF(AZ345=1,G345,0)","v":0},{"$f":"IF(AZ345=2,G345,0)","v":0},{"$f":"IF(AZ345=3,G345,0)","v":0},{"$f":"IF(AZ345=4,G345,0)","v":0},{"$f":"IF(AZ345=5,G345,0)","v":0},null,null,null,null,null,null,null,null,null,null,null,null,null,null,null,null,null,null,null,null,null,3,1]
[null,null,"Řad \"Np\" TLT DN100:",null,0,null,null,null,null,null,null,null,"Řad \"Np\" TLT DN100:"]
[null,null,"Řad \"Nv\" TLT DN100:",null,0,null,null,null,null,null,null,null,"Řad \"Nv\" TLT DN100:"]
[null,null,"EU DN100:4",null,4,null,null,null,null,null,null,null,"EU DN100:4"]
[45,"55259815","Přechod přír. FFR DN 100/ 80","kus",1,null,{"$f":"E349*F349","v":0},9.7999999999999997E-3,{"$f":"E349*H349","v":9.7999999999999997E-3},null,{"$f":"E349*J349","v":0},null,null,null,2,null,null,null,null,null,null,null,null,null,null,null,3,1,55259815,null,null,null,null,null,null,null,null,null,null,null,null,null,null,null,null,null,null,null,null,null,null,1,{"$f":"IF(AZ349=1,G349,0)","v":0},{"$f":"IF(AZ349=2,G349,0)","v":0},{"$f":"IF(AZ349=3,G349,0)","v":0},{"$f":"IF(AZ349=4,G349,0)","v":0},{"$f":"IF(AZ349=5,G349,0)","v":0},null,null,null,null,null,null,null,null,null,null,null,null,null,null,null,null,null,null,null,null,null,3,1]
[null,null,"Řad \"Np\" TLT DN100:",null,0,null,null,null,null,null,null,null,"Řad \"Np\" TLT DN100:"]
[null,null,"Řad \"Nv\" TLT DN100:",null,0,null,null,null,null,null,null,null,"Řad \"Nv\" TLT DN100:"]
[null,null,"FFR DN100/80:1",null,1,null,null,null,null,null,null,null,"FFR DN100/80:1"]
[46,"55259982","Koleno přírubové Q DN 80-90°","kus",1,null,{"$f":"E353*F353","v":0},8.9999999999999993E-3,{"$f":"E353*H353","v":8.9999999999999993E-3},null,{"$f":"E353*J353","v":0},null,null,null,2,null,null,null,null,null,null,null,null,null,null,null,3,1,55259982,null,null,null,null,null,null,null,null,null,null,null,null,null,null,null,null,null,null,null,null,null,null,1,{"$f":"IF(AZ353=1,G353,0)","v":0},{"$f":"IF(AZ353=2,G353,0)","v":0},{"$f":"IF(AZ353=3,G353,0)","v":0},{"$f":"IF(AZ353=4,G353,0)","v":0},{"$f":"IF(AZ353=5,G353,0)","v":0},null,null,null,null,null,null,null,null,null,null,null,null,null,null,null,null,null,null,null,null,null,3,1]
[null,null,"Řad \"Np\" TLT DN100:",null,0,null,null,null,null,null,null,null,"Řad \"Np\" TLT DN100:"]
[null,null,"Řad \"Nv\" TLT DN100:",null,0,null,null,null,null,null,null,null,"Řad \"Nv\" TLT DN100:"]
[null,null,"Q DN80:1",null,1,null,null,null,null,null,null,null,"Q DN80:1"]
[47,"5526009702","Koleno přír.s patkou N DN 80","kus",2,null,{"$f":"E357*F357","v":0},1.2200000000000001E-2,{"$f":"E357*H357","v":2.4400000000000002E-2},null,{"$f":"E357*J357","v":0},null,null,null,2,null,null,null,null,null,null,null,null,null,null,null,3,1,5526009702,null,null,null,null,null,null,null,null,null,null,null,null,null,null,null,null,null,null,null,null,null,null,1,{"$f":"IF(AZ357=1,G357,0)","v":0},{"$f":"IF(AZ357=2,G357,0)","v":0},{"$f":"IF(AZ357=3,G357,0)","v":0},{"$f":"IF(AZ357=4,G357,0)","v":0},{"$f":"IF(AZ357=5,G357,0)","v":0},null,null,null,null,null,null,null,null,null,null,null,null,null,null,null,null,null,null,null,null,null,3,1]
[null,null,"Řad \"Np\" TLT DN100:",null,0,null,null,null,null,null,null,null,"Řad \"Np\" TLT DN100:"]
[null,null,"Řad \"Nv\" TLT DN100:",null,0,null,null,null,null,null,null,null,"Řad \"Nv\" TLT DN100:"]
[null,null,"N DN80:2",null,2,null,null,null,null,null,null,null,"N DN80:2"]
[48,"5526009705","Koleno prodloužené přír.s patkou PPL DN 80","kus",3,null,{"$f":"E361*F361","v":0},1.2200000000000001E-2,{"$f":"E361*H361","v":3.6600000000000001E-2},null,{"$f":"E361*J361","v":0},null,null,null,2,null,null,null,null,null,null,null,null,null,null,null,3,1,5526009705,null,null,null,null,null,null,null,null,null,null,null,null,null,null,null,null,null,null,null,null,null,null,1,{"$f":"IF(AZ361=1,G361,0)","v":0},{"$f":"IF(AZ361=2,G361,0)","v":0},{"$f":"IF(AZ361=3,G361,0)","v":0},{"$f":"IF(AZ361=4,G361,0)","v":0},{"$f":"IF(AZ361=5,G361,0)","v":0},null,null,null,null,null,null,null,null,null,null,null,null,null,null,null,null,null,null,null,null,null,3,1]
[null,null,"Řad \"Np\" TLT DN100:",null,0,null,null,null,null,null,null,null,"Řad \"Np\" TLT DN100:"]
[null,null,"Řad \"Nv\" TLT DN100:",null,0,null,null,null,null,null,null,null,"Řad \"Nv\" TLT DN100:"]
[null,null,"PPL DN80:3",null,3,null,null,null,null,null,null,null,"PPL DN80:3"]
[null,"Celkem za","8 Trubní vedení",null,null,null,{"$f":"SUM(G78:G364)","v":0},null,{"$f":"SUM(I78:I364)","v":4.493785400000001},null,{"$f":"SUM(K78:K364)","v":0},null,null,null,4,null,null,null,null,null,null,null,null,null,null,null,null,null,null,null,null,null,null,null,null,null,null,null,null,null,null,null,null,null,null,null,null,null,null,null,null,null,{"$f":"SUM(BA78:BA364)","v":0},{"$f":"SUM(BB78:BB364)","v":0},{"$f":"SUM(BC78:BC364)","v":0},{"$f":"SUM(BD78:BD364)","v":0},{"$f":"SUM(BE78:BE364)","v":0}]
["Díl:","99","Staveništní přesun hmot",null,null,null,null,null,null,null,null,null,null,null,1]
[49,"998273101R00","Přesun hmot, trubní vedení litinové, otevř. výkop ","t",190.43144925999999,null,{"$f":"E367*F367","v":0},0,{"$f":"E367*H367","v":0},null,{"$f":"E367*J367","v":0},null,null,null,2,null,null,null,null,null,null,null,null,null,null,null,7,1,2,null,null,null,null,null,null,null,null,null,null,null,null,null,null,null,null,null,null,null,null,null,null,1,{"$f":"IF(AZ367=1,G367,0)","v":0},{"$f":"IF(AZ367=2,G367,0)","v":0},{"$f":"IF(AZ367=3,G367,0)","v":0},{"$f":"IF(AZ367=4,G367,0)","v":0},{"$f":"IF(AZ367=5,G367,0)","v":0},null,null,null,null,null,null,null,null,null,null,null,null,null,null,null,null,null,null,null,null,null,7,1]
[null,null,"Položka je určena pro trubní vedení (vodovod nebo kanalizace) hloubené nebo ražené z trub litinových včetně drobných objektů. Platnost položky je vymezena pro nejmenší skladovací plochu 100 m2 + 0,24 m2/t, pro největší dopravní vzdálenost 15 m od hrany výkopu na povrchu nebo 15 m od okraje šachty k těžišti skládek na povrchu.",null,null,null,null,null,null,null,null,"Položka je určena pro trubní vedení (vodovod nebo kanalizace) hloubené nebo ražené z trub litinových včetně drobných objektů. Platnost položky je vymezena pro nejmenší skladovací plochu 100 m2 + 0,24 m2/t, pro největší dopravní vzdálenost 15 m od hrany výkopu na povrchu nebo 15 m od okraje šachty k těžišti skládek na povrchu.",null,null,3]
[null,"Celkem za","99 Staveništní přesun hmot",null,null,null,{"$f":"SUM(G366:G368)","v":0},null,{"$f":"SUM(I366:I368)","v":0},null,{"$f":"SUM(K366:K368)","v":0},null,null,null,4,null,null,null,null,null,null,null,null,null,null,null,null,null,null,null,null,null,null,null,null,null,null,null,null,null,null,null,null,null,null,null,null,null,null,null,null,null,{"$f":"SUM(BA366:BA368)","v":0},{"$f":"SUM(BB366:BB368)","v":0},{"$f":"SUM(BC366:BC368)","v":0},{"$f":"SUM(BD366:BD368)","v":0},{"$f":"SUM(BE366:BE368)","v":0}]

{"sheet":"306 3236306.2 KL","index":31,"n_rows":45,"n_cols":8,"rows_kept":45,"cut":false,"hidden":false,"merged":[[22,0,22,1],[7,2,7,4],[8,2,8,4],[9,2,9,4],[10,2,10,4],[11,2,11,4],[50,1,50,6],[29,5,29,6],[30,5,30,6],[31,5,31,6],[32,5,32,6],[33,5,33,6],[36,1,44,6],[45,1,45,6],[46,1,46,6],[47,1,47,6],[48,1,48,6],[49,1,49,6]]}
["POLOŽKOVÝ ROZPOČET"]
["Rozpočet",null,"3236/306.2","Prodloužení vodovodu - přípojky",null,"JKSO ","827.11.A1"]
[]
["Objekt",null,null,null,null,"SKP "]
["306",null,"Prodloužení vodovodu, přípojky",null,null,"Měrná jednotka","m"]
["Stavba",null,null,null,null,"Počet jednotek",0]
["3236",null,"Bytová zóna Hruštice - Károvsko - Etapa VII.",null,null,"Náklady na m.j.",{"$f":"IF(G6=0,,ROUND((F30+F32)/G6,1))","v":0}]
["Projektant",null,"PROFES PROJEKT spol.s r.o.",null,null,"Typ rozpočtu"]
["Zpracovatel projektu"]
["Objednatel",null,"Město TURNOV"]
["Dodavatel",null,".",null,null,"Zakázkové číslo "]
["Rozpočtoval",null,null,null,null,"Počet listů"]
["ROZPOČTOVÉ NÁKLADY"]
["Základní rozpočtové náklady"]
[null,"HSV celkem",{"$f":"'306 3236306.2 Rek'!E11","v":0}]
["Z","PSV celkem",{"$f":"'306 3236306.2 Rek'!F11","v":0}]
["R","M práce celkem",{"$f":"'306 3236306.2 Rek'!H11","v":0}]
["N","M dodávky celkem",{"$f":"'306 3236306.2 Rek'!G11","v":0}]
["ZRN celkem",null,{"$f":"SUM(C15:C18)","v":0}]
[]
["HZS",null,{"$f":"'306 3236306.2 Rek'!I11","v":0}]
["ZRN+HZS",null,{"$f":"C19+C21","v":0}]
["ZRN+ost.náklady+HZS",null,{"$f":"C22+G23","v":0}]
["Vypracoval",null,null,"Za zhotovitele",null,"Za objednatele"]
["Jméno :",null,null,"Jméno :",null,"Jméno :"]
["Datum :",null,null,"Datum :",null,"Datum :"]
[]
["Podpis :",null,null,"Podpis:",null,"Podpis:"]
[]
["Základ pro DPH",null,21,"%  ",null,{"$f":"C23-F32","v":0}]
["DPH",null,{"$f":"C30","v":21},"% ",null,{"$f":"ROUND(PRODUCT(F30,C31/100),0)","v":0}]
["Základ pro DPH",null,0,"% ",null,0]
["DPH",null,{"$f":"C32","v":0},"% ",null,{"$f":"ROUND(PRODUCT(F32,C33/100),0)","v":0}]
["CENA ZA OBJEKT CELKEM",null,null,null,null,{"$f":"ROUND(SUM(F30:F33),0)","v":0}]
[]
["Poznámka :",null,null,null,null,null,null," "]
[null,null,null,null,null,null,null," "]
[null,null,null,null,null,null,null," "]
[null,null,null,null,null,null,null," "]
[null,null,null,null,null,null,null," "]
[null,null,null,null,null,null,null," "]
[null,null,null,null,null,null,null," "]
[null,null,null,null,null,null,null," "]
[null,null,null,null,null,null,null," "]
[null,null,null,null,null,null,null," "]

{"sheet":"306 3236306.2 Rek","index":32,"n_rows":11,"n_cols":9,"rows_kept":11,"cut":false,"hidden":false,"merged":[[0,0,0,1],[1,0,1,1],[1,6,1,8]]}
["Stavba :",null,"3236 Bytová zóna Hruštice - Károvsko - Etapa VII.",null,null,null,"Rozpočet :","3236/306.2"]
["Objekt :",null,"306 Prodloužení vodovodu, přípojky",null,null,null,"Prodloužení vodovodu - přípojky"]
[]
["REKAPITULACE  STAVEBNÍCH  DÍLŮ"]
[]
[null,"Stavební díl",null,null,"HSV","PSV","Dodávka","Montáž","HZS"]
[{"$f":"'306 3236306.2 Pol'!B7","v":"1"},{"$f":"'306 3236306.2 Pol'!C7","v":"Zemní práce"},null,null,{"$f":"'306 3236306.2 Pol'!BA230","v":0},{"$f":"'306 3236306.2 Pol'!BB230","v":0},{"$f":"'306 3236306.2 Pol'!BC230","v":0},{"$f":"'306 3236306.2 Pol'!BD230","v":0},{"$f":"'306 3236306.2 Pol'!BE230","v":0}]
[{"$f":"'306 3236306.2 Pol'!B231","v":"45"},{"$f":"'306 3236306.2 Pol'!C231","v":"Podkladní a vedlejší konstrukce"},null,null,{"$f":"'306 3236306.2 Pol'!BA249","v":0},{"$f":"'306 3236306.2 Pol'!BB249","v":0},{"$f":"'306 3236306.2 Pol'!BC249","v":0},{"$f":"'306 3236306.2 Pol'!BD249","v":0},{"$f":"'306 3236306.2 Pol'!BE249","v":0}]
[{"$f":"'306 3236306.2 Pol'!B250","v":"8"},{"$f":"'306 3236306.2 Pol'!C250","v":"Trubní vedení"},null,null,{"$f":"'306 3236306.2 Pol'!BA412","v":0},{"$f":"'306 3236306.2 Pol'!BB412","v":0},{"$f":"'306 3236306.2 Pol'!BC412","v":0},{"$f":"'306 3236306.2 Pol'!BD412","v":0},{"$f":"'306 3236306.2 Pol'!BE412","v":0}]
[{"$f":"'306 3236306.2 Pol'!B413","v":"99"},{"$f":"'306 3236306.2 Pol'!C413","v":"Staveništní přesun hmot"},null,null,{"$f":"'306 3236306.2 Pol'!BA416","v":0},{"$f":"'306 3236306.2 Pol'!BB416","v":0},{"$f":"'306 3236306.2 Pol'!BC416","v":0},{"$f":"'306 3236306.2 Pol'!BD416","v":0},{"$f":"'306 3236306.2 Pol'!BE416","v":0}]
[null,"CELKEM  OBJEKT",null,null,{"$f":"SUM(E7:E10)","v":0},{"$f":"SUM(F7:F10)","v":0},{"$f":"SUM(G7:G10)","v":0},{"$f":"SUM(H7:H10)","v":0},{"$f":"SUM(I7:I10)","v":0}]

{"sheet":"306 3236306.2 Pol","index":33,"n_rows":416,"n_cols":80,"rows_kept":416,"cut":false,"hidden":false,"merged":[[0,0,0,6],[2,0,2,1],[3,0,3,1],[3,4,3,6],[8,2,8,6],[9,2,9,6],[10,2,10,3],[11,2,11,3],[18,2,18,3],[19,2,19,3],[20,2,20,3],[21,2,21,3],[22,2,22,3],[23,2,23,3],[12,2,12,3],[13,2,13,3],[14,2,14,3],[15,2,15,3],[16,2,16,3],[17,2,17,3],[31,2,31,6],[32,2,32,6],[33,2,33,3],[34,2,34,3],[35,2,35,3],[36,2,36,3],[24,2,24,3],[25,2,25,3],[26,2,26,3],[27,2,27,3],[28,2,28,3],[29,2,29,3],[43,2,43,3],[44,2,44,3],[45,2,45,3],[46,2,46,3],[47,2,47,3],[48,2,48,3],[37,2,37,3],[38,2,38,3],[39,2,39,3],[40,2,40,3],[41,2,41,3],[42,2,42,3],[56,2,56,3],[57,2,57,3],[58,2,58,3],[59,2,59,3],[60,2,60,3],[61,2,61,3],[49,2,49,3],[50,2,50,3],[51,2,51,3],[53,2,53,3],[54,2,54,3],[55,2,55,3],[68,2,68,3],[69,2,69,3],[70,2,70,3],[71,2,71,3],[73,2,73,6],[74,2,74,6],[62,2,62,3],[63,2,63,3],[64,2,64,3],[65,2,65,3],[66,2,66,3],[67,2,67,3],[81,2,81,3],[82,2,82,3],[83,2,83,3],[84,2,84,3],[85,2,85,3],[86,2,86,3],[75,2,75,3],[76,2,76,3],[77,2,77,3],[78,2,78,3],[79,2,79,3],[80,2,80,3],[93,2,93,3],[95,2,95,3],[96,2,96,3],[97,2,97,3],[98,2,98,3],[99,2,99,3],[87,2,87,3],[88,2,88,3],[89,2,89,3],[90,2,90,3],[91,2,91,3],[92,2,92,3],[106,2,106,3],[107,2,107,3],[108,2,108,3],[109,2,109,3],[110,2,110,3],[111,2,111,3],[100,2,100,3],[101,2,101,3],[102,2,102,3],[103,2,103,3],[104,2,104,3],[105,2,105,3],[119,2,119,3],[120,2,120,3],[121,2,121,3],[122,2,122,3],[123,2,123,3],[124,2,124,3],[112,2,112,3],[113,2,113,3],[115,2,115,3],[116,2,116,3],[117,2,117,3],[118,2,118,3],[131,2,131,3],[132,2,132,3],[133,2,133,3],[134,2,134,3],[135,2,135,3],[137,2,137,3],[125,2,125,3],[126,2,126,3],[127,2,127,3],[128,2,128,3],[129,2,129,3],[130,2,130,3],[144,2,144,3],[145,2,145,3],[146,2,146,3],[147,2,147,3],[148,2,148,3],[149,2,149,3],[138,2,138,3],[139,2,139,3],[140,2,140,3],[141,2,141,3],[142,2,142,3],[143,2,143,3],[157,2,157,3],[158,2,158,3],[159,2,159,3],[160,2,160,3],[161,2,161,3],[162,2,162,3],[150,2,150,3],[151,2,151,3],[152,2,152,3],[154,2,154,6],[155,2,155,3],[156,2,156,3],[169,2,169,3],[170,2,170,3],[171,2,171,3],[172,2,172,3],[173,2,173,3],[174,2,174,3],[163,2,163,3],[164,2,164,3],[165,2,165,3],[166,2,166,3],[167,2,167,3],[168,2,168,3],[181,2,181,3],[182,2,182,3],[183,2,183,3],[184,2,184,3],[185,2,185,3],[186,2,186,3],[175,2,175,3],[176,2,176,3],[177,2,177,3],[178,2,178,3],[179,2,179,3],[180,2,180,3],[194,2,194,3],[195,2,195,3],[196,2,196,3],[197,2,197,3],[198,2,198,3],[199,2,199,3],[187,2,187,3],[188,2,188,3],[189,2,189,3],[191,2,191,3],[192,2,192,3],[193,2,193,3],[206,2,206,3],[208,2,208,3],[209,2,209,3],[210,2,210,3],[211,2,211,3],[212,2,212,3],[200,2,200,3],[201,2,201,3],[202,2,202,3],[203,2,203,3],[204,2,204,3],[205,2,205,3],[219,2,219,3],[220,2,220,3],[221,2,221,3],[222,2,222,3],[223,2,223,3],[224,2,224,3],[213,2,213,3],[214,2,214,3],[215,2,215,3],[216,2,216,3],[217,2,217,3],[218,2,218,3],[236,2,236,3],[237,2,237,3],[238,2,238,3],[239,2,239,3],[240,2,240,3],[241,2,241,3],[225,2,225,3],[226,2,226,3],[227,2,227,3],[228,2,228,3],[232,2,232,3],[233,2,233,3],[234,2,234,3],[235,2,235,3],[251,2,251,6],[252,2,252,3],[253,2,253,3],[254,2,254,3],[255,2,255,3],[256,2,256,3],[257,2,257,3],[258,2,258,3],[242,2,242,3],[243,2,243,3],[244,2,244,3],[245,2,245,3],[246,2,246,3],[247,2,247,3],[265,2,265,3],[266,2,266,3],[267,2,267,3],[269,2,269,6],[270,2,270,3],[271,2,271,3],[259,2,259,3],[260,2,260,3],[261,2,261,3],[262,2,262,3],[263,2,263,3],[264,2,264,3],[278,2,278,3],[279,2,279,3],[280,2,280,3],[281,2,281,3],[282,2,282,3],[283,2,283,3],[272,2,272,3],[273,2,273,3],[274,2,274,3],[275,2,275,3],[276,2,276,3],[277,2,277,3],[291,2,291,3],[292,2,292,3],[293,2,293,3],[294,2,294,3],[295,2,295,3],[296,2,296,3],[284,2,284,3],[285,2,285,3],[287,2,287,6],[288,2,288,3],[289,2,289,3],[290,2,290,3],[303,2,303,3],[304,2,304,3],[306,2,306,6],[307,2,307,3],[308,2,308,3],[309,2,309,3],[297,2,297,3],[298,2,298,3],[299,2,299,3],[300,2,300,3],[301,2,301,3],[302,2,302,3],[316,2,316,3],[317,2,317,3],[318,2,318,3],[319,2,319,3],[320,2,320,3],[321,2,321,3],[310,2,310,3],[311,2,311,3],[312,2,312,3],[313,2,313,3],[314,2,314,3],[315,2,315,3],[329,2,329,3],[330,2,330,3],[331,2,331,3],[332,2,332,3],[333,2,333,3],[334,2,334,3],[322,2,322,3],[324,2,324,3],[325,2,325,3],[326,2,326,3],[327,2,327,3],[328,2,328,3],[342,2,342,3],[343,2,343,3],[344,2,344,3],[345,2,345,3],[346,2,346,3],[347,2,347,3],[335,2,335,3],[336,2,336,3],[337,2,337,3],[338,2,338,3],[339,2,339,3],[341,2,341,6],[354,2,354,3],[355,2,355,3],[356,2,356,3],[357,2,357,3],[359,2,359,6],[360,2,360,3],[348,2,348,3],[349,2,349,3],[350,2,350,3],[351,2,351,3],[352,2,352,3],[353,2,353,3],[367,2,367,3],[368,2,368,3],[369,2,369,3],[370,2,370,3],[371,2,371,3],[372,2,372,3],[361,2,361,3],[362,2,362,3],[363,2,363,3],[364,2,364,3],[365,2,365,3],[366,2,366,3],[380,2,380,3],[381,2,381,3],[382,2,382,3],[383,2,383,3],[384,2,384,3],[385,2,385,3],[373,2,373,3],[374,2,374,3],[375,2,375,3],[377,2,377,3],[378,2,378,3],[379,2,379,3],[392,2,392,3],[394,2,394,6],[395,2,395,3],[396,2,396,3],[397,2,397,3],[398,2,398,3],[386,2,386,3],[387,2,387,3],[388,2,388,3],[389,2,389,3],[390,2,390,3],[391,2,391,3],[414,2,414,6],[405,2,405,3],[406,2,406,3],[407,2,407,3],[408,2,408,3],[409,2,409,3],[410,2,410,3],[399,2,399,3],[400,2,400,3],[401,2,401,3],[402,2,402,3],[403,2,403,3],[404,2,404,3]]}
["Položkový rozpočet "]
[]
["Stavba :",null,"3236 Bytová zóna Hruštice - Károvsko - Etapa VII.",null,"Rozpočet:",{"$f":"'306 3236306.2 Rek'!H1","v":"3236/306.2"}]
["Objekt :",null,"306 Prodloužení vodovodu, přípojky",null,{"$f":"'306 3236306.2 Rek'!G2","v":"Prodloužení vodovodu - přípojky"}]
[]
["P.č.","Číslo položky","Název položky","MJ","množství","cena / MJ","celkem (Kč)","Jednotková hmotnost","Celková hmotnost","Jednotková dem.hmot.","Celková dem.hmot."]
["Díl:","1","Zemní práce",null,null,null,null,null,null,null,null,null,null,null,1]
[1,"120001101RRX","Příplatek za ztížení vykopávky v blízkosti vedení ","m3",15.9276,null,{"$f":"E8*F8","v":0},0,{"$f":"E8*H8","v":0},0,{"$f":"E8*J8","v":0},null,null,null,2,null,null,null,null,null,null,null,null,null,null,null,1,1,1,null,null,null,null,null,null,null,null,null,null,null,null,null,null,null,null,null,null,null,null,null,null,1,{"$f":"IF(AZ8=1,G8,0)","v":0},{"$f":"IF(AZ8=2,G8,0)","v":0},{"$f":"IF(AZ8=3,G8,0)","v":0},{"$f":"IF(AZ8=4,G8,0)","v":0},{"$f":"IF(AZ8=5,G8,0)","v":0},null,null,null,null,null,null,null,null,null,null,null,null,null,null,null,null,null,null,null,null,null,1,1]
[null,null,"Včetně ruční dokopávky a ručního výkopu.",null,null,null,null,null,null,null,null,"Včetně ruční dokopávky a ručního výkopu.",null,null,3]
[null,null,"Součástí položky je i případná potřeba dočasnéhon zajištění potrubí a kabelových vedení ve výkopu.",null,null,null,null,null,null,null,null,"Součástí položky je i případná potřeba dočasnéhon zajištění potrubí a kabelových vedení ve výkopu.",null,null,3]
[null,null,"Výkopy:",null,0,null,null,null,null,null,null,null,"Výkopy:"]
[null,null,"Začátek provozního součtu",null,0,null,null,null,null,null,null,null,"Začátek provozního součtu"]
[null,null,"Řad \"Np\" TLT DN100:",null,0,null,null,null,null,null,null,null,"Řad \"Np\" TLT DN100:"]
[null,null,"Řad \"Nv\" TLT DN100:",null,0,null,null,null,null,null,null,null,"Řad \"Nv\" TLT DN100:"]
[null,null,"Vp2 PE D 32x3,0 mm:6,40*0,80*(1,60-0,40)+1,80*1,80*(2,00-0,15)",null,12.138,null,null,null,null,null,null,null,"Vp2 PE D 32x3,0 mm:6,40*0,80*(1,60-0,40)+1,80*1,80*(2,00-0,15)"]
[null,null,"Vp3 PE D 32x3,0 mm:6,40*0,80*(1,60-0,40)+1,80*1,80*(2,00-0,15)",null,12.138,null,null,null,null,null,null,null,"Vp3 PE D 32x3,0 mm:6,40*0,80*(1,60-0,40)+1,80*1,80*(2,00-0,15)"]
[null,null,"Vp4 PE D 32x3,0 mm:3,00*0,80*(1,60-0,40)+1,80*1,80*(2,00-0,15)",null,8.8740000000000006,null,null,null,null,null,null,null,"Vp4 PE D 32x3,0 mm:3,00*0,80*(1,60-0,40)+1,80*1,80*(2,00-0,15)"]
[null,null,"Vp5 PE D 32x3,0 mm:5,20*0,80*(1,60-0,40)+1,80*1,80*(2,00-0,15)",null,10.986000000000001,null,null,null,null,null,null,null,"Vp5 PE D 32x3,0 mm:5,20*0,80*(1,60-0,40)+1,80*1,80*(2,00-0,15)"]
[null,null,"Vp6 PE D 32x3,0 mm:5,20*0,80*(1,60-0,40)+1,80*1,80*(2,00-0,15)",null,10.986000000000001,null,null,null,null,null,null,null,"Vp6 PE D 32x3,0 mm:5,20*0,80*(1,60-0,40)+1,80*1,80*(2,00-0,15)"]
[null,null,"Vs1 PE D 32x3,0 mm:7,10*0,80*(1,60-0,40)+1,80*1,80*(2,00-0,15)",null,12.81,null,null,null,null,null,null,null,"Vs1 PE D 32x3,0 mm:7,10*0,80*(1,60-0,40)+1,80*1,80*(2,00-0,15)"]
[null,null,"Vs2 PE D 32x3,0 mm:4,10*0,80*(1,60-0,40)+1,80*1,80*(2,00-0,15)",null,9.93,null,null,null,null,null,null,null,"Vs2 PE D 32x3,0 mm:4,10*0,80*(1,60-0,40)+1,80*1,80*(2,00-0,15)"]
[null,null,"Vs3 PE D 32x3,0 mm:5,30*0,80*(1,60-0,40)+1,80*1,80*(2,00-0,15)",null,11.082000000000001,null,null,null,null,null,null,null,"Vs3 PE D 32x3,0 mm:5,30*0,80*(1,60-0,40)+1,80*1,80*(2,00-0,15)"]
[null,null,"Vs4 PE D 32x3,0 mm:5,80*0,80*(1,60-0,40)+1,80*1,80*(2,00-0,15)",null,11.561999999999999,null,null,null,null,null,null,null,"Vs4 PE D 32x3,0 mm:5,80*0,80*(1,60-0,40)+1,80*1,80*(2,00-0,15)"]
[null,null,"Vs5 PE D 32x3,0 mm:6,10*0,80*(1,60-0,40)+1,80*1,80*(2,00-0,15)",null,11.85,null,null,null,null,null,null,null,"Vs5 PE D 32x3,0 mm:6,10*0,80*(1,60-0,40)+1,80*1,80*(2,00-0,15)"]
[null,null,"Vs6 PE D 32x3,0 mm:4,70*0,80*(1,60-0,40)+1,80*1,80*(2,00-0,15)",null,10.506,null,null,null,null,null,null,null,"Vs6 PE D 32x3,0 mm:4,70*0,80*(1,60-0,40)+1,80*1,80*(2,00-0,15)"]
[null,null,"Vs7 PE D 32x3,0 mm:6,40*0,80*(1,60-0,40)+1,80*1,80*(2,00-0,15)",null,12.138,null,null,null,null,null,null,null,"Vs7 PE D 32x3,0 mm:6,40*0,80*(1,60-0,40)+1,80*1,80*(2,00-0,15)"]
[null,null,"Vs8 PE D 32x3,0 mm:6,40*0,80*(1,60-0,40)+1,80*1,80*(2,00-0,15)",null,12.138,null,null,null,null,null,null,null,"Vs8 PE D 32x3,0 mm:6,40*0,80*(1,60-0,40)+1,80*1,80*(2,00-0,15)"]
[null,null,"Vs9 PE D 32x3,0 mm:6,40*0,80*(1,60-0,40)+1,80*1,80*(2,00-0,15)",null,12.138,null,null,null,null,null,null,null,"Vs9 PE D 32x3,0 mm:6,40*0,80*(1,60-0,40)+1,80*1,80*(2,00-0,15)"]
[null,null,"Konec provozního součtu",null,159.27599999999998,null,null,null,null,null,null,null,"Konec provozního součtu"]
[null,null,"V hornině tř. 3 - 4 - 10%:159,2760*0,1",null,15.9276,null,null,null,null,null,null,null,"V hornině tř. 3 - 4 - 10%:159,2760*0,1"]
[2,"132201211RRX","Hloubení rýh š.do 200 cm hor.3 do 100 m3,STROJNĚ ","m3",79.638000000000005,null,{"$f":"E31*F31","v":0},0,{"$f":"E31*H31","v":0},0,{"$f":"E31*J31","v":0},null,null,null,2,null,null,null,null,null,null,null,null,null,null,null,1,1,1,null,null,null,null,null,null,null,null,null,null,null,null,null,null,null,null,null,null,null,null,null,null,1,{"$f":"IF(AZ31=1,G31,0)","v":0},{"$f":"IF(AZ31=2,G31,0)","v":0},{"$f":"IF(AZ31=3,G31,0)","v":0},{"$f":"IF(AZ31=4,G31,0)","v":0},{"$f":"IF(AZ31=5,G31,0)","v":0},null,null,null,null,null,null,null,null,null,null,null,null,null,null,null,null,null,null,null,null,null,1,1]
[null,null,"Položka obsahuje hloubení rýh traktorbagrem, naložení výkopku na dopravní prostředek pro svislé, nebo vodorovné přemístění, popř. přemístění výkopku do 3 m (po povrchu území), případné zajištění rypadel polštáři, udržování pracoviště a ochranu výkopiště proti stékání srážkové vody z okolního terénu i s jejím odvodněním, nebo odvedením, přesekání a odstranění kořenů ve výkopišti, odstranění napadávek, urovnání dna výkopu.",null,null,null,null,null,null,null,null,"Položka obsahuje hloubení rýh traktorbagrem, naložení výkopku na dopravní prostředek pro svislé, nebo vodorovné přemístění, popř. přemístění výkopku do 3 m (po povrchu území), případné zajištění rypadel polštáři, udržování pracoviště a ochranu výkopiště proti stékání srážkové vody z okolního terénu i s jejím odvodněním, nebo odvedením, přesekání a odstranění kořenů ve výkopišti, odstranění napadávek, urovnání dna výkopu.",null,null,3]
[null,null,"Součástí položky je i zřízení a odstranění pažení rýhy v souladu s předpisy BOZP.",null,null,null,null,null,null,null,null,"Součástí položky je i zřízení a odstranění pažení rýhy v souladu s předpisy BOZP.",null,null,3]
[null,null,"Začátek provozního součtu",null,0,null,null,null,null,null,null,null,"Začátek provozního součtu"]
[null,null,"Řad \"Np\" TLT DN100:",null,0,null,null,null,null,null,null,null,"Řad \"Np\" TLT DN100:"]
[null,null,"Řad \"Nv\" TLT DN100:",null,0,null,null,null,null,null,null,null,"Řad \"Nv\" TLT DN100:"]
[null,null,"Vp2 PE D 32x3,0 mm:6,40*0,80*(1,60-0,40)+1,80*1,80*(2,00-0,15)",null,12.138,null,null,null,null,null,null,null,"Vp2 PE D 32x3,0 mm:6,40*0,80*(1,60-0,40)+1,80*1,80*(2,00-0,15)"]
[null,null,"Vp3 PE D 32x3,0 mm:6,40*0,80*(1,60-0,40)+1,80*1,80*(2,00-0,15)",null,12.138,null,null,null,null,null,null,null,"Vp3 PE D 32x3,0 mm:6,40*0,80*(1,60-0,40)+1,80*1,80*(2,00-0,15)"]
[null,null,"Vp4 PE D 32x3,0 mm:3,00*0,80*(1,60-0,40)+1,80*1,80*(2,00-0,15)",null,8.8740000000000006,null,null,null,null,null,null,null,"Vp4 PE D 32x3,0 mm:3,00*0,80*(1,60-0,40)+1,80*1,80*(2,00-0,15)"]
[null,null,"Vp5 PE D 32x3,0 mm:5,20*0,80*(1,60-0,40)+1,80*1,80*(2,00-0,15)",null,10.986000000000001,null,null,null,null,null,null,null,"Vp5 PE D 32x3,0 mm:5,20*0,80*(1,60-0,40)+1,80*1,80*(2,00-0,15)"]
[null,null,"Vp6 PE D 32x3,0 mm:5,20*0,80*(1,60-0,40)+1,80*1,80*(2,00-0,15)",null,10.986000000000001,null,null,null,null,null,null,null,"Vp6 PE D 32x3,0 mm:5,20*0,80*(1,60-0,40)+1,80*1,80*(2,00-0,15)"]
[null,null,"Vs1 PE D 32x3,0 mm:7,10*0,80*(1,60-0,40)+1,80*1,80*(2,00-0,15)",null,12.81,null,null,null,null,null,null,null,"Vs1 PE D 32x3,0 mm:7,10*0,80*(1,60-0,40)+1,80*1,80*(2,00-0,15)"]
[null,null,"Vs2 PE D 32x3,0 mm:4,10*0,80*(1,60-0,40)+1,80*1,80*(2,00-0,15)",null,9.93,null,null,null,null,null,null,null,"Vs2 PE D 32x3,0 mm:4,10*0,80*(1,60-0,40)+1,80*1,80*(2,00-0,15)"]
[null,null,"Vs3 PE D 32x3,0 mm:5,30*0,80*(1,60-0,40)+1,80*1,80*(2,00-0,15)",null,11.082000000000001,null,null,null,null,null,null,null,"Vs3 PE D 32x3,0 mm:5,30*0,80*(1,60-0,40)+1,80*1,80*(2,00-0,15)"]
[null,null,"Vs4 PE D 32x3,0 mm:5,80*0,80*(1,60-0,40)+1,80*1,80*(2,00-0,15)",null,11.561999999999999,null,null,null,null,null,null,null,"Vs4 PE D 32x3,0 mm:5,80*0,80*(1,60-0,40)+1,80*1,80*(2,00-0,15)"]
[null,null,"Vs5 PE D 32x3,0 mm:6,10*0,80*(1,60-0,40)+1,80*1,80*(2,00-0,15)",null,11.85,null,null,null,null,null,null,null,"Vs5 PE D 32x3,0 mm:6,10*0,80*(1,60-0,40)+1,80*1,80*(2,00-0,15)"]
[null,null,"Vs6 PE D 32x3,0 mm:4,70*0,80*(1,60-0,40)+1,80*1,80*(2,00-0,15)",null,10.506,null,null,null,null,null,null,null,"Vs6 PE D 32x3,0 mm:4,70*0,80*(1,60-0,40)+1,80*1,80*(2,00-0,15)"]
[null,null,"Vs7 PE D 32x3,0 mm:6,40*0,80*(1,60-0,40)+1,80*1,80*(2,00-0,15)",null,12.138,null,null,null,null,null,null,null,"Vs7 PE D 32x3,0 mm:6,40*0,80*(1,60-0,40)+1,80*1,80*(2,00-0,15)"]
[null,null,"Vs8 PE D 32x3,0 mm:6,40*0,80*(1,60-0,40)+1,80*1,80*(2,00-0,15)",null,12.138,null,null,null,null,null,null,null,"Vs8 PE D 32x3,0 mm:6,40*0,80*(1,60-0,40)+1,80*1,80*(2,00-0,15)"]
[null,null,"Vs9 PE D 32x3,0 mm:6,40*0,80*(1,60-0,40)+1,80*1,80*(2,00-0,15)",null,12.138,null,null,null,null,null,null,null,"Vs9 PE D 32x3,0 mm:6,40*0,80*(1,60-0,40)+1,80*1,80*(2,00-0,15)"]
[null,null,"Konec provozního součtu",null,159.27599999999998,null,null,null,null,null,null,null,"Konec provozního součtu"]
[null,null,"V hornině tř. 3 - 50%:159,2760*0,5",null,79.638000000000005,null,null,null,null,null,null,null,"V hornině tř. 3 - 50%:159,2760*0,5"]
[3,"132201219R00","Přípl.za lepivost,hloubení rýh 200cm,hor.3,STROJNĚ ","m3",39.819000000000003,null,{"$f":"E53*F53","v":0},0,{"$f":"E53*H53","v":0},0,{"$f":"E53*J53","v":0},null,null,null,2,null,null,null,null,null,null,null,null,null,null,null,1,1,1,null,null,null,null,null,null,null,null,null,null,null,null,null,null,null,null,null,null,null,null,null,null,1,{"$f":"IF(AZ53=1,G53,0)","v":0},{"$f":"IF(AZ53=2,G53,0)","v":0},{"$f":"IF(AZ53=3,G53,0)","v":0},{"$f":"IF(AZ53=4,G53,0)","v":0},{"$f":"IF(AZ53=5,G53,0)","v":0},null,null,null,null,null,null,null,null,null,null,null,null,null,null,null,null,null,null,null,null,null,1,1]
[null,null,"Začátek provozního součtu",null,0,null,null,null,null,null,null,null,"Začátek provozního součtu"]
[null,null,"Řad \"Np\" TLT DN100:",null,0,null,null,null,null,null,null,null,"Řad \"Np\" TLT DN100:"]
[null,null,"Řad \"Nv\" TLT DN100:",null,0,null,null,null,null,null,null,null,"Řad \"Nv\" TLT DN100:"]
[null,null,"Vp2 PE D 32x3,0 mm:6,40*0,80*(1,60-0,40)+1,80*1,80*(2,00-0,15)",null,12.138,null,null,null,null,null,null,null,"Vp2 PE D 32x3,0 mm:6,40*0,80*(1,60-0,40)+1,80*1,80*(2,00-0,15)"]
[null,null,"Vp3 PE D 32x3,0 mm:6,40*0,80*(1,60-0,40)+1,80*1,80*(2,00-0,15)",null,12.138,null,null,null,null,null,null,null,"Vp3 PE D 32x3,0 mm:6,40*0,80*(1,60-0,40)+1,80*1,80*(2,00-0,15)"]
[null,null,"Vp4 PE D 32x3,0 mm:3,00*0,80*(1,60-0,40)+1,80*1,80*(2,00-0,15)",null,8.8740000000000006,null,null,null,null,null,null,null,"Vp4 PE D 32x3,0 mm:3,00*0,80*(1,60-0,40)+1,80*1,80*(2,00-0,15)"]
[null,null,"Vp5 PE D 32x3,0 mm:5,20*0,80*(1,60-0,40)+1,80*1,80*(2,00-0,15)",null,10.986000000000001,null,null,null,null,null,null,null,"Vp5 PE D 32x3,0 mm:5,20*0,80*(1,60-0,40)+1,80*1,80*(2,00-0,15)"]
[null,null,"Vp6 PE D 32x3,0 mm:5,20*0,80*(1,60-0,40)+1,80*1,80*(2,00-0,15)",null,10.986000000000001,null,null,null,null,null,null,null,"Vp6 PE D 32x3,0 mm:5,20*0,80*(1,60-0,40)+1,80*1,80*(2,00-0,15)"]
[null,null,"Vs1 PE D 32x3,0 mm:7,10*0,80*(1,60-0,40)+1,80*1,80*(2,00-0,15)",null,12.81,null,null,null,null,null,null,null,"Vs1 PE D 32x3,0 mm:7,10*0,80*(1,60-0,40)+1,80*1,80*(2,00-0,15)"]
[null,null,"Vs2 PE D 32x3,0 mm:4,10*0,80*(1,60-0,40)+1,80*1,80*(2,00-0,15)",null,9.93,null,null,null,null,null,null,null,"Vs2 PE D 32x3,0 mm:4,10*0,80*(1,60-0,40)+1,80*1,80*(2,00-0,15)"]
[null,null,"Vs3 PE D 32x3,0 mm:5,30*0,80*(1,60-0,40)+1,80*1,80*(2,00-0,15)",null,11.082000000000001,null,null,null,null,null,null,null,"Vs3 PE D 32x3,0 mm:5,30*0,80*(1,60-0,40)+1,80*1,80*(2,00-0,15)"]
[null,null,"Vs4 PE D 32x3,0 mm:5,80*0,80*(1,60-0,40)+1,80*1,80*(2,00-0,15)",null,11.561999999999999,null,null,null,null,null,null,null,"Vs4 PE D 32x3,0 mm:5,80*0,80*(1,60-0,40)+1,80*1,80*(2,00-0,15)"]
[null,null,"Vs5 PE D 32x3,0 mm:6,10*0,80*(1,60-0,40)+1,80*1,80*(2,00-0,15)",null,11.85,null,null,null,null,null,null,null,"Vs5 PE D 32x3,0 mm:6,10*0,80*(1,60-0,40)+1,80*1,80*(2,00-0,15)"]
[null,null,"Vs6 PE D 32x3,0 mm:4,70*0,80*(1,60-0,40)+1,80*1,80*(2,00-0,15)",null,10.506,null,null,null,null,null,null,null,"Vs6 PE D 32x3,0 mm:4,70*0,80*(1,60-0,40)+1,80*1,80*(2,00-0,15)"]
[null,null,"Vs7 PE D 32x3,0 mm:6,40*0,80*(1,60-0,40)+1,80*1,80*(2,00-0,15)",null,12.138,null,null,null,null,null,null,null,"Vs7 PE D 32x3,0 mm:6,40*0,80*(1,60-0,40)+1,80*1,80*(2,00-0,15)"]
[null,null,"Vs8 PE D 32x3,0 mm:6,40*0,80*(1,60-0,40)+1,80*1,80*(2,00-0,15)",null,12.138,null,null,null,null,null,null,null,"Vs8 PE D 32x3,0 mm:6,40*0,80*(1,60-0,40)+1,80*1,80*(2,00-0,15)"]
[null,null,"Vs9 PE D 32x3,0 mm:6,40*0,80*(1,60-0,40)+1,80*1,80*(2,00-0,15)",null,12.138,null,null,null,null,null,null,null,"Vs9 PE D 32x3,0 mm:6,40*0,80*(1,60-0,40)+1,80*1,80*(2,00-0,15)"]
[null,null,"Konec provozního součtu",null,159.27599999999998,null,null,null,null,null,null,null,"Konec provozního součtu"]
[null,null,"V hornině tř. 3 - 50%:159,2760*0,5*0,5",null,39.819000000000003,null,null,null,null,null,null,null,"V hornině tř. 3 - 50%:159,2760*0,5*0,5"]
[4,"132301211RRX","Hloubení rýh š.do 200 cm hor.4 do 100 m3, STROJNĚ ","m3",79.638000000000005,null,{"$f":"E73*F73","v":0},0,{"$f":"E73*H73","v":0},0,{"$f":"E73*J73","v":0},null,null,null,2,null,null,null,null,null,null,null,null,null,null,null,1,1,1,null,null,null,null,null,null,null,null,null,null,null,null,null,null,null,null,null,null,null,null,null,null,1,{"$f":"IF(AZ73=1,G73,0)","v":0},{"$f":"IF(AZ73=2,G73,0)","v":0},{"$f":"IF(AZ73=3,G73,0)","v":0},{"$f":"IF(AZ73=4,G73,0)","v":0},{"$f":"IF(AZ73=5,G73,0)","v":0},null,null,null,null,null,null,null,null,null,null,null,null,null,null,null,null,null,null,null,null,null,1,1]
[null,null,"Položka obsahuje hloubení rýh traktorbagrem, naložení výkopku na dopravní prostředek pro svislé, nebo vodorovné přemístění, popř. přemístění výkopku do 3 m (po povrchu území), případné zajištění rypadel polštáři, udržování pracoviště a ochranu výkopiště proti stékání srážkové vody z okolního terénu i s jejím odvodněním, nebo odvedením, přesekání a odstranění kořenů ve výkopišti, odstranění napadávek, urovnání dna výkopu.",null,null,null,null,null,null,null,null,"Položka obsahuje hloubení rýh traktorbagrem, naložení výkopku na dopravní prostředek pro svislé, nebo vodorovné přemístění, popř. přemístění výkopku do 3 m (po povrchu území), případné zajištění rypadel polštáři, udržování pracoviště a ochranu výkopiště proti stékání srážkové vody z okolního terénu i s jejím odvodněním, nebo odvedením, přesekání a odstranění kořenů ve výkopišti, odstranění napadávek, urovnání dna výkopu.",null,null,3]
[null,null,"Součástí položky je i zřízení a odstranění pažení rýhy v souladu s předpisy BOZP.",null,null,null,null,null,null,null,null,"Součástí položky je i zřízení a odstranění pažení rýhy v souladu s předpisy BOZP.",null,null,3]
[null,null,"Začátek provozního součtu",null,0,null,null,null,null,null,null,null,"Začátek provozního součtu"]
[null,null,"Řad \"Np\" TLT DN100:",null,0,null,null,null,null,null,null,null,"Řad \"Np\" TLT DN100:"]
[null,null,"Řad \"Nv\" TLT DN100:",null,0,null,null,null,null,null,null,null,"Řad \"Nv\" TLT DN100:"]
[null,null,"Vp2 PE D 32x3,0 mm:6,40*0,80*(1,60-0,40)+1,80*1,80*(2,00-0,15)",null,12.138,null,null,null,null,null,null,null,"Vp2 PE D 32x3,0 mm:6,40*0,80*(1,60-0,40)+1,80*1,80*(2,00-0,15)"]
[null,null,"Vp3 PE D 32x3,0 mm:6,40*0,80*(1,60-0,40)+1,80*1,80*(2,00-0,15)",null,12.138,null,null,null,null,null,null,null,"Vp3 PE D 32x3,0 mm:6,40*0,80*(1,60-0,40)+1,80*1,80*(2,00-0,15)"]
[null,null,"Vp4 PE D 32x3,0 mm:3,00*0,80*(1,60-0,40)+1,80*1,80*(2,00-0,15)",null,8.8740000000000006,null,null,null,null,null,null,null,"Vp4 PE D 32x3,0 mm:3,00*0,80*(1,60-0,40)+1,80*1,80*(2,00-0,15)"]
[null,null,"Vp5 PE D 32x3,0 mm:5,20*0,80*(1,60-0,40)+1,80*1,80*(2,00-0,15)",null,10.986000000000001,null,null,null,null,null,null,null,"Vp5 PE D 32x3,0 mm:5,20*0,80*(1,60-0,40)+1,80*1,80*(2,00-0,15)"]
[null,null,"Vp6 PE D 32x3,0 mm:5,20*0,80*(1,60-0,40)+1,80*1,80*(2,00-0,15)",null,10.986000000000001,null,null,null,null,null,null,null,"Vp6 PE D 32x3,0 mm:5,20*0,80*(1,60-0,40)+1,80*1,80*(2,00-0,15)"]
[null,null,"Vs1 PE D 32x3,0 mm:7,10*0,80*(1,60-0,40)+1,80*1,80*(2,00-0,15)",null,12.81,null,null,null,null,null,null,null,"Vs1 PE D 32x3,0 mm:7,10*0,80*(1,60-0,40)+1,80*1,80*(2,00-0,15)"]
[null,null,"Vs2 PE D 32x3,0 mm:4,10*0,80*(1,60-0,40)+1,80*1,80*(2,00-0,15)",null,9.93,null,null,null,null,null,null,null,"Vs2 PE D 32x3,0 mm:4,10*0,80*(1,60-0,40)+1,80*1,80*(2,00-0,15)"]
[null,null,"Vs3 PE D 32x3,0 mm:5,30*0,80*(1,60-0,40)+1,80*1,80*(2,00-0,15)",null,11.082000000000001,null,null,null,null,null,null,null,"Vs3 PE D 32x3,0 mm:5,30*0,80*(1,60-0,40)+1,80*1,80*(2,00-0,15)"]
[null,null,"Vs4 PE D 32x3,0 mm:5,80*0,80*(1,60-0,40)+1,80*1,80*(2,00-0,15)",null,11.561999999999999,null,null,null,null,null,null,null,"Vs4 PE D 32x3,0 mm:5,80*0,80*(1,60-0,40)+1,80*1,80*(2,00-0,15)"]
[null,null,"Vs5 PE D 32x3,0 mm:6,10*0,80*(1,60-0,40)+1,80*1,80*(2,00-0,15)",null,11.85,null,null,null,null,null,null,null,"Vs5 PE D 32x3,0 mm:6,10*0,80*(1,60-0,40)+1,80*1,80*(2,00-0,15)"]
[null,null,"Vs6 PE D 32x3,0 mm:4,70*0,80*(1,60-0,40)+1,80*1,80*(2,00-0,15)",null,10.506,null,null,null,null,null,null,null,"Vs6 PE D 32x3,0 mm:4,70*0,80*(1,60-0,40)+1,80*1,80*(2,00-0,15)"]
[null,null,"Vs7 PE D 32x3,0 mm:6,40*0,80*(1,60-0,40)+1,80*1,80*(2,00-0,15)",null,12.138,null,null,null,null,null,null,null,"Vs7 PE D 32x3,0 mm:6,40*0,80*(1,60-0,40)+1,80*1,80*(2,00-0,15)"]
[null,null,"Vs8 PE D 32x3,0 mm:6,40*0,80*(1,60-0,40)+1,80*1,80*(2,00-0,15)",null,12.138,null,null,null,null,null,null,null,"Vs8 PE D 32x3,0 mm:6,40*0,80*(1,60-0,40)+1,80*1,80*(2,00-0,15)"]
[null,null,"Vs9 PE D 32x3,0 mm:6,40*0,80*(1,60-0,40)+1,80*1,80*(2,00-0,15)",null,12.138,null,null,null,null,null,null,null,"Vs9 PE D 32x3,0 mm:6,40*0,80*(1,60-0,40)+1,80*1,80*(2,00-0,15)"]
[null,null,"Konec provozního součtu",null,159.27599999999998,null,null,null,null,null,null,null,"Konec provozního součtu"]
[null,null,"V hornině tř. 4 - 50%:159,2760*0,5",null,79.638000000000005,null,null,null,null,null,null,null,"V hornině tř. 4 - 50%:159,2760*0,5"]
[5,"132301219R00","Přípl.za lepivost,hloubení rýh 200cm,hor.4,STROJNĚ ","m3",39.819000000000003,null,{"$f":"E95*F95","v":0},0,{"$f":"E95*H95","v":0},0,{"$f":"E95*J95","v":0},null,null,null,2,null,null,null,null,null,null,null,null,null,null,null,1,1,1,null,null,null,null,null,null,null,null,null,null,null,null,null,null,null,null,null,null,null,null,null,null,1,{"$f":"IF(AZ95=1,G95,0)","v":0},{"$f":"IF(AZ95=2,G95,0)","v":0},{"$f":"IF(AZ95=3,G95,0)","v":0},{"$f":"IF(AZ95=4,G95,0)","v":0},{"$f":"IF(AZ95=5,G95,0)","v":0},null,null,null,null,null,null,null,null,null,null,null,null,null,null,null,null,null,null,null,null,null,1,1]
[null,null,"Začátek provozního součtu",null,0,null,null,null,null,null,null,null,"Začátek provozního součtu"]
[null,null,"Řad \"Np\" TLT DN100:",null,0,null,null,null,null,null,null,null,"Řad \"Np\" TLT DN100:"]
[null,null,"Řad \"Nv\" TLT DN100:",null,0,null,null,null,null,null,null,null,"Řad \"Nv\" TLT DN100:"]
[null,null,"Vp2 PE D 32x3,0 mm:6,40*0,80*(1,60-0,40)+1,80*1,80*(2,00-0,15)",null,12.138,null,null,null,null,null,null,null,"Vp2 PE D 32x3,0 mm:6,40*0,80*(1,60-0,40)+1,80*1,80*(2,00-0,15)"]
[null,null,"Vp3 PE D 32x3,0 mm:6,40*0,80*(1,60-0,40)+1,80*1,80*(2,00-0,15)",null,12.138,null,null,null,null,null,null,null,"Vp3 PE D 32x3,0 mm:6,40*0,80*(1,60-0,40)+1,80*1,80*(2,00-0,15)"]
[null,null,"Vp4 PE D 32x3,0 mm:3,00*0,80*(1,60-0,40)+1,80*1,80*(2,00-0,15)",null,8.8740000000000006,null,null,null,null,null,null,null,"Vp4 PE D 32x3,0 mm:3,00*0,80*(1,60-0,40)+1,80*1,80*(2,00-0,15)"]
[null,null,"Vp5 PE D 32x3,0 mm:5,20*0,80*(1,60-0,40)+1,80*1,80*(2,00-0,15)",null,10.986000000000001,null,null,null,null,null,null,null,"Vp5 PE D 32x3,0 mm:5,20*0,80*(1,60-0,40)+1,80*1,80*(2,00-0,15)"]
[null,null,"Vp6 PE D 32x3,0 mm:5,20*0,80*(1,60-0,40)+1,80*1,80*(2,00-0,15)",null,10.986000000000001,null,null,null,null,null,null,null,"Vp6 PE D 32x3,0 mm:5,20*0,80*(1,60-0,40)+1,80*1,80*(2,00-0,15)"]
[null,null,"Vs1 PE D 32x3,0 mm:7,10*0,80*(1,60-0,40)+1,80*1,80*(2,00-0,15)",null,12.81,null,null,null,null,null,null,null,"Vs1 PE D 32x3,0 mm:7,10*0,80*(1,60-0,40)+1,80*1,80*(2,00-0,15)"]
[null,null,"Vs2 PE D 32x3,0 mm:4,10*0,80*(1,60-0,40)+1,80*1,80*(2,00-0,15)",null,9.93,null,null,null,null,null,null,null,"Vs2 PE D 32x3,0 mm:4,10*0,80*(1,60-0,40)+1,80*1,80*(2,00-0,15)"]
[null,null,"Vs3 PE D 32x3,0 mm:5,30*0,80*(1,60-0,40)+1,80*1,80*(2,00-0,15)",null,11.082000000000001,null,null,null,null,null,null,null,"Vs3 PE D 32x3,0 mm:5,30*0,80*(1,60-0,40)+1,80*1,80*(2,00-0,15)"]
[null,null,"Vs4 PE D 32x3,0 mm:5,80*0,80*(1,60-0,40)+1,80*1,80*(2,00-0,15)",null,11.561999999999999,null,null,null,null,null,null,null,"Vs4 PE D 32x3,0 mm:5,80*0,80*(1,60-0,40)+1,80*1,80*(2,00-0,15)"]
[null,null,"Vs5 PE D 32x3,0 mm:6,10*0,80*(1,60-0,40)+1,80*1,80*(2,00-0,15)",null,11.85,null,null,null,null,null,null,null,"Vs5 PE D 32x3,0 mm:6,10*0,80*(1,60-0,40)+1,80*1,80*(2,00-0,15)"]
[null,null,"Vs6 PE D 32x3,0 mm:4,70*0,80*(1,60-0,40)+1,80*1,80*(2,00-0,15)",null,10.506,null,null,null,null,null,null,null,"Vs6 PE D 32x3,0 mm:4,70*0,80*(1,60-0,40)+1,80*1,80*(2,00-0,15)"]
[null,null,"Vs7 PE D 32x3,0 mm:6,40*0,80*(1,60-0,40)+1,80*1,80*(2,00-0,15)",null,12.138,null,null,null,null,null,null,null,"Vs7 PE D 32x3,0 mm:6,40*0,80*(1,60-0,40)+1,80*1,80*(2,00-0,15)"]
[null,null,"Vs8 PE D 32x3,0 mm:6,40*0,80*(1,60-0,40)+1,80*1,80*(2,00-0,15)",null,12.138,null,null,null,null,null,null,null,"Vs8 PE D 32x3,0 mm:6,40*0,80*(1,60-0,40)+1,80*1,80*(2,00-0,15)"]
[null,null,"Vs9 PE D 32x3,0 mm:6,40*0,80*(1,60-0,40)+1,80*1,80*(2,00-0,15)",null,12.138,null,null,null,null,null,null,null,"Vs9 PE D 32x3,0 mm:6,40*0,80*(1,60-0,40)+1,80*1,80*(2,00-0,15)"]
[null,null,"Konec provozního součtu",null,159.27599999999998,null,null,null,null,null,null,null,"Konec provozního součtu"]
[null,null,"V hornině tř. 4 - 50%:159,2760*0,5*0,5",null,39.819000000000003,null,null,null,null,null,null,null,"V hornině tř. 4 - 50%:159,2760*0,5*0,5"]
[6,"162701105RSZ","Vodorovné přemístění výkopku z hor.1-7 na skládku zhotovitele","m3",83.36,null,{"$f":"E115*F115","v":0},0,{"$f":"E115*H115","v":0},0,{"$f":"E115*J115","v":0},null,null,null,2,null,null,null,null,null,null,null,null,null,null,null,1,1,1,null,null,null,null,null,null,null,null,null,null,null,null,null,null,null,null,null,null,null,null,null,null,1,{"$f":"IF(AZ115=1,G115,0)","v":0},{"$f":"IF(AZ115=2,G115,0)","v":0},{"$f":"IF(AZ115=3,G115,0)","v":0},{"$f":"IF(AZ115=4,G115,0)","v":0},{"$f":"IF(AZ115=5,G115,0)","v":0},null,null,null,null,null,null,null,null,null,null,null,null,null,null,null,null,null,null,null,null,null,1,1]
[null,null,"Výkopy:",null,0,null,null,null,null,null,null,null,"Výkopy:"]
[null,null,"Začátek provozního součtu",null,0,null,null,null,null,null,null,null,"Začátek provozního součtu"]
[null,null,"Řad \"Np\" TLT DN100:",null,0,null,null,null,null,null,null,null,"Řad \"Np\" TLT DN100:"]
[null,null,"Řad \"Nv\" TLT DN100:",null,0,null,null,null,null,null,null,null,"Řad \"Nv\" TLT DN100:"]
[null,null,"Vp2 PE D 32x3,0 mm:6,40*0,80*(1,60-0,40)+1,80*1,80*(2,00-0,15)",null,12.138,null,null,null,null,null,null,null,"Vp2 PE D 32x3,0 mm:6,40*0,80*(1,60-0,40)+1,80*1,80*(2,00-0,15)"]
[null,null,"Vp3 PE D 32x3,0 mm:6,40*0,80*(1,60-0,40)+1,80*1,80*(2,00-0,15)",null,12.138,null,null,null,null,null,null,null,"Vp3 PE D 32x3,0 mm:6,40*0,80*(1,60-0,40)+1,80*1,80*(2,00-0,15)"]
[null,null,"Vp4 PE D 32x3,0 mm:3,00*0,80*(1,60-0,40)+1,80*1,80*(2,00-0,15)",null,8.8740000000000006,null,null,null,null,null,null,null,"Vp4 PE D 32x3,0 mm:3,00*0,80*(1,60-0,40)+1,80*1,80*(2,00-0,15)"]
[null,null,"Vp5 PE D 32x3,0 mm:5,20*0,80*(1,60-0,40)+1,80*1,80*(2,00-0,15)",null,10.986000000000001,null,null,null,null,null,null,null,"Vp5 PE D 32x3,0 mm:5,20*0,80*(1,60-0,40)+1,80*1,80*(2,00-0,15)"]
[null,null,"Vp6 PE D 32x3,0 mm:5,20*0,80*(1,60-0,40)+1,80*1,80*(2,00-0,15)",null,10.986000000000001,null,null,null,null,null,null,null,"Vp6 PE D 32x3,0 mm:5,20*0,80*(1,60-0,40)+1,80*1,80*(2,00-0,15)"]
[null,null,"Vs1 PE D 32x3,0 mm:7,10*0,80*(1,60-0,40)+1,80*1,80*(2,00-0,15)",null,12.81,null,null,null,null,null,null,null,"Vs1 PE D 32x3,0 mm:7,10*0,80*(1,60-0,40)+1,80*1,80*(2,00-0,15)"]
[null,null,"Vs2 PE D 32x3,0 mm:4,10*0,80*(1,60-0,40)+1,80*1,80*(2,00-0,15)",null,9.93,null,null,null,null,null,null,null,"Vs2 PE D 32x3,0 mm:4,10*0,80*(1,60-0,40)+1,80*1,80*(2,00-0,15)"]
[null,null,"Vs3 PE D 32x3,0 mm:5,30*0,80*(1,60-0,40)+1,80*1,80*(2,00-0,15)",null,11.082000000000001,null,null,null,null,null,null,null,"Vs3 PE D 32x3,0 mm:5,30*0,80*(1,60-0,40)+1,80*1,80*(2,00-0,15)"]
[null,null,"Vs4 PE D 32x3,0 mm:5,80*0,80*(1,60-0,40)+1,80*1,80*(2,00-0,15)",null,11.561999999999999,null,null,null,null,null,null,null,"Vs4 PE D 32x3,0 mm:5,80*0,80*(1,60-0,40)+1,80*1,80*(2,00-0,15)"]
[null,null,"Vs5 PE D 32x3,0 mm:6,10*0,80*(1,60-0,40)+1,80*1,80*(2,00-0,15)",null,11.85,null,null,null,null,null,null,null,"Vs5 PE D 32x3,0 mm:6,10*0,80*(1,60-0,40)+1,80*1,80*(2,00-0,15)"]
[null,null,"Vs6 PE D 32x3,0 mm:4,70*0,80*(1,60-0,40)+1,80*1,80*(2,00-0,15)",null,10.506,null,null,null,null,null,null,null,"Vs6 PE D 32x3,0 mm:4,70*0,80*(1,60-0,40)+1,80*1,80*(2,00-0,15)"]
[null,null,"Vs7 PE D 32x3,0 mm:6,40*0,80*(1,60-0,40)+1,80*1,80*(2,00-0,15)",null,12.138,null,null,null,null,null,null,null,"Vs7 PE D 32x3,0 mm:6,40*0,80*(1,60-0,40)+1,80*1,80*(2,00-0,15)"]
[null,null,"Vs8 PE D 32x3,0 mm:6,40*0,80*(1,60-0,40)+1,80*1,80*(2,00-0,15)",null,12.138,null,null,null,null,null,null,null,"Vs8 PE D 32x3,0 mm:6,40*0,80*(1,60-0,40)+1,80*1,80*(2,00-0,15)"]
[null,null,"Vs9 PE D 32x3,0 mm:6,40*0,80*(1,60-0,40)+1,80*1,80*(2,00-0,15)",null,12.138,null,null,null,null,null,null,null,"Vs9 PE D 32x3,0 mm:6,40*0,80*(1,60-0,40)+1,80*1,80*(2,00-0,15)"]
[null,null,"Konec provozního součtu",null,159.27599999999998,null,null,null,null,null,null,null,"Konec provozního součtu"]
[null,null,"V hornině tř. 3 - 4:159,2760",null,159.27600000000001,null,null,null,null,null,null,null,"V hornině tř. 3 - 4:159,2760"]
[null,null,"Odpočet zásypů zeminou:-75,9160",null,-75.915999999999997,null,null,null,null,null,null,null,"Odpočet zásypů zeminou:-75,9160"]
[7,"174100050RAA","Zásyp jam,rýh a šachet štěrkodrtí fr. 0-63 mm včetně dovozu štěrkodrtě","m3",36.423999999999999,null,{"$f":"E137*F137","v":0},1.873,{"$f":"E137*H137","v":68.222151999999994},0,{"$f":"E137*J137","v":0},null,null,null,2,null,null,null,null,null,null,null,null,null,null,null,1,1,1,null,null,null,null,null,null,null,null,null,null,null,null,null,null,null,null,null,null,null,null,null,null,1,{"$f":"IF(AZ137=1,G137,0)","v":0},{"$f":"IF(AZ137=2,G137,0)","v":0},{"$f":"IF(AZ137=3,G137,0)","v":0},{"$f":"IF(AZ137=4,G137,0)","v":0},{"$f":"IF(AZ137=5,G137,0)","v":0},null,null,null,null,null,null,null,null,null,null,null,null,null,null,null,null,null,null,null,null,null,1,1]
[null,null,"Řad \"Np\" TLT DN100:",null,0,null,null,null,null,null,null,null,"Řad \"Np\" TLT DN100:"]
[null,null,"Řad \"Nv\" TLT DN100:",null,0,null,null,null,null,null,null,null,"Řad \"Nv\" TLT DN100:"]
[null,null,"Vp2 PE D 32x3,0 mm:6,40*0,80*(1,60-0,10-0,32-0,30-0,30)",null,2.9695999999999998,null,null,null,null,null,null,null,"Vp2 PE D 32x3,0 mm:6,40*0,80*(1,60-0,10-0,32-0,30-0,30)"]
[null,null,"Vp3 PE D 32x3,0 mm:6,40*0,80*(1,60-0,10-0,32-0,30-0,30)",null,2.9695999999999998,null,null,null,null,null,null,null,"Vp3 PE D 32x3,0 mm:6,40*0,80*(1,60-0,10-0,32-0,30-0,30)"]
[null,null,"Vp4 PE D 32x3,0 mm:3,00*0,80*(1,60-0,10-0,32-0,30-0,30)",null,1.3919999999999999,null,null,null,null,null,null,null,"Vp4 PE D 32x3,0 mm:3,00*0,80*(1,60-0,10-0,32-0,30-0,30)"]
[null,null,"Vp5 PE D 32x3,0 mm:5,20*0,80*(1,60-0,10-0,32-0,30-0,30)",null,2.4127999999999998,null,null,null,null,null,null,null,"Vp5 PE D 32x3,0 mm:5,20*0,80*(1,60-0,10-0,32-0,30-0,30)"]
[null,null,"Vp6 PE D 32x3,0 mm:5,20*0,80*(1,60-0,10-0,32-0,30-0,30)",null,2.4127999999999998,null,null,null,null,null,null,null,"Vp6 PE D 32x3,0 mm:5,20*0,80*(1,60-0,10-0,32-0,30-0,30)"]
[null,null,"Vs1 PE D 32x3,0 mm:7,10*0,80*(1,60-0,10-0,32-0,30-0,30)",null,3.2944,null,null,null,null,null,null,null,"Vs1 PE D 32x3,0 mm:7,10*0,80*(1,60-0,10-0,32-0,30-0,30)"]
[null,null,"Vs2 PE D 32x3,0 mm:4,10*0,80*(1,60-0,10-0,32-0,30-0,30)",null,1.9024000000000001,null,null,null,null,null,null,null,"Vs2 PE D 32x3,0 mm:4,10*0,80*(1,60-0,10-0,32-0,30-0,30)"]
[null,null,"Vs3 PE D 32x3,0 mm:5,30*0,80*(1,60-0,10-0,32-0,30-0,30)",null,2.4592000000000001,null,null,null,null,null,null,null,"Vs3 PE D 32x3,0 mm:5,30*0,80*(1,60-0,10-0,32-0,30-0,30)"]
[null,null,"Vs4 PE D 32x3,0 mm:5,80*0,80*(1,60-0,10-0,32-0,30-0,30)",null,2.6911999999999998,null,null,null,null,null,null,null,"Vs4 PE D 32x3,0 mm:5,80*0,80*(1,60-0,10-0,32-0,30-0,30)"]
[null,null,"Vs5 PE D 32x3,0 mm:6,10*0,80*(1,60-0,10-0,32-0,30-0,30)",null,2.8304,null,null,null,null,null,null,null,"Vs5 PE D 32x3,0 mm:6,10*0,80*(1,60-0,10-0,32-0,30-0,30)"]
[null,null,"Vs6 PE D 32x3,0 mm:4,70*0,80*(1,60-0,10-0,32-0,30-0,30)",null,2.1808000000000001,null,null,null,null,null,null,null,"Vs6 PE D 32x3,0 mm:4,70*0,80*(1,60-0,10-0,32-0,30-0,30)"]
[null,null,"Vs7 PE D 32x3,0 mm:6,40*0,80*(1,60-0,10-0,32-0,30-0,30)",null,2.9695999999999998,null,null,null,null,null,null,null,"Vs7 PE D 32x3,0 mm:6,40*0,80*(1,60-0,10-0,32-0,30-0,30)"]
[null,null,"Vs8 PE D 32x3,0 mm:6,40*0,80*(1,60-0,10-0,32-0,30-0,30)",null,2.9695999999999998,null,null,null,null,null,null,null,"Vs8 PE D 32x3,0 mm:6,40*0,80*(1,60-0,10-0,32-0,30-0,30)"]
[null,null,"Vs9 PE D 32x3,0 mm:6,40*0,80*(1,60-0,10-0,32-0,30-0,30)",null,2.9695999999999998,null,null,null,null,null,null,null,"Vs9 PE D 32x3,0 mm:6,40*0,80*(1,60-0,10-0,32-0,30-0,30)"]
[8,"174101101R00","Zásyp jam, rýh, šachet se zhutněním ","m3",75.314800000000005,null,{"$f":"E154*F154","v":0},0,{"$f":"E154*H154","v":0},0,{"$f":"E154*J154","v":0},null,null,null,2,null,null,null,null,null,null,null,null,null,null,null,1,1,1,null,null,null,null,null,null,null,null,null,null,null,null,null,null,null,null,null,null,null,null,null,null,1,{"$f":"IF(AZ154=1,G154,0)","v":0},{"$f":"IF(AZ154=2,G154,0)","v":0},{"$f":"IF(AZ154=3,G154,0)","v":0},{"$f":"IF(AZ154=4,G154,0)","v":0},{"$f":"IF(AZ154=5,G154,0)","v":0},null,null,null,null,null,null,null,null,null,null,null,null,null,null,null,null,null,null,null,null,null,1,1]
[null,null,"včetně strojního přemístění materiálu pro zásyp ze vzdálenosti do 10 m od okraje zásypu",null,null,null,null,null,null,null,null,"včetně strojního přemístění materiálu pro zásyp ze vzdálenosti do 10 m od okraje zásypu",null,null,3]
[null,null,"Výkopy:",null,0,null,null,null,null,null,null,null,"Výkopy:"]
[null,null,"Začátek provozního součtu",null,0,null,null,null,null,null,null,null,"Začátek provozního součtu"]
[null,null,"Vp2 PE D 32x3,0 mm:1,80*1,80*(2,00-0,15)",null,5.9939999999999998,null,null,null,null,null,null,null,"Vp2 PE D 32x3,0 mm:1,80*1,80*(2,00-0,15)"]
[null,null,"Vp3 PE D 32x3,0 mm:1,80*1,80*(2,00-0,15)",null,5.9939999999999998,null,null,null,null,null,null,null,"Vp3 PE D 32x3,0 mm:1,80*1,80*(2,00-0,15)"]
[null,null,"Vp4 PE D 32x3,0 mm:1,80*1,80*(2,00-0,15)",null,5.9939999999999998,null,null,null,null,null,null,null,"Vp4 PE D 32x3,0 mm:1,80*1,80*(2,00-0,15)"]
[null,null,"Vp5 PE D 32x3,0 mm:1,80*1,80*(2,00-0,15)",null,5.9939999999999998,null,null,null,null,null,null,null,"Vp5 PE D 32x3,0 mm:1,80*1,80*(2,00-0,15)"]
[null,null,"Vp6 PE D 32x3,0 mm:1,80*1,80*(2,00-0,15)",null,5.9939999999999998,null,null,null,null,null,null,null,"Vp6 PE D 32x3,0 mm:1,80*1,80*(2,00-0,15)"]
[null,null,"Vs1 PE D 32x3,0 mm:1,80*1,80*(2,00-0,15)",null,5.9939999999999998,null,null,null,null,null,null,null,"Vs1 PE D 32x3,0 mm:1,80*1,80*(2,00-0,15)"]
[null,null,"Vs2 PE D 32x3,0 mm:1,80*1,80*(2,00-0,15)",null,5.9939999999999998,null,null,null,null,null,null,null,"Vs2 PE D 32x3,0 mm:1,80*1,80*(2,00-0,15)"]
[null,null,"Vs3 PE D 32x3,0 mm:1,80*1,80*(2,00-0,15)",null,5.9939999999999998,null,null,null,null,null,null,null,"Vs3 PE D 32x3,0 mm:1,80*1,80*(2,00-0,15)"]
[null,null,"Vs4 PE D 32x3,0 mm:1,80*1,80*(2,00-0,15)",null,5.9939999999999998,null,null,null,null,null,null,null,"Vs4 PE D 32x3,0 mm:1,80*1,80*(2,00-0,15)"]
[null,null,"Vs5 PE D 32x3,0 mm:1,80*1,80*(2,00-0,15)",null,5.9939999999999998,null,null,null,null,null,null,null,"Vs5 PE D 32x3,0 mm:1,80*1,80*(2,00-0,15)"]
[null,null,"Vs6 PE D 32x3,0 mm:1,80*1,80*(2,00-0,15)",null,5.9939999999999998,null,null,null,null,null,null,null,"Vs6 PE D 32x3,0 mm:1,80*1,80*(2,00-0,15)"]
[null,null,"Vs7 PE D 32x3,0 mm:1,80*1,80*(2,00-0,15)",null,5.9939999999999998,null,null,null,null,null,null,null,"Vs7 PE D 32x3,0 mm:1,80*1,80*(2,00-0,15)"]
[null,null,"Vs8 PE D 32x3,0 mm:1,80*1,80*(2,00-0,15)",null,5.9939999999999998,null,null,null,null,null,null,null,"Vs8 PE D 32x3,0 mm:1,80*1,80*(2,00-0,15)"]
[null,null,"Vs9 PE D 32x3,0 mm:1,80*1,80*(2,00-0,15)",null,5.9939999999999998,null,null,null,null,null,null,null,"Vs9 PE D 32x3,0 mm:1,80*1,80*(2,00-0,15)"]
[null,null,"Konec provozního součtu",null,83.915999999999997,null,null,null,null,null,null,null,"Konec provozního součtu"]
[null,null,"V hornině tř. 3 - 4:83,9160",null,83.915999999999997,null,null,null,null,null,null,null,"V hornině tř. 3 - 4:83,9160"]
[null,null,"Odpočet objemu VŠ:-(1,80*1,80*0,15+0,60^2*Pi*(2,00-0,15*2))*14",null,-33.721200000000003,null,null,null,null,null,null,null,"Odpočet objemu VŠ:-(1,80*1,80*0,15+0,60^2*Pi*(2,00-0,15*2))*14"]
[null,null,"Řad \"Np\" TLT DN100:",null,0,null,null,null,null,null,null,null,"Řad \"Np\" TLT DN100:"]
[null,null,"Řad \"Nv\" TLT DN100:",null,0,null,null,null,null,null,null,null,"Řad \"Nv\" TLT DN100:"]
[null,null,"Vp2 PE D 32x3,0 mm:6,40*0,80*0,40",null,2.048,null,null,null,null,null,null,null,"Vp2 PE D 32x3,0 mm:6,40*0,80*0,40"]
[null,null,"Vp3 PE D 32x3,0 mm:6,40*0,80*0,40",null,2.048,null,null,null,null,null,null,null,"Vp3 PE D 32x3,0 mm:6,40*0,80*0,40"]
[null,null,"Vp4 PE D 32x3,0 mm:3,00*0,80*0,40",null,0.96,null,null,null,null,null,null,null,"Vp4 PE D 32x3,0 mm:3,00*0,80*0,40"]
[null,null,"Vp5 PE D 32x3,0 mm:5,20*0,80*0,40",null,1.6639999999999999,null,null,null,null,null,null,null,"Vp5 PE D 32x3,0 mm:5,20*0,80*0,40"]
[null,null,"Vp6 PE D 32x3,0 mm:5,20*0,80*0,40",null,1.6639999999999999,null,null,null,null,null,null,null,"Vp6 PE D 32x3,0 mm:5,20*0,80*0,40"]
[null,null,"Vs1 PE D 32x3,0 mm:7,10*0,80*0,40",null,2.2719999999999998,null,null,null,null,null,null,null,"Vs1 PE D 32x3,0 mm:7,10*0,80*0,40"]
[null,null,"Vs2 PE D 32x3,0 mm:4,10*0,80*0,40",null,1.3120000000000001,null,null,null,null,null,null,null,"Vs2 PE D 32x3,0 mm:4,10*0,80*0,40"]
[null,null,"Vs3 PE D 32x3,0 mm:5,30*0,80*0,40",null,1.696,null,null,null,null,null,null,null,"Vs3 PE D 32x3,0 mm:5,30*0,80*0,40"]
[null,null,"Vs4 PE D 32x3,0 mm:5,80*0,80*0,40",null,1.8560000000000001,null,null,null,null,null,null,null,"Vs4 PE D 32x3,0 mm:5,80*0,80*0,40"]
[null,null,"Vs5 PE D 32x3,0 mm:6,10*0,80*0,40",null,1.952,null,null,null,null,null,null,null,"Vs5 PE D 32x3,0 mm:6,10*0,80*0,40"]
[null,null,"Vs6 PE D 32x3,0 mm:4,70*0,80*0,40",null,1.504,null,null,null,null,null,null,null,"Vs6 PE D 32x3,0 mm:4,70*0,80*0,40"]
[null,null,"Vs7 PE D 32x3,0 mm:6,40*0,80*0,40",null,2.048,null,null,null,null,null,null,null,"Vs7 PE D 32x3,0 mm:6,40*0,80*0,40"]
[null,null,"Vs8 PE D 32x3,0 mm:6,40*0,80*0,40",null,2.048,null,null,null,null,null,null,null,"Vs8 PE D 32x3,0 mm:6,40*0,80*0,40"]
[null,null,"Vs9 PE D 32x3,0 mm:6,40*0,80*0,40",null,2.048,null,null,null,null,null,null,null,"Vs9 PE D 32x3,0 mm:6,40*0,80*0,40"]
[9,"175100020RAA","Obsyp potrubí štěrkopískem včetně dovozu štěrkopísku","m3",20.7865,null,{"$f":"E191*F191","v":0},1.873,{"$f":"E191*H191","v":38.933114500000002},0,{"$f":"E191*J191","v":0},null,null,null,2,null,null,null,null,null,null,null,null,null,null,null,1,1,1,null,null,null,null,null,null,null,null,null,null,null,null,null,null,null,null,null,null,null,null,null,null,1,{"$f":"IF(AZ191=1,G191,0)","v":0},{"$f":"IF(AZ191=2,G191,0)","v":0},{"$f":"IF(AZ191=3,G191,0)","v":0},{"$f":"IF(AZ191=4,G191,0)","v":0},{"$f":"IF(AZ191=5,G191,0)","v":0},null,null,null,null,null,null,null,null,null,null,null,null,null,null,null,null,null,null,null,null,null,1,1]
[null,null,"Řad \"Np\" TLT DN100:",null,0,null,null,null,null,null,null,null,"Řad \"Np\" TLT DN100:"]
[null,null,"Řad \"Nv\" TLT DN100:",null,0,null,null,null,null,null,null,null,"Řad \"Nv\" TLT DN100:"]
[null,null,"Vp2 PE D 32x3,0 mm:6,40*(0,80*(0,032+0,30)-0,016^2*Pi)",null,1.6947000000000001,null,null,null,null,null,null,null,"Vp2 PE D 32x3,0 mm:6,40*(0,80*(0,032+0,30)-0,016^2*Pi)"]
[null,null,"Vp3 PE D 32x3,0 mm:6,40*(0,80*(0,032+0,30)-0,016^2*Pi)",null,1.6947000000000001,null,null,null,null,null,null,null,"Vp3 PE D 32x3,0 mm:6,40*(0,80*(0,032+0,30)-0,016^2*Pi)"]
[null,null,"Vp4 PE D 32x3,0 mm:3,00*(0,80*(0,032+0,30)-0,016^2*Pi)",null,0.7944,null,null,null,null,null,null,null,"Vp4 PE D 32x3,0 mm:3,00*(0,80*(0,032+0,30)-0,016^2*Pi)"]
[null,null,"Vp5 PE D 32x3,0 mm:5,20*(0,80*(0,032+0,30)-0,016^2*Pi)",null,1.3769,null,null,null,null,null,null,null,"Vp5 PE D 32x3,0 mm:5,20*(0,80*(0,032+0,30)-0,016^2*Pi)"]
[null,null,"Vp6 PE D 32x3,0 mm:5,20*(0,80*(0,032+0,30)-0,016^2*Pi)",null,1.3769,null,null,null,null,null,null,null,"Vp6 PE D 32x3,0 mm:5,20*(0,80*(0,032+0,30)-0,016^2*Pi)"]
[null,null,"Vs1 PE D 32x3,0 mm:7,10*(0,80*(0,032+0,30)-0,016^2*Pi)",null,1.88,null,null,null,null,null,null,null,"Vs1 PE D 32x3,0 mm:7,10*(0,80*(0,032+0,30)-0,016^2*Pi)"]
[null,null,"Vs2 PE D 32x3,0 mm:4,10*(0,80*(0,032+0,30)-0,016^2*Pi)",null,1.0857000000000001,null,null,null,null,null,null,null,"Vs2 PE D 32x3,0 mm:4,10*(0,80*(0,032+0,30)-0,016^2*Pi)"]
[null,null,"Vs3 PE D 32x3,0 mm:5,30*(0,80*(0,032+0,30)-0,016^2*Pi)",null,1.4034,null,null,null,null,null,null,null,"Vs3 PE D 32x3,0 mm:5,30*(0,80*(0,032+0,30)-0,016^2*Pi)"]
[null,null,"Vs4 PE D 32x3,0 mm:5,80*(0,80*(0,032+0,30)-0,016^2*Pi)",null,1.5358000000000001,null,null,null,null,null,null,null,"Vs4 PE D 32x3,0 mm:5,80*(0,80*(0,032+0,30)-0,016^2*Pi)"]
[null,null,"Vs5 PE D 32x3,0 mm:6,10*(0,80*(0,032+0,30)-0,016^2*Pi)",null,1.6153,null,null,null,null,null,null,null,"Vs5 PE D 32x3,0 mm:6,10*(0,80*(0,032+0,30)-0,016^2*Pi)"]
[null,null,"Vs6 PE D 32x3,0 mm:4,70*(0,80*(0,032+0,30)-0,016^2*Pi)",null,1.2444999999999999,null,null,null,null,null,null,null,"Vs6 PE D 32x3,0 mm:4,70*(0,80*(0,032+0,30)-0,016^2*Pi)"]
[null,null,"Vs7 PE D 32x3,0 mm:6,40*(0,80*(0,032+0,30)-0,016^2*Pi)",null,1.6947000000000001,null,null,null,null,null,null,null,"Vs7 PE D 32x3,0 mm:6,40*(0,80*(0,032+0,30)-0,016^2*Pi)"]
[null,null,"Vs8 PE D 32x3,0 mm:6,40*(0,80*(0,032+0,30)-0,016^2*Pi)",null,1.6947000000000001,null,null,null,null,null,null,null,"Vs8 PE D 32x3,0 mm:6,40*(0,80*(0,032+0,30)-0,016^2*Pi)"]
[null,null,"Vs9 PE D 32x3,0 mm:6,40*(0,80*(0,032+0,30)-0,016^2*Pi)",null,1.6947000000000001,null,null,null,null,null,null,null,"Vs9 PE D 32x3,0 mm:6,40*(0,80*(0,032+0,30)-0,016^2*Pi)"]
[10,"199000002R00","Poplatek za skládku horniny 1- 7 ","m3",83.36,null,{"$f":"E208*F208","v":0},0,{"$f":"E208*H208","v":0},0,{"$f":"E208*J208","v":0},null,null,null,2,null,null,null,null,null,null,null,null,null,null,null,1,1,1,null,null,null,null,null,null,null,null,null,null,null,null,null,null,null,null,null,null,null,null,null,null,1,{"$f":"IF(AZ208=1,G208,0)","v":0},{"$f":"IF(AZ208=2,G208,0)","v":0},{"$f":"IF(AZ208=3,G208,0)","v":0},{"$f":"IF(AZ208=4,G208,0)","v":0},{"$f":"IF(AZ208=5,G208,0)","v":0},null,null,null,null,null,null,null,null,null,null,null,null,null,null,null,null,null,null,null,null,null,1,1]
[null,null,"Výkopy:",null,0,null,null,null,null,null,null,null,"Výkopy:"]
[null,null,"Začátek provozního součtu",null,0,null,null,null,null,null,null,null,"Začátek provozního součtu"]
[null,null,"Řad \"Np\" TLT DN100:",null,0,null,null,null,null,null,null,null,"Řad \"Np\" TLT DN100:"]
[null,null,"Řad \"Nv\" TLT DN100:",null,0,null,null,null,null,null,null,null,"Řad \"Nv\" TLT DN100:"]
[null,null,"Vp2 PE D 32x3,0 mm:6,40*0,80*(1,60-0,40)+1,80*1,80*(2,00-0,15)",null,12.138,null,null,null,null,null,null,null,"Vp2 PE D 32x3,0 mm:6,40*0,80*(1,60-0,40)+1,80*1,80*(2,00-0,15)"]
[null,null,"Vp3 PE D 32x3,0 mm:6,40*0,80*(1,60-0,40)+1,80*1,80*(2,00-0,15)",null,12.138,null,null,null,null,null,null,null,"Vp3 PE D 32x3,0 mm:6,40*0,80*(1,60-0,40)+1,80*1,80*(2,00-0,15)"]
[null,null,"Vp4 PE D 32x3,0 mm:3,00*0,80*(1,60-0,40)+1,80*1,80*(2,00-0,15)",null,8.8740000000000006,null,null,null,null,null,null,null,"Vp4 PE D 32x3,0 mm:3,00*0,80*(1,60-0,40)+1,80*1,80*(2,00-0,15)"]
[null,null,"Vp5 PE D 32x3,0 mm:5,20*0,80*(1,60-0,40)+1,80*1,80*(2,00-0,15)",null,10.986000000000001,null,null,null,null,null,null,null,"Vp5 PE D 32x3,0 mm:5,20*0,80*(1,60-0,40)+1,80*1,80*(2,00-0,15)"]
[null,null,"Vp6 PE D 32x3,0 mm:5,20*0,80*(1,60-0,40)+1,80*1,80*(2,00-0,15)",null,10.986000000000001,null,null,null,null,null,null,null,"Vp6 PE D 32x3,0 mm:5,20*0,80*(1,60-0,40)+1,80*1,80*(2,00-0,15)"]
[null,null,"Vs1 PE D 32x3,0 mm:7,10*0,80*(1,60-0,40)+1,80*1,80*(2,00-0,15)",null,12.81,null,null,null,null,null,null,null,"Vs1 PE D 32x3,0 mm:7,10*0,80*(1,60-0,40)+1,80*1,80*(2,00-0,15)"]
[null,null,"Vs2 PE D 32x3,0 mm:4,10*0,80*(1,60-0,40)+1,80*1,80*(2,00-0,15)",null,9.93,null,null,null,null,null,null,null,"Vs2 PE D 32x3,0 mm:4,10*0,80*(1,60-0,40)+1,80*1,80*(2,00-0,15)"]
[null,null,"Vs3 PE D 32x3,0 mm:5,30*0,80*(1,60-0,40)+1,80*1,80*(2,00-0,15)",null,11.082000000000001,null,null,null,null,null,null,null,"Vs3 PE D 32x3,0 mm:5,30*0,80*(1,60-0,40)+1,80*1,80*(2,00-0,15)"]
[null,null,"Vs4 PE D 32x3,0 mm:5,80*0,80*(1,60-0,40)+1,80*1,80*(2,00-0,15)",null,11.561999999999999,null,null,null,null,null,null,null,"Vs4 PE D 32x3,0 mm:5,80*0,80*(1,60-0,40)+1,80*1,80*(2,00-0,15)"]
[null,null,"Vs5 PE D 32x3,0 mm:6,10*0,80*(1,60-0,40)+1,80*1,80*(2,00-0,15)",null,11.85,null,null,null,null,null,null,null,"Vs5 PE D 32x3,0 mm:6,10*0,80*(1,60-0,40)+1,80*1,80*(2,00-0,15)"]
[null,null,"Vs6 PE D 32x3,0 mm:4,70*0,80*(1,60-0,40)+1,80*1,80*(2,00-0,15)",null,10.506,null,null,null,null,null,null,null,"Vs6 PE D 32x3,0 mm:4,70*0,80*(1,60-0,40)+1,80*1,80*(2,00-0,15)"]
[null,null,"Vs7 PE D 32x3,0 mm:6,40*0,80*(1,60-0,40)+1,80*1,80*(2,00-0,15)",null,12.138,null,null,null,null,null,null,null,"Vs7 PE D 32x3,0 mm:6,40*0,80*(1,60-0,40)+1,80*1,80*(2,00-0,15)"]
[null,null,"Vs8 PE D 32x3,0 mm:6,40*0,80*(1,60-0,40)+1,80*1,80*(2,00-0,15)",null,12.138,null,null,null,null,null,null,null,"Vs8 PE D 32x3,0 mm:6,40*0,80*(1,60-0,40)+1,80*1,80*(2,00-0,15)"]
[null,null,"Vs9 PE D 32x3,0 mm:6,40*0,80*(1,60-0,40)+1,80*1,80*(2,00-0,15)",null,12.138,null,null,null,null,null,null,null,"Vs9 PE D 32x3,0 mm:6,40*0,80*(1,60-0,40)+1,80*1,80*(2,00-0,15)"]
[null,null,"Konec provozního součtu",null,159.27599999999998,null,null,null,null,null,null,null,"Konec provozního součtu"]
[null,null,"V hornině tř. 3 - 4:159,2760",null,159.27600000000001,null,null,null,null,null,null,null,"V hornině tř. 3 - 4:159,2760"]
[null,null,"Odpočet zásypů zeminou:-75,9160",null,-75.915999999999997,null,null,null,null,null,null,null,"Odpočet zásypů zeminou:-75,9160"]
[null,"Celkem za","1 Zemní práce",null,null,null,{"$f":"SUM(G7:G229)","v":0},null,{"$f":"SUM(I7:I229)","v":107.1552665},null,{"$f":"SUM(K7:K229)","v":0},null,null,null,4,null,null,null,null,null,null,null,null,null,null,null,null,null,null,null,null,null,null,null,null,null,null,null,null,null,null,null,null,null,null,null,null,null,null,null,null,null,{"$f":"SUM(BA7:BA229)","v":0},{"$f":"SUM(BB7:BB229)","v":0},{"$f":"SUM(BC7:BC229)","v":0},{"$f":"SUM(BD7:BD229)","v":0},{"$f":"SUM(BE7:BE229)","v":0}]
["Díl:","45","Podkladní a vedlejší konstrukce",null,null,null,null,null,null,null,null,null,null,null,1]
[11,"451572111R00","Lože pod potrubí z kameniva těženého 0 - 4 mm ","m3",6.28,null,{"$f":"E232*F232","v":0},0.43051,{"$f":"E232*H232","v":2.7036028000000001},0,{"$f":"E232*J232","v":0},null,null,null,2,null,null,null,null,null,null,null,null,null,null,null,1,1,1,null,null,null,null,null,null,null,null,null,null,null,null,null,null,null,null,null,null,null,null,null,null,1,{"$f":"IF(AZ232=1,G232,0)","v":0},{"$f":"IF(AZ232=2,G232,0)","v":0},{"$f":"IF(AZ232=3,G232,0)","v":0},{"$f":"IF(AZ232=4,G232,0)","v":0},{"$f":"IF(AZ232=5,G232,0)","v":0},null,null,null,null,null,null,null,null,null,null,null,null,null,null,null,null,null,null,null,null,null,1,1]
[null,null,"Řad \"Np\" TLT DN100:",null,0,null,null,null,null,null,null,null,"Řad \"Np\" TLT DN100:"]
[null,null,"Řad \"Nv\" TLT DN100:",null,0,null,null,null,null,null,null,null,"Řad \"Nv\" TLT DN100:"]
[null,null,"Vp2 PE D 32x3,0 mm:6,40*0,80*0,10",null,0.51200000000000001,null,null,null,null,null,null,null,"Vp2 PE D 32x3,0 mm:6,40*0,80*0,10"]
[null,null,"Vp3 PE D 32x3,0 mm:6,40*0,80*0,10",null,0.51200000000000001,null,null,null,null,null,null,null,"Vp3 PE D 32x3,0 mm:6,40*0,80*0,10"]
[null,null,"Vp4 PE D 32x3,0 mm:3,00*0,80*0,10",null,0.24,null,null,null,null,null,null,null,"Vp4 PE D 32x3,0 mm:3,00*0,80*0,10"]
[null,null,"Vp5 PE D 32x3,0 mm:5,20*0,80*0,10",null,0.41599999999999998,null,null,null,null,null,null,null,"Vp5 PE D 32x3,0 mm:5,20*0,80*0,10"]
[null,null,"Vp6 PE D 32x3,0 mm:5,20*0,80*0,10",null,0.41599999999999998,null,null,null,null,null,null,null,"Vp6 PE D 32x3,0 mm:5,20*0,80*0,10"]
[null,null,"Vs1 PE D 32x3,0 mm:7,10*0,80*0,10",null,0.56799999999999995,null,null,null,null,null,null,null,"Vs1 PE D 32x3,0 mm:7,10*0,80*0,10"]
[null,null,"Vs2 PE D 32x3,0 mm:4,10*0,80*0,10",null,0.32800000000000001,null,null,null,null,null,null,null,"Vs2 PE D 32x3,0 mm:4,10*0,80*0,10"]
[null,null,"Vs3 PE D 32x3,0 mm:5,30*0,80*0,10",null,0.42399999999999999,null,null,null,null,null,null,null,"Vs3 PE D 32x3,0 mm:5,30*0,80*0,10"]
[null,null,"Vs4 PE D 32x3,0 mm:5,80*0,80*0,10",null,0.46400000000000002,null,null,null,null,null,null,null,"Vs4 PE D 32x3,0 mm:5,80*0,80*0,10"]
[null,null,"Vs5 PE D 32x3,0 mm:6,10*0,80*0,10",null,0.48799999999999999,null,null,null,null,null,null,null,"Vs5 PE D 32x3,0 mm:6,10*0,80*0,10"]
[null,null,"Vs6 PE D 32x3,0 mm:4,70*0,80*0,10",null,0.376,null,null,null,null,null,null,null,"Vs6 PE D 32x3,0 mm:4,70*0,80*0,10"]
[null,null,"Vs7 PE D 32x3,0 mm:6,40*0,80*0,10",null,0.51200000000000001,null,null,null,null,null,null,null,"Vs7 PE D 32x3,0 mm:6,40*0,80*0,10"]
[null,null,"Vs8 PE D 32x3,0 mm:6,40*0,80*0,10",null,0.51200000000000001,null,null,null,null,null,null,null,"Vs8 PE D 32x3,0 mm:6,40*0,80*0,10"]
[null,null,"Vs9 PE D 32x3,0 mm:6,40*0,80*0,10",null,0.51200000000000001,null,null,null,null,null,null,null,"Vs9 PE D 32x3,0 mm:6,40*0,80*0,10"]
[null,"Celkem za","45 Podkladní a vedlejší konstrukce",null,null,null,{"$f":"SUM(G231:G248)","v":0},null,{"$f":"SUM(I231:I248)","v":2.7036028000000001},null,{"$f":"SUM(K231:K248)","v":0},null,null,null,4,null,null,null,null,null,null,null,null,null,null,null,null,null,null,null,null,null,null,null,null,null,null,null,null,null,null,null,null,null,null,null,null,null,null,null,null,null,{"$f":"SUM(BA231:BA248)","v":0},{"$f":"SUM(BB231:BB248)","v":0},{"$f":"SUM(BC231:BC248)","v":0},{"$f":"SUM(BD231:BD248)","v":0},{"$f":"SUM(BE231:BE248)","v":0}]
["Díl:","8","Trubní vedení",null,null,null,null,null,null,null,null,null,null,null,1]
[12,"871161121R00","Montáž trubek polyetylenových ve výkopu d 32 mm ","m",78.5,null,{"$f":"E251*F251","v":0},0,{"$f":"E251*H251","v":0},0,{"$f":"E251*J251","v":0},null,null,null,2,null,null,null,null,null,null,null,null,null,null,null,1,1,1,null,null,null,null,null,null,null,null,null,null,null,null,null,null,null,null,null,null,null,null,null,null,1,{"$f":"IF(AZ251=1,G251,0)","v":0},{"$f":"IF(AZ251=2,G251,0)","v":0},{"$f":"IF(AZ251=3,G251,0)","v":0},{"$f":"IF(AZ251=4,G251,0)","v":0},{"$f":"IF(AZ251=5,G251,0)","v":0},null,null,null,null,null,null,null,null,null,null,null,null,null,null,null,null,null,null,null,null,null,1,1]
[null,null,"V položce je uvažováno použití svitku.",null,null,null,null,null,null,null,null,"V položce je uvažováno použití svitku.",null,null,3]
[null,null,"Řad \"Np\" TLT DN100:",null,0,null,null,null,null,null,null,null,"Řad \"Np\" TLT DN100:"]
[null,null,"Řad \"Nv\" TLT DN100:",null,0,null,null,null,null,null,null,null,"Řad \"Nv\" TLT DN100:"]
[null,null,"Vp2 PE D 32x3,0 mm:6,40",null,6.4,null,null,null,null,null,null,null,"Vp2 PE D 32x3,0 mm:6,40"]
[null,null,"Vp3 PE D 32x3,0 mm:6,40",null,6.4,null,null,null,null,null,null,null,"Vp3 PE D 32x3,0 mm:6,40"]
[null,null,"Vp4 PE D 32x3,0 mm:3,00",null,3,null,null,null,null,null,null,null,"Vp4 PE D 32x3,0 mm:3,00"]
[null,null,"Vp5 PE D 32x3,0 mm:5,20",null,5.2,null,null,null,null,null,null,null,"Vp5 PE D 32x3,0 mm:5,20"]
[null,null,"Vp6 PE D 32x3,0 mm:5,20",null,5.2,null,null,null,null,null,null,null,"Vp6 PE D 32x3,0 mm:5,20"]
[null,null,"Vs1 PE D 32x3,0 mm:7,10",null,7.1,null,null,null,null,null,null,null,"Vs1 PE D 32x3,0 mm:7,10"]
[null,null,"Vs2 PE D 32x3,0 mm:4,10",null,4.0999999999999996,null,null,null,null,null,null,null,"Vs2 PE D 32x3,0 mm:4,10"]
[null,null,"Vs3 PE D 32x3,0 mm:5,30",null,5.3,null,null,null,null,null,null,null,"Vs3 PE D 32x3,0 mm:5,30"]
[null,null,"Vs4 PE D 32x3,0 mm:5,80",null,5.8,null,null,null,null,null,null,null,"Vs4 PE D 32x3,0 mm:5,80"]
[null,null,"Vs5 PE D 32x3,0 mm:6,10",null,6.1,null,null,null,null,null,null,null,"Vs5 PE D 32x3,0 mm:6,10"]
[null,null,"Vs6 PE D 32x3,0 mm:4,70",null,4.7,null,null,null,null,null,null,null,"Vs6 PE D 32x3,0 mm:4,70"]
[null,null,"Vs7 PE D 32x3,0 mm:6,40",null,6.4,null,null,null,null,null,null,null,"Vs7 PE D 32x3,0 mm:6,40"]
[null,null,"Vs8 PE D 32x3,0 mm:6,40",null,6.4,null,null,null,null,null,null,null,"Vs8 PE D 32x3,0 mm:6,40"]
[null,null,"Vs9 PE D 32x3,0 mm:6,40",null,6.4,null,null,null,null,null,null,null,"Vs9 PE D 32x3,0 mm:6,40"]
[13,"892233111R00","Desinfekce vodovodního potrubí DN 70 ","m",78.5,null,{"$f":"E269*F269","v":0},0,{"$f":"E269*H269","v":0},0,{"$f":"E269*J269","v":0},null,null,null,2,null,null,null,null,null,null,null,null,null,null,null,1,1,1,null,null,null,null,null,null,null,null,null,null,null,null,null,null,null,null,null,null,null,null,null,null,1,{"$f":"IF(AZ269=1,G269,0)","v":0},{"$f":"IF(AZ269=2,G269,0)","v":0},{"$f":"IF(AZ269=3,G269,0)","v":0},{"$f":"IF(AZ269=4,G269,0)","v":0},{"$f":"IF(AZ269=5,G269,0)","v":0},null,null,null,null,null,null,null,null,null,null,null,null,null,null,null,null,null,null,null,null,null,1,1]
[null,null,"V položce jsou zakalkulovány náklady na napuštění a vypuštění vody, dodání vody a desinfekčního prostředku a na bakteriologický rozbor vody.",null,null,null,null,null,null,null,null,"V položce jsou zakalkulovány náklady na napuštění a vypuštění vody, dodání vody a desinfekčního prostředku a na bakteriologický rozbor vody.",null,null,3]
[null,null,"Řad \"Np\" TLT DN100:",null,0,null,null,null,null,null,null,null,"Řad \"Np\" TLT DN100:"]
[null,null,"Řad \"Nv\" TLT DN100:",null,0,null,null,null,null,null,null,null,"Řad \"Nv\" TLT DN100:"]
[null,null,"Vp2 PE D 32x3,0 mm:6,40",null,6.4,null,null,null,null,null,null,null,"Vp2 PE D 32x3,0 mm:6,40"]
[null,null,"Vp3 PE D 32x3,0 mm:6,40",null,6.4,null,null,null,null,null,null,null,"Vp3 PE D 32x3,0 mm:6,40"]
[null,null,"Vp4 PE D 32x3,0 mm:3,00",null,3,null,null,null,null,null,null,null,"Vp4 PE D 32x3,0 mm:3,00"]
[null,null,"Vp5 PE D 32x3,0 mm:5,20",null,5.2,null,null,null,null,null,null,null,"Vp5 PE D 32x3,0 mm:5,20"]
[null,null,"Vp6 PE D 32x3,0 mm:5,20",null,5.2,null,null,null,null,null,null,null,"Vp6 PE D 32x3,0 mm:5,20"]
[null,null,"Vs1 PE D 32x3,0 mm:7,10",null,7.1,null,null,null,null,null,null,null,"Vs1 PE D 32x3,0 mm:7,10"]
[null,null,"Vs2 PE D 32x3,0 mm:4,10",null,4.0999999999999996,null,null,null,null,null,null,null,"Vs2 PE D 32x3,0 mm:4,10"]
[null,null,"Vs3 PE D 32x3,0 mm:5,30",null,5.3,null,null,null,null,null,null,null,"Vs3 PE D 32x3,0 mm:5,30"]
[null,null,"Vs4 PE D 32x3,0 mm:5,80",null,5.8,null,null,null,null,null,null,null,"Vs4 PE D 32x3,0 mm:5,80"]
[null,null,"Vs5 PE D 32x3,0 mm:6,10",null,6.1,null,null,null,null,null,null,null,"Vs5 PE D 32x3,0 mm:6,10"]
[null,null,"Vs6 PE D 32x3,0 mm:4,70",null,4.7,null,null,null,null,null,null,null,"Vs6 PE D 32x3,0 mm:4,70"]
[null,null,"Vs7 PE D 32x3,0 mm:6,40",null,6.4,null,null,null,null,null,null,null,"Vs7 PE D 32x3,0 mm:6,40"]
[null,null,"Vs8 PE D 32x3,0 mm:6,40",null,6.4,null,null,null,null,null,null,null,"Vs8 PE D 32x3,0 mm:6,40"]
[null,null,"Vs9 PE D 32x3,0 mm:6,40",null,6.4,null,null,null,null,null,null,null,"Vs9 PE D 32x3,0 mm:6,40"]
[14,"892241111R00","Tlaková zkouška vodovodního potrubí DN 80 včetně zajištění konců potrubí","m",78.5,null,{"$f":"E287*F287","v":0},0,{"$f":"E287*H287","v":0},0,{"$f":"E287*J287","v":0},null,null,null,2,null,null,null,null,null,null,null,null,null,null,null,1,1,1,null,null,null,null,null,null,null,null,null,null,null,null,null,null,null,null,null,null,null,null,null,null,1,{"$f":"IF(AZ287=1,G287,0)","v":0},{"$f":"IF(AZ287=2,G287,0)","v":0},{"$f":"IF(AZ287=3,G287,0)","v":0},{"$f":"IF(AZ287=4,G287,0)","v":0},{"$f":"IF(AZ287=5,G287,0)","v":0},null,null,null,null,null,null,null,null,null,null,null,null,null,null,null,null,null,null,null,null,null,1,1]
[null,null,"V položce jsou započteny náklady na přísun, montáž, demontáž a odsun zkoušecího čerpadla, napuštění tlakovou vodou a dodání vody pro tlakovou zkoušku.",null,null,null,null,null,null,null,null,"V položce jsou započteny náklady na přísun, montáž, demontáž a odsun zkoušecího čerpadla, napuštění tlakovou vodou a dodání vody pro tlakovou zkoušku.",null,null,3]
[null,null,"0",null,0,null,null,null,null,null,null,null,0]
[null,null,"Řad \"Np\" TLT DN100:",null,0,null,null,null,null,null,null,null,"Řad \"Np\" TLT DN100:"]
[null,null,"Řad \"Nv\" TLT DN100:",null,0,null,null,null,null,null,null,null,"Řad \"Nv\" TLT DN100:"]
[null,null,"Vp2 PE D 32x3,0 mm:6,40",null,6.4,null,null,null,null,null,null,null,"Vp2 PE D 32x3,0 mm:6,40"]
[null,null,"Vp3 PE D 32x3,0 mm:6,40",null,6.4,null,null,null,null,null,null,null,"Vp3 PE D 32x3,0 mm:6,40"]
[null,null,"Vp4 PE D 32x3,0 mm:3,00",null,3,null,null,null,null,null,null,null,"Vp4 PE D 32x3,0 mm:3,00"]
[null,null,"Vp5 PE D 32x3,0 mm:5,20",null,5.2,null,null,null,null,null,null,null,"Vp5 PE D 32x3,0 mm:5,20"]
[null,null,"Vp6 PE D 32x3,0 mm:5,20",null,5.2,null,null,null,null,null,null,null,"Vp6 PE D 32x3,0 mm:5,20"]
[null,null,"Vs1 PE D 32x3,0 mm:7,10",null,7.1,null,null,null,null,null,null,null,"Vs1 PE D 32x3,0 mm:7,10"]
[null,null,"Vs2 PE D 32x3,0 mm:4,10",null,4.0999999999999996,null,null,null,null,null,null,null,"Vs2 PE D 32x3,0 mm:4,10"]
[null,null,"Vs3 PE D 32x3,0 mm:5,30",null,5.3,null,null,null,null,null,null,null,"Vs3 PE D 32x3,0 mm:5,30"]
[null,null,"Vs4 PE D 32x3,0 mm:5,80",null,5.8,null,null,null,null,null,null,null,"Vs4 PE D 32x3,0 mm:5,80"]
[null,null,"Vs5 PE D 32x3,0 mm:6,10",null,6.1,null,null,null,null,null,null,null,"Vs5 PE D 32x3,0 mm:6,10"]
[null,null,"Vs6 PE D 32x3,0 mm:4,70",null,4.7,null,null,null,null,null,null,null,"Vs6 PE D 32x3,0 mm:4,70"]
[null,null,"Vs7 PE D 32x3,0 mm:6,40",null,6.4,null,null,null,null,null,null,null,"Vs7 PE D 32x3,0 mm:6,40"]
[null,null,"Vs8 PE D 32x3,0 mm:6,40",null,6.4,null,null,null,null,null,null,null,"Vs8 PE D 32x3,0 mm:6,40"]
[null,null,"Vs9 PE D 32x3,0 mm:6,40",null,6.4,null,null,null,null,null,null,null,"Vs9 PE D 32x3,0 mm:6,40"]
[15,"893151111R00","Montáž šachty vodoměrné a revizní plastové kruhové ","kus",14,null,{"$f":"E306*F306","v":0},0.51066,{"$f":"E306*H306","v":7.1492399999999998},0,{"$f":"E306*J306","v":0},null,null,null,2,null,null,null,null,null,null,null,null,null,null,null,1,1,1,null,null,null,null,null,null,null,null,null,null,null,null,null,null,null,null,null,null,null,null,null,null,1,{"$f":"IF(AZ306=1,G306,0)","v":0},{"$f":"IF(AZ306=2,G306,0)","v":0},{"$f":"IF(AZ306=3,G306,0)","v":0},{"$f":"IF(AZ306=4,G306,0)","v":0},{"$f":"IF(AZ306=5,G306,0)","v":0},null,null,null,null,null,null,null,null,null,null,null,null,null,null,null,null,null,null,null,null,null,1,1]
[null,null,"Včetně zřízení podkladního betonu v tl. 15 cm ",null,null,null,null,null,null,null,null,"Včetně zřízení podkladního betonu v tl. 15 cm ",null,null,3]
[null,null,"Řad \"Np\" TLT DN100:",null,0,null,null,null,null,null,null,null,"Řad \"Np\" TLT DN100:"]
[null,null,"Řad \"Nv\" TLT DN100:",null,0,null,null,null,null,null,null,null,"Řad \"Nv\" TLT DN100:"]
[null,null,"Pro Vp2 PE D 32x3,0 mm:1",null,1,null,null,null,null,null,null,null,"Pro Vp2 PE D 32x3,0 mm:1"]
[null,null,"Pro Vp3 PE D 32x3,0 mm:1",null,1,null,null,null,null,null,null,null,"Pro Vp3 PE D 32x3,0 mm:1"]
[null,null,"Pro Vp4 PE D 32x3,0 mm:1",null,1,null,null,null,null,null,null,null,"Pro Vp4 PE D 32x3,0 mm:1"]
[null,null,"Pro Vp5 PE D 32x3,0 mm:1",null,1,null,null,null,null,null,null,null,"Pro Vp5 PE D 32x3,0 mm:1"]
[null,null,"Pro Vp6 PE D 32x3,0 mm:1",null,1,null,null,null,null,null,null,null,"Pro Vp6 PE D 32x3,0 mm:1"]
[null,null,"Pro Vs1 PE D 32x3,0 mm:1",null,1,null,null,null,null,null,null,null,"Pro Vs1 PE D 32x3,0 mm:1"]
[null,null,"Pro Vs2 PE D 32x3,0 mm:1",null,1,null,null,null,null,null,null,null,"Pro Vs2 PE D 32x3,0 mm:1"]
[null,null,"Pro Vs3 PE D 32x3,0 mm:1",null,1,null,null,null,null,null,null,null,"Pro Vs3 PE D 32x3,0 mm:1"]
[null,null,"Pro Vs4 PE D 32x3,0 mm:1",null,1,null,null,null,null,null,null,null,"Pro Vs4 PE D 32x3,0 mm:1"]
[null,null,"Pro Vs5 PE D 32x3,0 mm:1",null,1,null,null,null,null,null,null,null,"Pro Vs5 PE D 32x3,0 mm:1"]
[null,null,"Pro Vs6 PE D 32x3,0 mm:1",null,1,null,null,null,null,null,null,null,"Pro Vs6 PE D 32x3,0 mm:1"]
[null,null,"Pro Vs7 PE D 32x3,0 mm:1",null,1,null,null,null,null,null,null,null,"Pro Vs7 PE D 32x3,0 mm:1"]
[null,null,"Pro Vs8 PE D 32x3,0 mm:1",null,1,null,null,null,null,null,null,null,"Pro Vs8 PE D 32x3,0 mm:1"]
[null,null,"Pro Vs9 PE D 32x3,0 mm:1",null,1,null,null,null,null,null,null,null,"Pro Vs9 PE D 32x3,0 mm:1"]
[16,"899711122R00","Fólie výstražná z PVC, šířka 30 cm ","m",78.5,null,{"$f":"E324*F324","v":0},0,{"$f":"E324*H324","v":0},0,{"$f":"E324*J324","v":0},null,null,null,2,null,null,null,null,null,null,null,null,null,null,null,1,1,1,null,null,null,null,null,null,null,null,null,null,null,null,null,null,null,null,null,null,null,null,null,null,1,{"$f":"IF(AZ324=1,G324,0)","v":0},{"$f":"IF(AZ324=2,G324,0)","v":0},{"$f":"IF(AZ324=3,G324,0)","v":0},{"$f":"IF(AZ324=4,G324,0)","v":0},{"$f":"IF(AZ324=5,G324,0)","v":0},null,null,null,null,null,null,null,null,null,null,null,null,null,null,null,null,null,null,null,null,null,1,1]
[null,null,"Řad \"Np\" TLT DN100:",null,0,null,null,null,null,null,null,null,"Řad \"Np\" TLT DN100:"]
[null,null,"Řad \"Nv\" TLT DN100:",null,0,null,null,null,null,null,null,null,"Řad \"Nv\" TLT DN100:"]
[null,null,"Vp2 PE D 32x3,0 mm:6,40",null,6.4,null,null,null,null,null,null,null,"Vp2 PE D 32x3,0 mm:6,40"]
[null,null,"Vp3 PE D 32x3,0 mm:6,40",null,6.4,null,null,null,null,null,null,null,"Vp3 PE D 32x3,0 mm:6,40"]
[null,null,"Vp4 PE D 32x3,0 mm:3,00",null,3,null,null,null,null,null,null,null,"Vp4 PE D 32x3,0 mm:3,00"]
[null,null,"Vp5 PE D 32x3,0 mm:5,20",null,5.2,null,null,null,null,null,null,null,"Vp5 PE D 32x3,0 mm:5,20"]
[null,null,"Vp6 PE D 32x3,0 mm:5,20",null,5.2,null,null,null,null,null,null,null,"Vp6 PE D 32x3,0 mm:5,20"]
[null,null,"Vs1 PE D 32x3,0 mm:7,10",null,7.1,null,null,null,null,null,null,null,"Vs1 PE D 32x3,0 mm:7,10"]
[null,null,"Vs2 PE D 32x3,0 mm:4,10",null,4.0999999999999996,null,null,null,null,null,null,null,"Vs2 PE D 32x3,0 mm:4,10"]
[null,null,"Vs3 PE D 32x3,0 mm:5,30",null,5.3,null,null,null,null,null,null,null,"Vs3 PE D 32x3,0 mm:5,30"]
[null,null,"Vs4 PE D 32x3,0 mm:5,80",null,5.8,null,null,null,null,null,null,null,"Vs4 PE D 32x3,0 mm:5,80"]
[null,null,"Vs5 PE D 32x3,0 mm:6,10",null,6.1,null,null,null,null,null,null,null,"Vs5 PE D 32x3,0 mm:6,10"]
[null,null,"Vs6 PE D 32x3,0 mm:4,70",null,4.7,null,null,null,null,null,null,null,"Vs6 PE D 32x3,0 mm:4,70"]
[null,null,"Vs7 PE D 32x3,0 mm:6,40",null,6.4,null,null,null,null,null,null,null,"Vs7 PE D 32x3,0 mm:6,40"]
[null,null,"Vs8 PE D 32x3,0 mm:6,40",null,6.4,null,null,null,null,null,null,null,"Vs8 PE D 32x3,0 mm:6,40"]
[null,null,"Vs9 PE D 32x3,0 mm:6,40",null,6.4,null,null,null,null,null,null,null,"Vs9 PE D 32x3,0 mm:6,40"]
[17,"899713111RRX","Orientační tabulky na sloupku ocelovém, betonovém ","kus",14,null,{"$f":"E341*F341","v":0},2.4000000000000001E-4,{"$f":"E341*H341","v":3.3600000000000001E-3},0,{"$f":"E341*J341","v":0},null,null,null,2,null,null,null,null,null,null,null,null,null,null,null,1,1,1,null,null,null,null,null,null,null,null,null,null,null,null,null,null,null,null,null,null,null,null,null,null,1,{"$f":"IF(AZ341=1,G341,0)","v":0},{"$f":"IF(AZ341=2,G341,0)","v":0},{"$f":"IF(AZ341=3,G341,0)","v":0},{"$f":"IF(AZ341=4,G341,0)","v":0},{"$f":"IF(AZ341=5,G341,0)","v":0},null,null,null,null,null,null,null,null,null,null,null,null,null,null,null,null,null,null,null,null,null,1,1]
[null,null,"Položka platí pro orientační tabulky na vodovodních a kanalizačních řadech. V položce jsou zakalkulovány náklady na dodání a připevnění tabulky a na osazení sloupku. V položce jsou zakalkulovány náklady na zemní práce a na dodání sloupků (betonových nebo ocelových s betonovými patkami)",null,null,null,null,null,null,null,null,"Položka platí pro orientační tabulky na vodovodních a kanalizačních řadech. V položce jsou zakalkulovány náklady na dodání a připevnění tabulky a na osazení sloupku. V položce jsou zakalkulovány náklady na zemní práce a na dodání sloupků (betonových nebo ocelových s betonovými patkami)",null,null,3]
[null,null,"Řad \"Np\" TLT DN100:",null,0,null,null,null,null,null,null,null,"Řad \"Np\" TLT DN100:"]
[null,null,"Řad \"Nv\" TLT DN100:",null,0,null,null,null,null,null,null,null,"Řad \"Nv\" TLT DN100:"]
[null,null,"Pro Vp2 PE D 32x3,0 mm:1",null,1,null,null,null,null,null,null,null,"Pro Vp2 PE D 32x3,0 mm:1"]
[null,null,"Pro Vp3 PE D 32x3,0 mm:1",null,1,null,null,null,null,null,null,null,"Pro Vp3 PE D 32x3,0 mm:1"]
[null,null,"Pro Vp4 PE D 32x3,0 mm:1",null,1,null,null,null,null,null,null,null,"Pro Vp4 PE D 32x3,0 mm:1"]
[null,null,"Pro Vp5 PE D 32x3,0 mm:1",null,1,null,null,null,null,null,null,null,"Pro Vp5 PE D 32x3,0 mm:1"]
[null,null,"Pro Vp6 PE D 32x3,0 mm:1",null,1,null,null,null,null,null,null,null,"Pro Vp6 PE D 32x3,0 mm:1"]
[null,null,"Pro Vs1 PE D 32x3,0 mm:1",null,1,null,null,null,null,null,null,null,"Pro Vs1 PE D 32x3,0 mm:1"]
[null,null,"Pro Vs2 PE D 32x3,0 mm:1",null,1,null,null,null,null,null,null,null,"Pro Vs2 PE D 32x3,0 mm:1"]
[null,null,"Pro Vs3 PE D 32x3,0 mm:1",null,1,null,null,null,null,null,null,null,"Pro Vs3 PE D 32x3,0 mm:1"]
[null,null,"Pro Vs4 PE D 32x3,0 mm:1",null,1,null,null,null,null,null,null,null,"Pro Vs4 PE D 32x3,0 mm:1"]
[null,null,"Pro Vs5 PE D 32x3,0 mm:1",null,1,null,null,null,null,null,null,null,"Pro Vs5 PE D 32x3,0 mm:1"]
[null,null,"Pro Vs6 PE D 32x3,0 mm:1",null,1,null,null,null,null,null,null,null,"Pro Vs6 PE D 32x3,0 mm:1"]
[null,null,"Pro Vs7 PE D 32x3,0 mm:1",null,1,null,null,null,null,null,null,null,"Pro Vs7 PE D 32x3,0 mm:1"]
[null,null,"Pro Vs8 PE D 32x3,0 mm:1",null,1,null,null,null,null,null,null,null,"Pro Vs8 PE D 32x3,0 mm:1"]
[null,null,"Pro Vs9 PE D 32x3,0 mm:1",null,1,null,null,null,null,null,null,null,"Pro Vs9 PE D 32x3,0 mm:1"]
[18,"899731114R00","Vodič signalizační CYY 6 mm2 ","m",78.5,null,{"$f":"E359*F359","v":0},8.0000000000000007E-5,{"$f":"E359*H359","v":6.2800000000000009E-3},0,{"$f":"E359*J359","v":0},null,null,null,2,null,null,null,null,null,null,null,null,null,null,null,1,1,1,null,null,null,null,null,null,null,null,null,null,null,null,null,null,null,null,null,null,null,null,null,null,1,{"$f":"IF(AZ359=1,G359,0)","v":0},{"$f":"IF(AZ359=2,G359,0)","v":0},{"$f":"IF(AZ359=3,G359,0)","v":0},{"$f":"IF(AZ359=4,G359,0)","v":0},{"$f":"IF(AZ359=5,G359,0)","v":0},null,null,null,null,null,null,null,null,null,null,null,null,null,null,null,null,null,null,null,null,null,1,1]
[null,null,"Součástí položky je zajištění proměření vodiče a výchozí revize.",null,null,null,null,null,null,null,null,"Součástí položky je zajištění proměření vodiče a výchozí revize.",null,null,3]
[null,null,"Řad \"Np\" TLT DN100:",null,0,null,null,null,null,null,null,null,"Řad \"Np\" TLT DN100:"]
[null,null,"Řad \"Nv\" TLT DN100:",null,0,null,null,null,null,null,null,null,"Řad \"Nv\" TLT DN100:"]
[null,null,"Vp2 PE D 32x3,0 mm:6,40",null,6.4,null,null,null,null,null,null,null,"Vp2 PE D 32x3,0 mm:6,40"]
[null,null,"Vp3 PE D 32x3,0 mm:6,40",null,6.4,null,null,null,null,null,null,null,"Vp3 PE D 32x3,0 mm:6,40"]
[null,null,"Vp4 PE D 32x3,0 mm:3,00",null,3,null,null,null,null,null,null,null,"Vp4 PE D 32x3,0 mm:3,00"]
[null,null,"Vp5 PE D 32x3,0 mm:5,20",null,5.2,null,null,null,null,null,null,null,"Vp5 PE D 32x3,0 mm:5,20"]
[null,null,"Vp6 PE D 32x3,0 mm:5,20",null,5.2,null,null,null,null,null,null,null,"Vp6 PE D 32x3,0 mm:5,20"]
[null,null,"Vs1 PE D 32x3,0 mm:7,10",null,7.1,null,null,null,null,null,null,null,"Vs1 PE D 32x3,0 mm:7,10"]
[null,null,"Vs2 PE D 32x3,0 mm:4,10",null,4.0999999999999996,null,null,null,null,null,null,null,"Vs2 PE D 32x3,0 mm:4,10"]
[null,null,"Vs3 PE D 32x3,0 mm:5,30",null,5.3,null,null,null,null,null,null,null,"Vs3 PE D 32x3,0 mm:5,30"]
[null,null,"Vs4 PE D 32x3,0 mm:5,80",null,5.8,null,null,null,null,null,null,null,"Vs4 PE D 32x3,0 mm:5,80"]
[null,null,"Vs5 PE D 32x3,0 mm:6,10",null,6.1,null,null,null,null,null,null,null,"Vs5 PE D 32x3,0 mm:6,10"]
[null,null,"Vs6 PE D 32x3,0 mm:4,70",null,4.7,null,null,null,null,null,null,null,"Vs6 PE D 32x3,0 mm:4,70"]
[null,null,"Vs7 PE D 32x3,0 mm:6,40",null,6.4,null,null,null,null,null,null,null,"Vs7 PE D 32x3,0 mm:6,40"]
[null,null,"Vs8 PE D 32x3,0 mm:6,40",null,6.4,null,null,null,null,null,null,null,"Vs8 PE D 32x3,0 mm:6,40"]
[null,null,"Vs9 PE D 32x3,0 mm:6,40",null,6.4,null,null,null,null,null,null,null,"Vs9 PE D 32x3,0 mm:6,40"]
[19,"28613565","Trubka PE100RC2 SDR11  32x3,0 mm L 100 m","m",79.677499999999995,null,{"$f":"E377*F377","v":0},1.4400000000000001E-3,{"$f":"E377*H377","v":0.11473559999999999},null,{"$f":"E377*J377","v":0},null,null,null,2,null,null,null,null,null,null,null,null,null,null,null,3,1,28613565,null,null,null,null,null,null,null,null,null,null,null,null,null,null,null,null,null,null,null,null,null,null,1,{"$f":"IF(AZ377=1,G377,0)","v":0},{"$f":"IF(AZ377=2,G377,0)","v":0},{"$f":"IF(AZ377=3,G377,0)","v":0},{"$f":"IF(AZ377=4,G377,0)","v":0},{"$f":"IF(AZ377=5,G377,0)","v":0},null,null,null,null,null,null,null,null,null,null,null,null,null,null,null,null,null,null,null,null,null,3,1]
[null,null,"Řad \"Np\" TLT DN100:",null,0,null,null,null,null,null,null,null,"Řad \"Np\" TLT DN100:"]
[null,null,"Řad \"Nv\" TLT DN100:",null,0,null,null,null,null,null,null,null,"Řad \"Nv\" TLT DN100:"]
[null,null,"Vp2 PE D 32x3,0 mm:6,40*1,015",null,6.4960000000000004,null,null,null,null,null,null,null,"Vp2 PE D 32x3,0 mm:6,40*1,015"]
[null,null,"Vp3 PE D 32x3,0 mm:6,40*1,015",null,6.4960000000000004,null,null,null,null,null,null,null,"Vp3 PE D 32x3,0 mm:6,40*1,015"]
[null,null,"Vp4 PE D 32x3,0 mm:3,00*1,015",null,3.0449999999999999,null,null,null,null,null,null,null,"Vp4 PE D 32x3,0 mm:3,00*1,015"]
[null,null,"Vp5 PE D 32x3,0 mm:5,20*1,015",null,5.2779999999999996,null,null,null,null,null,null,null,"Vp5 PE D 32x3,0 mm:5,20*1,015"]
[null,null,"Vp6 PE D 32x3,0 mm:5,20*1,015",null,5.2779999999999996,null,null,null,null,null,null,null,"Vp6 PE D 32x3,0 mm:5,20*1,015"]
[null,null,"Vs1 PE D 32x3,0 mm:7,10*1,015",null,7.2065000000000001,null,null,null,null,null,null,null,"Vs1 PE D 32x3,0 mm:7,10*1,015"]
[null,null,"Vs2 PE D 32x3,0 mm:4,10*1,015",null,4.1615000000000002,null,null,null,null,null,null,null,"Vs2 PE D 32x3,0 mm:4,10*1,015"]
[null,null,"Vs3 PE D 32x3,0 mm:5,30*1,015",null,5.3795000000000002,null,null,null,null,null,null,null,"Vs3 PE D 32x3,0 mm:5,30*1,015"]
[null,null,"Vs4 PE D 32x3,0 mm:5,80*1,015",null,5.8869999999999996,null,null,null,null,null,null,null,"Vs4 PE D 32x3,0 mm:5,80*1,015"]
[null,null,"Vs5 PE D 32x3,0 mm:6,10*1,015",null,6.1914999999999996,null,null,null,null,null,null,null,"Vs5 PE D 32x3,0 mm:6,10*1,015"]
[null,null,"Vs6 PE D 32x3,0 mm:4,70*1,015",null,4.7705000000000002,null,null,null,null,null,null,null,"Vs6 PE D 32x3,0 mm:4,70*1,015"]
[null,null,"Vs7 PE D 32x3,0 mm:6,40*1,015",null,6.4960000000000004,null,null,null,null,null,null,null,"Vs7 PE D 32x3,0 mm:6,40*1,015"]
[null,null,"Vs8 PE D 32x3,0 mm:6,40*1,015",null,6.4960000000000004,null,null,null,null,null,null,null,"Vs8 PE D 32x3,0 mm:6,40*1,015"]
[null,null,"Vs9 PE D 32x3,0 mm:6,40*1,015",null,6.4960000000000004,null,null,null,null,null,null,null,"Vs9 PE D 32x3,0 mm:6,40*1,015"]
[20,"28697268","Šachta vodoměrná samonosná H 180 cm, poklop DN 120 cm","kus",14,null,{"$f":"E394*F394","v":0},0.11799999999999999,{"$f":"E394*H394","v":1.6519999999999999},null,{"$f":"E394*J394","v":0},null,null,null,2,null,null,null,null,null,null,null,null,null,null,null,3,1,28697268,null,null,null,null,null,null,null,null,null,null,null,null,null,null,null,null,null,null,null,null,null,null,1,{"$f":"IF(AZ394=1,G394,0)","v":0},{"$f":"IF(AZ394=2,G394,0)","v":0},{"$f":"IF(AZ394=3,G394,0)","v":0},{"$f":"IF(AZ394=4,G394,0)","v":0},{"$f":"IF(AZ394=5,G394,0)","v":0},null,null,null,null,null,null,null,null,null,null,null,null,null,null,null,null,null,null,null,null,null,3,1]
[null,null,"Součástí dodávka VŠ je i zaslepení potrubí vodovodní přípojky.",null,null,null,null,null,null,null,null,"Součástí dodávka VŠ je i zaslepení potrubí vodovodní přípojky.",null,null,3]
[null,null,"Řad \"Np\" TLT DN100:",null,0,null,null,null,null,null,null,null,"Řad \"Np\" TLT DN100:"]
[null,null,"Řad \"Nv\" TLT DN100:",null,0,null,null,null,null,null,null,null,"Řad \"Nv\" TLT DN100:"]
[null,null,"Pro Vp2 PE D 32x3,0 mm:1",null,1,null,null,null,null,null,null,null,"Pro Vp2 PE D 32x3,0 mm:1"]
[null,null,"Pro Vp3 PE D 32x3,0 mm:1",null,1,null,null,null,null,null,null,null,"Pro Vp3 PE D 32x3,0 mm:1"]
[null,null,"Pro Vp4 PE D 32x3,0 mm:1",null,1,null,null,null,null,null,null,null,"Pro Vp4 PE D 32x3,0 mm:1"]
[null,null,"Pro Vp5 PE D 32x3,0 mm:1",null,1,null,null,null,null,null,null,null,"Pro Vp5 PE D 32x3,0 mm:1"]
[null,null,"Pro Vp6 PE D 32x3,0 mm:1",null,1,null,null,null,null,null,null,null,"Pro Vp6 PE D 32x3,0 mm:1"]
[null,null,"Pro Vs1 PE D 32x3,0 mm:1",null,1,null,null,null,null,null,null,null,"Pro Vs1 PE D 32x3,0 mm:1"]
[null,null,"Pro Vs2 PE D 32x3,0 mm:1",null,1,null,null,null,null,null,null,null,"Pro Vs2 PE D 32x3,0 mm:1"]
[null,null,"Pro Vs3 PE D 32x3,0 mm:1",null,1,null,null,null,null,null,null,null,"Pro Vs3 PE D 32x3,0 mm:1"]
[null,null,"Pro Vs4 PE D 32x3,0 mm:1",null,1,null,null,null,null,null,null,null,"Pro Vs4 PE D 32x3,0 mm:1"]
[null,null,"Pro Vs5 PE D 32x3,0 mm:1",null,1,null,null,null,null,null,null,null,"Pro Vs5 PE D 32x3,0 mm:1"]
[null,null,"Pro Vs6 PE D 32x3,0 mm:1",null,1,null,null,null,null,null,null,null,"Pro Vs6 PE D 32x3,0 mm:1"]
[null,null,"Pro Vs7 PE D 32x3,0 mm:1",null,1,null,null,null,null,null,null,null,"Pro Vs7 PE D 32x3,0 mm:1"]
[null,null,"Pro Vs8 PE D 32x3,0 mm:1",null,1,null,null,null,null,null,null,null,"Pro Vs8 PE D 32x3,0 mm:1"]
[null,null,"Pro Vs9 PE D 32x3,0 mm:1",null,1,null,null,null,null,null,null,null,"Pro Vs9 PE D 32x3,0 mm:1"]
[null,"Celkem za","8 Trubní vedení",null,null,null,{"$f":"SUM(G250:G411)","v":0},null,{"$f":"SUM(I250:I411)","v":8.9256156000000004},null,{"$f":"SUM(K250:K411)","v":0},null,null,null,4,null,null,null,null,null,null,null,null,null,null,null,null,null,null,null,null,null,null,null,null,null,null,null,null,null,null,null,null,null,null,null,null,null,null,null,null,null,{"$f":"SUM(BA250:BA411)","v":0},{"$f":"SUM(BB250:BB411)","v":0},{"$f":"SUM(BC250:BC411)","v":0},{"$f":"SUM(BD250:BD411)","v":0},{"$f":"SUM(BE250:BE411)","v":0}]
["Díl:","99","Staveništní přesun hmot",null,null,null,null,null,null,null,null,null,null,null,1]
[21,"998273101R00","Přesun hmot, trubní vedení litinové, otevř. výkop ","t",118.7844849,null,{"$f":"E414*F414","v":0},0,{"$f":"E414*H414","v":0},null,{"$f":"E414*J414","v":0},null,null,null,2,null,null,null,null,null,null,null,null,null,null,null,7,1,2,null,null,null,null,null,null,null,null,null,null,null,null,null,null,null,null,null,null,null,null,null,null,1,{"$f":"IF(AZ414=1,G414,0)","v":0},{"$f":"IF(AZ414=2,G414,0)","v":0},{"$f":"IF(AZ414=3,G414,0)","v":0},{"$f":"IF(AZ414=4,G414,0)","v":0},{"$f":"IF(AZ414=5,G414,0)","v":0},null,null,null,null,null,null,null,null,null,null,null,null,null,null,null,null,null,null,null,null,null,7,1]
[null,null,"Položka je určena pro trubní vedení (vodovod nebo kanalizace) hloubené nebo ražené z trub litinových včetně drobných objektů. Platnost položky je vymezena pro nejmenší skladovací plochu 100 m2 + 0,24 m2/t, pro největší dopravní vzdálenost 15 m od hrany výkopu na povrchu nebo 15 m od okraje šachty k těžišti skládek na povrchu.",null,null,null,null,null,null,null,null,"Položka je určena pro trubní vedení (vodovod nebo kanalizace) hloubené nebo ražené z trub litinových včetně drobných objektů. Platnost položky je vymezena pro nejmenší skladovací plochu 100 m2 + 0,24 m2/t, pro největší dopravní vzdálenost 15 m od hrany výkopu na povrchu nebo 15 m od okraje šachty k těžišti skládek na povrchu.",null,null,3]
[null,"Celkem za","99 Staveništní přesun hmot",null,null,null,{"$f":"SUM(G413:G415)","v":0},null,{"$f":"SUM(I413:I415)","v":0},null,{"$f":"SUM(K413:K415)","v":0},null,null,null,4,null,null,null,null,null,null,null,null,null,null,null,null,null,null,null,null,null,null,null,null,null,null,null,null,null,null,null,null,null,null,null,null,null,null,null,null,null,{"$f":"SUM(BA413:BA415)","v":0},{"$f":"SUM(BB413:BB415)","v":0},{"$f":"SUM(BC413:BC415)","v":0},{"$f":"SUM(BD413:BD415)","v":0},{"$f":"SUM(BE413:BE415)","v":0}]

{"sheet":"401 3236401 KL","index":34,"n_rows":45,"n_cols":8,"rows_kept":45,"cut":false,"hidden":false,"merged":[[22,0,22,1],[7,2,7,4],[8,2,8,4],[9,2,9,4],[10,2,10,4],[11,2,11,4],[50,1,50,6],[29,5,29,6],[30,5,30,6],[31,5,31,6],[32,5,32,6],[33,5,33,6],[36,1,44,6],[45,1,45,6],[46,1,46,6],[47,1,47,6],[48,1,48,6],[49,1,49,6]]}
["POLOŽKOVÝ ROZPOČET"]
["Rozpočet",null,"3236/401","Veřejné osvětlení",null,"JKSO ","828.19"]
[]
["Objekt",null,null,null,null,"SKP "]
["401",null,"Veřejné osvětlení",null,null,"Měrná jednotka","m"]
["Stavba",null,null,null,null,"Počet jednotek",0]
["3236",null,"Bytová zóna Hruštice - Károvsko - Etapa VII.",null,null,"Náklady na m.j.",{"$f":"IF(G6=0,,ROUND((F30+F32)/G6,1))","v":0}]
["Projektant",null,"PROFES PROJEKT spol.s r.o.",null,null,"Typ rozpočtu"]
["Zpracovatel projektu"]
["Objednatel",null,"Město TURNOV"]
["Dodavatel",null,".",null,null,"Zakázkové číslo "]
["Rozpočtoval",null,null,null,null,"Počet listů"]
["ROZPOČTOVÉ NÁKLADY"]
["Základní rozpočtové náklady"]
[null,"HSV celkem",{"$f":"'401 3236401 Rek'!E8","v":0}]
["Z","PSV celkem",{"$f":"'401 3236401 Rek'!F8","v":0}]
["R","M práce celkem",{"$f":"'401 3236401 Rek'!H8","v":0}]
["N","M dodávky celkem",{"$f":"'401 3236401 Rek'!G8","v":0}]
["ZRN celkem",null,{"$f":"SUM(C15:C18)","v":0}]
[]
["HZS",null,{"$f":"'401 3236401 Rek'!I8","v":0}]
["ZRN+HZS",null,{"$f":"C19+C21","v":0}]
["ZRN+ost.náklady+HZS",null,{"$f":"C22+G23","v":0}]
["Vypracoval",null,null,"Za zhotovitele",null,"Za objednatele"]
["Jméno :",null,null,"Jméno :",null,"Jméno :"]
["Datum :",null,null,"Datum :",null,"Datum :"]
[]
["Podpis :",null,null,"Podpis:",null,"Podpis:"]
[]
["Základ pro DPH",null,21,"%  ",null,{"$f":"C23-F32","v":0}]
["DPH",null,{"$f":"C30","v":21},"% ",null,{"$f":"ROUND(PRODUCT(F30,C31/100),0)","v":0}]
["Základ pro DPH",null,0,"% ",null,0]
["DPH",null,{"$f":"C32","v":0},"% ",null,{"$f":"ROUND(PRODUCT(F32,C33/100),0)","v":0}]
["CENA ZA OBJEKT CELKEM",null,null,null,null,{"$f":"ROUND(SUM(F30:F33),0)","v":0}]
[]
["Poznámka :",null,null,null,null,null,null," "]
[null,null,null,null,null,null,null," "]
[null,null,null,null,null,null,null," "]
[null,null,null,null,null,null,null," "]
[null,null,null,null,null,null,null," "]
[null,null,null,null,null,null,null," "]
[null,null,null,null,null,null,null," "]
[null,null,null,null,null,null,null," "]
[null,null,null,null,null,null,null," "]
[null,null,null,null,null,null,null," "]

{"sheet":"401 3236401 Rek","index":35,"n_rows":8,"n_cols":9,"rows_kept":8,"cut":false,"hidden":false,"merged":[[0,0,0,1],[1,0,1,1],[1,6,1,8]]}
["Stavba :",null,"3236 Bytová zóna Hruštice - Károvsko - Etapa VII.",null,null,null,"Rozpočet :","3236/401"]
["Objekt :",null,"401 Veřejné osvětlení",null,null,null,"Veřejné osvětlení"]
[]
["REKAPITULACE  STAVEBNÍCH  DÍLŮ"]
[]
[null,"Stavební díl",null,null,"HSV","PSV","Dodávka","Montáž","HZS"]
[{"$f":"'401 3236401 Pol'!B7","v":"M21.2"},{"$f":"'401 3236401 Pol'!C7","v":"Elektromontáře - Veřejné osvětlení"},null,null,{"$f":"'401 3236401 Pol'!BA10","v":0},{"$f":"'401 3236401 Pol'!BB10","v":0},{"$f":"SUM('401 3236401 Pol'!F9)","v":0},{"$f":"SUM('401 3236401 Pol'!G8)","v":0},{"$f":"'401 3236401 Pol'!BE10","v":0}]
[null,"CELKEM  OBJEKT",null,null,{"$f":"SUM(E7:E7)","v":0},{"$f":"SUM(F7:F7)","v":0},{"$f":"SUM(G7:G7)","v":0},{"$f":"SUM(H7:H7)","v":0},{"$f":"SUM(I7:I7)","v":0}]

{"sheet":"401 3236401 Pol","index":36,"n_rows":10,"n_cols":80,"rows_kept":10,"cut":false,"hidden":false,"merged":[[0,0,0,6],[2,0,2,1],[3,0,3,1],[3,4,3,6]]}
["Položkový rozpočet "]
[]
["Stavba :",null,"3236 Bytová zóna Hruštice - Károvsko - Etapa VII.",null,"Rozpočet:",{"$f":"'401 3236401 Rek'!H1","v":"3236/401"}]
["Objekt :",null,"401 Veřejné osvětlení",null,{"$f":"'401 3236401 Rek'!G2","v":"Veřejné osvětlení"}]
[]
["P.č.","Číslo položky","Název položky","MJ","množství","cena / MJ","celkem (Kč)","Jednotková hmotnost","Celková hmotnost","Jednotková dem.hmot.","Celková dem.hmot."]
["Díl:","M21.2","Elektromontáře - Veřejné osvětlení",null,null,null,null,null,null,null,null,null,null,null,1]
[1,"M21 20-2000:SUB","Věřejné osvětlení - montáže (samostatná příloha)","soubor",1,{"$f":"SUM('401 326401_ Elektro VO'!H43)","v":0},{"$f":"E8*F8","v":0},0,{"$f":"E8*H8","v":0},null,{"$f":"E8*J8","v":0},null,null,null,2,null,null,null,null,null,null,null,null,null,null,null,11,3,2,null,null,null,null,null,null,null,null,null,null,null,null,null,null,null,null,null,null,null,null,null,null,4,{"$f":"IF(AZ8=1,G8,0)","v":0},{"$f":"IF(AZ8=2,G8,0)","v":0},{"$f":"IF(AZ8=3,G8,0)","v":0},{"$f":"IF(AZ8=4,G8,0)","v":0},{"$f":"IF(AZ8=5,G8,0)","v":0},null,null,null,null,null,null,null,null,null,null,null,null,null,null,null,null,null,null,null,null,null,11,3]
[2,"M21 20-2001:SUB","Věřejné osvětlení - dodávky (samostatná příloha)","soubor",1,{"$f":"SUM('401 326401_ Elektro VO'!F43)","v":0},{"$f":"E9*F9","v":0},0,{"$f":"E9*H9","v":0},null,{"$f":"E9*J9","v":0},null,null,null,2,null,null,null,null,null,null,null,null,null,null,null,11,1,1,null,null,null,null,null,null,null,null,null,null,null,null,null,null,null,null,null,null,null,null,null,null,4,{"$f":"IF(AZ9=1,G9,0)","v":0},{"$f":"IF(AZ9=2,G9,0)","v":0},{"$f":"IF(AZ9=3,G9,0)","v":0},{"$f":"IF(AZ9=4,G9,0)","v":0},{"$f":"IF(AZ9=5,G9,0)","v":0},null,null,null,null,null,null,null,null,null,null,null,null,null,null,null,null,null,null,null,null,null,11,1]
[null,"Celkem za","M21.2 Elektromontáře - Veřejné osvětlení",null,null,null,{"$f":"SUM(G7:G9)","v":0},null,{"$f":"SUM(I7:I9)","v":0},null,{"$f":"SUM(K7:K9)","v":0},null,null,null,4,null,null,null,null,null,null,null,null,null,null,null,null,null,null,null,null,null,null,null,null,null,null,null,null,null,null,null,null,null,null,null,null,null,null,null,null,null,{"$f":"SUM(BA7:BA9)","v":0},{"$f":"SUM(BB7:BB9)","v":0},{"$f":"SUM(BC7:BC9)","v":0},{"$f":"SUM(BD7:BD9)","v":0},{"$f":"SUM(BE7:BE9)","v":0}]

{"sheet":"401 326401_ Elektro VO","index":37,"n_rows":44,"n_cols":8,"rows_kept":44,"cut":false,"hidden":false,"merged":[]}
[]
[null,"Akce: ","  Bytová zóna Hruštice – Károvsko"]
[null,null,"  Etapa VII."]
[]
[null,"Stavební objekt:","  IO - 401  Veřejné osvětlení"]
[]
[null,"Investor:","  Město Turnov"]
[null,null,"  Antonína Dvořáka 335, 511 22 Turnov"]
[]
[null,"Datum:"]
[]
[]
[null,"Položkový výpis materiálu - materiál a montáže"]
["p.č.","popis materiál","m.j.","množství","cena za m.j.","celková cena","cena za montáž","celková cena za montáž"]
[1,"Výbojkové svítidlo THORN Avenue F2 96260067 pro zdroj HSE 70W. Jedná seš o shodný typ svítidla, který byl již použit v předcházejících etapách a je doporučen městským mobiliářem pro danou lokalitu.","ks",12,null,{"$f":"D15*E15","v":0},null,{"$f":"D15*G15","v":0}]
[2,"Zdroj HSE 70W E23","ks",12,null,{"$f":"D16*E16","v":0},null,{"$f":"D16*G16","v":0}]
[3,"Žárově zinkovaný kuželový parkový stožár o nadzemní výšce 3,5 metru, včetně elektrovýzbroje.","ks",12,null,{"$f":"D17*E17","v":0},null,{"$f":"D17*G17","v":0}]
[4,"Vytyčení trati kabelového vedení","km",0.32,null,null,null,{"$f":"D18*G18","v":0}]
[5,"Kabel CYKY 4Bx16","m",475,null,{"$f":"D19*E19","v":0},null,0]
[6,"Pásek FeZn 30/4 uložení v zemi s izolací spojů","m",305,null,0,null,0]
[7,"Drát FeZn 10mm","m",24,null,0,null,0]
[8,"Svorka SR02 pásek/drát","ks",24,null,0,null,0]
[9,"Svorka SR03 pásek/pásek","ks",32,null,0,null,0]
[10,"Dvouplášťová trubka 90/75 určená pro mechanickou ochranu všech druhů vedení. Červená barva. Součástí chráničky  zatahovací drát. Spojkování typovou plastovou spojkou. Vnější plášťz HDPE, vnitřní z LDPE.","m",342,null,0,null,0]
[11,"Dvouplášťová trubka 125/108 určená pro mechanickou ochranu všech druhů vedení. Červená barva. Součástí chráničky  zatahovací drát. Spojkování typovou plastovou spojkou. Vnější plášťz HDPE, vnitřní z LDPE.","m",26,null,0,null,{"$f":"D25*G25","v":0}]
[12,"Výkop rýhy 50x70 volný terén 4.třída","m",48,null,null,null,{"$f":"D26*G26","v":0}]
[13,"Zához rýhy 50x70 4.třída","m",48,null,null,null,{"$f":"D27*G27","v":0}]
[14,"Výkop rýhy 50x110 volný terén 4.třída","m",275,null,null,null,{"$f":"D28*G28","v":0}]
[15,"Zához rýhy 50x110 3.třída","m",275,null,null,null,{"$f":"D29*G29","v":0}]
[16,"Výkop pro stožár VO","ks",12,null,null,null,0]
[17,"Základ pod stožár VO","ks",12,null,{"$f":"D31*E31","v":0},null,0]
[18,"Pískové lože","m3",32,null,{"$f":"D32*E32","v":0}]
[19,"Vytvoření pískového lože","m",320,null,null,null,{"$f":"D33*G33","v":0}]
[20,"Fólie + položení","m",320,null,{"$f":"D34*E34","v":0},null,0]
[21,"Ukončení drátu do 10mm2 na svorce SP","ks",12,null,null,null,0]
[22,"Ukončení kabelu do 4x16mm2","ks",24,null,null,null,0]
[23,"Geodetické zaměření","m",320,null,null,null,0]
[24,"Vypracování dokumentace skutečného provedení","ks",1,null,null,null,0]
[25,"Revize el. zařízení","ks",1,null,null,null,0]
[26,"Zkouška a prohlídka rozvodných zařízení","ks",1,null,null,null,0]
[27,"Proškolení obsluhy ","ks",1,null,null,null,0]
[28,"Přesun materiálu","ks",1,null,null,null,0]
[29,"Celkem",null,null,null,{"$f":"SUM(F15:F42)","v":0},null,{"$f":"SUM(H15:H42)","v":0}]
[30,"Celková suma (materiál a montáže)",null,null,null,null,null,{"$f":"F43+H43","v":0}]

{"sheet":"501 3236501 KL","index":38,"n_rows":45,"n_cols":8,"rows_kept":45,"cut":false,"hidden":false,"merged":[[22,0,22,1],[7,2,7,4],[8,2,8,4],[9,2,9,4],[10,2,10,4],[11,2,11,4],[50,1,50,6],[29,5,29,6],[30,5,30,6],[31,5,31,6],[32,5,32,6],[33,5,33,6],[36,1,44,6],[45,1,45,6],[46,1,46,6],[47,1,47,6],[48,1,48,6],[49,1,49,6]]}
["POLOŽKOVÝ ROZPOČET"]
["Rozpočet",null,"3236/501","Prodloužení STL plynovodu, přípojky",null,"JKSO ","827.52.A"]
[]
["Objekt",null,null,null,null,"SKP "]
["501",null,"Prodloužení STL plynovodu, přípojky",null,null,"Měrná jednotka","m"]
["Stavba",null,null,null,null,"Počet jednotek",0]
["3236",null,"Bytová zóna Hruštice - Károvsko - Etapa VII.",null,null,"Náklady na m.j.",{"$f":"IF(G6=0,,ROUND((F30+F32)/G6,1))","v":0}]
["Projektant",null,"PROFES PROJEKT spol.s r.o.",null,null,"Typ rozpočtu"]
["Zpracovatel projektu"]
["Objednatel",null,"Město TURNOV"]
["Dodavatel",null,".",null,null,"Zakázkové číslo "]
["Rozpočtoval",null,null,null,null,"Počet listů"]
["ROZPOČTOVÉ NÁKLADY"]
["Základní rozpočtové náklady"]
[null,"HSV celkem",{"$f":"'501 3236501 Rek'!E10","v":0}]
["Z","PSV celkem",{"$f":"'501 3236501 Rek'!F10","v":0}]
["R","M práce celkem",{"$f":"'501 3236501 Rek'!H10","v":0}]
["N","M dodávky celkem",{"$f":"'501 3236501 Rek'!G10","v":0}]
["ZRN celkem",null,{"$f":"SUM(C15:C18)","v":0}]
[]
["HZS",null,{"$f":"'501 3236501 Rek'!I10","v":0}]
["ZRN+HZS",null,{"$f":"C19+C21","v":0}]
["ZRN+ost.náklady+HZS",null,{"$f":"C22+G23","v":0}]
["Vypracoval",null,null,"Za zhotovitele",null,"Za objednatele"]
["Jméno :",null,null,"Jméno :",null,"Jméno :"]
["Datum :",null,null,"Datum :",null,"Datum :"]
[]
["Podpis :",null,null,"Podpis:",null,"Podpis:"]
[]
["Základ pro DPH",null,21,"%  ",null,{"$f":"C23-F32","v":0}]
["DPH",null,{"$f":"C30","v":21},"% ",null,{"$f":"ROUND(PRODUCT(F30,C31/100),0)","v":0}]
["Základ pro DPH",null,0,"% ",null,0]
["DPH",null,{"$f":"C32","v":0},"% ",null,{"$f":"ROUND(PRODUCT(F32,C33/100),0)","v":0}]
["CENA ZA OBJEKT CELKEM",null,null,null,null,{"$f":"ROUND(SUM(F30:F33),0)","v":0}]
[]
["Poznámka :",null,null,null,null,null,null," "]
[null,null,null,null,null,null,null," "]
[null,null,null,null,null,null,null," "]
[null,null,null,null,null,null,null," "]
[null,null,null,null,null,null,null," "]
[null,null,null,null,null,null,null," "]
[null,null,null,null,null,null,null," "]
[null,null,null,null,null,null,null," "]
[null,null,null,null,null,null,null," "]
[null,null,null,null,null,null,null," "]

{"sheet":"501 3236501 Rek","index":39,"n_rows":10,"n_cols":9,"rows_kept":10,"cut":false,"hidden":false,"merged":[[0,0,0,1],[1,0,1,1],[1,6,1,8]]}
["Stavba :",null,"3236 Bytová zóna Hruštice - Károvsko - Etapa VII.",null,null,null,"Rozpočet :","3236/501"]
["Objekt :",null,"501 Prodloužení STL plynovodu, přípojky",null,null,null,"Prodloužení STL plynovodu, přípojky"]
[]
["REKAPITULACE  STAVEBNÍCH  DÍLŮ"]
[]
[null,"Stavební díl",null,null,"HSV","PSV","Dodávka","Montáž","HZS"]
[{"$f":"'501 3236501 Pol'!B7","v":"3"},{"$f":"'501 3236501 Pol'!C7","v":"Svislé a kompletní konstrukce"},null,null,{"$f":"'501 3236501 Pol'!BA28","v":0},{"$f":"'501 3236501 Pol'!BB28","v":0},{"$f":"'501 3236501 Pol'!BC28","v":0},{"$f":"'501 3236501 Pol'!BD28","v":0},{"$f":"'501 3236501 Pol'!BE28","v":0}]
[{"$f":"'501 3236501 Pol'!B29","v":"8"},{"$f":"'501 3236501 Pol'!C29","v":"Trubní vedení"},null,null,{"$f":"'501 3236501 Pol'!BA67","v":0},{"$f":"'501 3236501 Pol'!BB67","v":0},{"$f":"'501 3236501 Pol'!BC67","v":0},{"$f":"'501 3236501 Pol'!BD67","v":0},{"$f":"'501 3236501 Pol'!BE67","v":0}]
[{"$f":"'501 3236501 Pol'!B68","v":"99"},{"$f":"'501 3236501 Pol'!C68","v":"Staveništní přesun hmot"},null,null,{"$f":"'501 3236501 Pol'!BA70","v":0},{"$f":"'501 3236501 Pol'!BB70","v":0},{"$f":"'501 3236501 Pol'!BC70","v":0},{"$f":"'501 3236501 Pol'!BD70","v":0},{"$f":"'501 3236501 Pol'!BE70","v":0}]
[null,"CELKEM  OBJEKT",null,null,{"$f":"SUM(E7:E9)","v":0},{"$f":"SUM(F7:F9)","v":0},{"$f":"SUM(G7:G9)","v":0},{"$f":"SUM(H7:H9)","v":0},{"$f":"SUM(I7:I9)","v":0}]

{"sheet":"501 3236501 Pol","index":40,"n_rows":70,"n_cols":80,"rows_kept":70,"cut":false,"hidden":false,"merged":[[9,2,9,6],[10,2,10,3],[11,2,11,3],[0,0,0,6],[2,0,2,1],[3,0,3,1],[3,4,3,6],[8,2,8,6],[23,2,23,3],[12,2,12,3],[13,2,13,3],[14,2,14,3],[15,2,15,3],[16,2,16,3],[17,2,17,3],[18,2,18,3],[19,2,19,3],[20,2,20,3],[21,2,21,3],[22,2,22,3],[40,2,40,3],[24,2,24,3],[25,2,25,3],[26,2,26,3],[30,2,30,6],[31,2,31,6],[32,2,32,3],[33,2,33,3],[34,2,34,3],[35,2,35,3],[36,2,36,3],[37,2,37,3],[38,2,38,3],[39,2,39,3],[54,2,54,6],[42,2,42,6],[43,2,43,6],[44,2,44,3],[45,2,45,3],[46,2,46,3],[47,2,47,3],[48,2,48,3],[49,2,49,3],[50,2,50,3],[51,2,51,3],[52,2,52,3],[64,2,64,3],[65,2,65,3],[55,2,55,3],[56,2,56,3],[57,2,57,3],[58,2,58,3],[61,2,61,6],[63,2,63,6]]}
["Položkový rozpočet "]
[]
["Stavba :",null,"3236 Bytová zóna Hruštice - Károvsko - Etapa VII.",null,"Rozpočet:",{"$f":"'501 3236501 Rek'!H1","v":"3236/501"}]
["Objekt :",null,"501 Prodloužení STL plynovodu, přípojky",null,{"$f":"'501 3236501 Rek'!G2","v":"Prodloužení STL plynovodu, přípojky"}]
[]
["P.č.","Číslo položky","Název položky","MJ","množství","cena / MJ","celkem (Kč)","Jednotková hmotnost","Celková hmotnost","Jednotková dem.hmot.","Celková dem.hmot."]
["Díl:","3","Svislé a kompletní konstrukce",null,null,null,null,null,null,null,null,null,null,null,1]
[1,"349121101RT3","Montáž beton. staveb. skříně plyn-HUP do 1,5 t včetně dodávky skříně PO3  70x41x125 cm","kus",16,null,{"$f":"E8*F8","v":0},0.29738999999999999,{"$f":"E8*H8","v":4.7582399999999998},0,{"$f":"E8*J8","v":0},null,null,null,2,null,null,null,null,null,null,null,null,null,null,null,1,1,1,null,null,null,null,null,null,null,null,null,null,null,null,null,null,null,null,null,null,null,null,null,null,1,{"$f":"IF(AZ8=1,G8,0)","v":0},{"$f":"IF(AZ8=2,G8,0)","v":0},{"$f":"IF(AZ8=3,G8,0)","v":0},{"$f":"IF(AZ8=4,G8,0)","v":0},{"$f":"IF(AZ8=5,G8,0)","v":0},null,null,null,null,null,null,null,null,null,null,null,null,null,null,null,null,null,null,null,null,null,1,1]
[null,null,"Součásti dodávky skříně jsou jednotlivé prefabrikáty v rozmontovaném stavu, dvířka 60x60 cm, instalační rám, spojovací materiál.",null,null,null,null,null,null,null,null,"Součásti dodávky skříně jsou jednotlivé prefabrikáty v rozmontovaném stavu, dvířka 60x60 cm, instalační rám, spojovací materiál.",null,null,3]
[null,null,"Součástí položky jsou potřebné kompletní zemní práce.",null,null,null,null,null,null,null,null,"Součástí položky jsou potřebné kompletní zemní práce.",null,null,3]
[null,null,"STL plynovod P1, P2 a P3 - PE D 63x5,8 mm:",null,0,null,null,null,null,null,null,null,"STL plynovod P1, P2 a P3 - PE D 63x5,8 mm:"]
[null,null,"PP00 PE D 32x3,0 mm - 4 m:1",null,1,null,null,null,null,null,null,null,"PP00 PE D 32x3,0 mm - 4 m:1"]
[null,null,"PP04 PE D 32x3,0 mm - 4 m:1",null,1,null,null,null,null,null,null,null,"PP04 PE D 32x3,0 mm - 4 m:1"]
[null,null,"PP08 PE D 32x3,0 mm - 4 m:1",null,1,null,null,null,null,null,null,null,"PP08 PE D 32x3,0 mm - 4 m:1"]
[null,null,"PP11 PE D 32x3,0 mm - 3 m:1",null,1,null,null,null,null,null,null,null,"PP11 PE D 32x3,0 mm - 3 m:1"]
[null,null,"PP12 PE D 32x3,0 mm - 3 m:1",null,1,null,null,null,null,null,null,null,"PP12 PE D 32x3,0 mm - 3 m:1"]
[null,null,"PP13 PE D 32x3,0 mm - 3 m:1",null,1,null,null,null,null,null,null,null,"PP13 PE D 32x3,0 mm - 3 m:1"]
[null,null,"PP16 PE D 32x3,0 mm - 4 m:1",null,1,null,null,null,null,null,null,null,"PP16 PE D 32x3,0 mm - 4 m:1"]
[null,null,"PP17 PE D 32x3,0 mm - 4 m:1",null,1,null,null,null,null,null,null,null,"PP17 PE D 32x3,0 mm - 4 m:1"]
[null,null,"PP01 PE D 32x3,0 mm - 8 m:1",null,1,null,null,null,null,null,null,null,"PP01 PE D 32x3,0 mm - 8 m:1"]
[null,null,"PP02 PE D 32x3,0 mm - 8 m:1",null,1,null,null,null,null,null,null,null,"PP02 PE D 32x3,0 mm - 8 m:1"]
[null,null,"PP05 PE D 32x3,0 mm - 8 m:1",null,1,null,null,null,null,null,null,null,"PP05 PE D 32x3,0 mm - 8 m:1"]
[null,null,"PP06 PE D 32x3,0 mm - 8 m:1",null,1,null,null,null,null,null,null,null,"PP06 PE D 32x3,0 mm - 8 m:1"]
[null,null,"PP09 PE D 32x3,0 mm - 8 m:1",null,1,null,null,null,null,null,null,null,"PP09 PE D 32x3,0 mm - 8 m:1"]
[null,null,"PP10 PE D 32x3,0 mm - 8 m:1",null,1,null,null,null,null,null,null,null,"PP10 PE D 32x3,0 mm - 8 m:1"]
[null,null,"PP14 PE D 32x3,0 mm - 6 m:1",null,1,null,null,null,null,null,null,null,"PP14 PE D 32x3,0 mm - 6 m:1"]
[null,null,"PP15 PE D 32x3,0 mm - 6 m:1",null,1,null,null,null,null,null,null,null,"PP15 PE D 32x3,0 mm - 6 m:1"]
[null,"Celkem za","3 Svislé a kompletní konstrukce",null,null,null,{"$f":"SUM(G7:G27)","v":0},null,{"$f":"SUM(I7:I27)","v":4.7582399999999998},null,{"$f":"SUM(K7:K27)","v":0},null,null,null,4,null,null,null,null,null,null,null,null,null,null,null,null,null,null,null,null,null,null,null,null,null,null,null,null,null,null,null,null,null,null,null,null,null,null,null,null,null,{"$f":"SUM(BA7:BA27)","v":0},{"$f":"SUM(BB7:BB27)","v":0},{"$f":"SUM(BC7:BC27)","v":0},{"$f":"SUM(BD7:BD27)","v":0},{"$f":"SUM(BE7:BE27)","v":0}]
["Díl:","8","Trubní vedení",null,null,null,null,null,null,null,null,null,null,null,1]
[2,"841220010RAA","Plynovodní přípojka z trub PE, D 32 mm, dl. 5 m napojení na řád D 63 mm","kus",8,null,{"$f":"E30*F30","v":0},1.45879,{"$f":"E30*H30","v":11.67032},0,{"$f":"E30*J30","v":0},null,null,null,2,null,null,null,null,null,null,null,null,null,null,null,1,1,1,null,null,null,null,null,null,null,null,null,null,null,null,null,null,null,null,null,null,null,null,null,null,1,{"$f":"IF(AZ30=1,G30,0)","v":0},{"$f":"IF(AZ30=2,G30,0)","v":0},{"$f":"IF(AZ30=3,G30,0)","v":0},{"$f":"IF(AZ30=4,G30,0)","v":0},{"$f":"IF(AZ30=5,G30,0)","v":0},null,null,null,null,null,null,null,null,null,null,null,null,null,null,null,null,null,null,null,null,null,1,1]
[null,null,"V položce je zakalkulováno hloubení rýh nezapažených, šířky 50 cm v hornině 3, ve volném terénu, dodávka a montáž potrubí včetně navrtávací objímky, s podsypem štěrkopískem, s obsypem pískem nebo štěrkopískem, se zásypem hutněným ŠD a s odvozem přebytečné zeminy na skládku zhotovitele, včetně poplatku za skládku. Součástí ceny je dodávka trubního materiálu, elektrokoleno, chránička bralen, objímka, kulový kohout, těsnící tmel, přechodka Isiflo, podpůrná vložka, držák chráničky a montáž všech částí přípojky, dále pak i výstražná fólie.",null,null,null,null,null,null,null,null,"V položce je zakalkulováno hloubení rýh nezapažených, šířky 50 cm v hornině 3, ve volném terénu, dodávka a montáž potrubí včetně navrtávací objímky, s podsypem štěrkopískem, s obsypem pískem nebo štěrkopískem, se zásypem hutněným ŠD a s odvozem přebytečné zeminy na skládku zhotovitele, včetně poplatku za skládku. Součástí ceny je dodávka trubního materiálu, elektrokoleno, chránička bralen, objímka, kulový kohout, těsnící tmel, přechodka Isiflo, podpůrná vložka, držák chráničky a montáž všech částí přípojky, dále pak i výstražná fólie.",null,null,3]
[null,null,"Délka přípojky do 5 m + 1,5 m z výkopu do HUP.",null,null,null,null,null,null,null,null,"Délka přípojky do 5 m + 1,5 m z výkopu do HUP.",null,null,3]
[null,null,"STL plynovod P1, P2 a P3 - PE D 63x5,8 mm:",null,0,null,null,null,null,null,null,null,"STL plynovod P1, P2 a P3 - PE D 63x5,8 mm:"]
[null,null,"PP00 PE D 32x3,0 mm - 4 m:1",null,1,null,null,null,null,null,null,null,"PP00 PE D 32x3,0 mm - 4 m:1"]
[null,null,"PP04 PE D 32x3,0 mm - 4 m:1",null,1,null,null,null,null,null,null,null,"PP04 PE D 32x3,0 mm - 4 m:1"]
[null,null,"PP08 PE D 32x3,0 mm - 4 m:1",null,1,null,null,null,null,null,null,null,"PP08 PE D 32x3,0 mm - 4 m:1"]
[null,null,"PP11 PE D 32x3,0 mm - 3 m:1",null,1,null,null,null,null,null,null,null,"PP11 PE D 32x3,0 mm - 3 m:1"]
[null,null,"PP12 PE D 32x3,0 mm - 3 m:1",null,1,null,null,null,null,null,null,null,"PP12 PE D 32x3,0 mm - 3 m:1"]
[null,null,"PP13 PE D 32x3,0 mm - 3 m:1",null,1,null,null,null,null,null,null,null,"PP13 PE D 32x3,0 mm - 3 m:1"]
[null,null,"PP16 PE D 32x3,0 mm - 4 m:1",null,1,null,null,null,null,null,null,null,"PP16 PE D 32x3,0 mm - 4 m:1"]
[null,null,"PP17 PE D 32x3,0 mm - 4 m:1",null,1,null,null,null,null,null,null,null,"PP17 PE D 32x3,0 mm - 4 m:1"]
[3,"841220020RAA","Plynovodní přípojka z trub PE, D 32 mm, dl.10 m napojení na řad D 63 mm","kus",8,null,{"$f":"E42*F42","v":0},2.9108299999999998,{"$f":"E42*H42","v":23.286639999999998},0,{"$f":"E42*J42","v":0},null,null,null,2,null,null,null,null,null,null,null,null,null,null,null,1,1,1,null,null,null,null,null,null,null,null,null,null,null,null,null,null,null,null,null,null,null,null,null,null,1,{"$f":"IF(AZ42=1,G42,0)","v":0},{"$f":"IF(AZ42=2,G42,0)","v":0},{"$f":"IF(AZ42=3,G42,0)","v":0},{"$f":"IF(AZ42=4,G42,0)","v":0},{"$f":"IF(AZ42=5,G42,0)","v":0},null,null,null,null,null,null,null,null,null,null,null,null,null,null,null,null,null,null,null,null,null,1,1]
[null,null,"V položce je zakalkulováno hloubení rýh nezapažených, šířky 50 cm v hornině 3, ve volném terénu, dodávka a montáž potrubí včetně navrtávací objímky, s podsypem štěrkopískem, s obsypem pískem nebo štěrkopískem, se zásypem hutněným ŠD a s odvozem přebytečné zeminy na skládku zhotovitele, včetně poplatku za skládku. Součástí ceny je dodávka trubního materiálu, elektrokoleno, chránička bralen, objímka, kulový kohout, těsnící tmel, přechodka Isiflo, podpůrná vložka, držák chráničky a montáž všech částí přípojky, dále pak i výstražná fólie.",null,null,null,null,null,null,null,null,"V položce je zakalkulováno hloubení rýh nezapažených, šířky 50 cm v hornině 3, ve volném terénu, dodávka a montáž potrubí včetně navrtávací objímky, s podsypem štěrkopískem, s obsypem pískem nebo štěrkopískem, se zásypem hutněným ŠD a s odvozem přebytečné zeminy na skládku zhotovitele, včetně poplatku za skládku. Součástí ceny je dodávka trubního materiálu, elektrokoleno, chránička bralen, objímka, kulový kohout, těsnící tmel, přechodka Isiflo, podpůrná vložka, držák chráničky a montáž všech částí přípojky, dále pak i výstražná fólie.",null,null,3]
[null,null,"Délka přípojky přes 5 m do 10 m + 1,5 m z výkopu do HUP.",null,null,null,null,null,null,null,null,"Délka přípojky přes 5 m do 10 m + 1,5 m z výkopu do HUP.",null,null,3]
[null,null,"STL plynovod P1, P2 a P3 - PE D 63x5,8 mm:",null,0,null,null,null,null,null,null,null,"STL plynovod P1, P2 a P3 - PE D 63x5,8 mm:"]
[null,null,"PP01 PE D 32x3,0 mm - 8 m:1",null,1,null,null,null,null,null,null,null,"PP01 PE D 32x3,0 mm - 8 m:1"]
[null,null,"PP02 PE D 32x3,0 mm - 8 m:1",null,1,null,null,null,null,null,null,null,"PP02 PE D 32x3,0 mm - 8 m:1"]
[null,null,"PP05 PE D 32x3,0 mm - 8 m:1",null,1,null,null,null,null,null,null,null,"PP05 PE D 32x3,0 mm - 8 m:1"]
[null,null,"PP06 PE D 32x3,0 mm - 8 m:1",null,1,null,null,null,null,null,null,null,"PP06 PE D 32x3,0 mm - 8 m:1"]
[null,null,"PP09 PE D 32x3,0 mm - 8 m:1",null,1,null,null,null,null,null,null,null,"PP09 PE D 32x3,0 mm - 8 m:1"]
[null,null,"PP10 PE D 32x3,0 mm - 8 m:1",null,1,null,null,null,null,null,null,null,"PP10 PE D 32x3,0 mm - 8 m:1"]
[null,null,"PP14 PE D 32x3,0 mm - 6 m:1",null,1,null,null,null,null,null,null,null,"PP14 PE D 32x3,0 mm - 6 m:1"]
[null,null,"PP15 PE D 32x3,0 mm - 6 m:1",null,1,null,null,null,null,null,null,null,"PP15 PE D 32x3,0 mm - 6 m:1"]
[4,"841230114RAB","Plynovod z trub PE, D 63 mm, hl. 1,2 m D 63 x 5,8 návin, SDR11, s podsypem štěrkopískem","m",284.5,null,{"$f":"E54*F54","v":0},0.61668999999999996,{"$f":"E54*H54","v":175.44830499999998},0,{"$f":"E54*J54","v":0},null,null,null,2,null,null,null,null,null,null,null,null,null,null,null,1,1,1,null,null,null,null,null,null,null,null,null,null,null,null,null,null,null,null,null,null,null,null,null,null,1,{"$f":"IF(AZ54=1,G54,0)","v":0},{"$f":"IF(AZ54=2,G54,0)","v":0},{"$f":"IF(AZ54=3,G54,0)","v":0},{"$f":"IF(AZ54=4,G54,0)","v":0},{"$f":"IF(AZ54=5,G54,0)","v":0},null,null,null,null,null,null,null,null,null,null,null,null,null,null,null,null,null,null,null,null,null,1,1]
[null,null,"V položce je zakalkulováno hloubení rýh nezapažených, šířky 80 cm a hloubky dle projektu v hornině 3 a 4 (včetně příplatku za lepivost -  50 %) ve volném terénu, dodávka a montáž potrubí, s podsypem štěrkopískem, s obsypem pískem nebo štěrkopískem v tl. 40 cm nad potrubím, se zásypem hutněným ŠD a s odvozem přebytečné zeminy na skládku zhotovitele včetně poplatku za skládku. Součástí ceny je i hlavní tlaková zkouška vzduchem, signalizační vodič a výstražná fólie.",null,null,null,null,null,null,null,null,"V položce je zakalkulováno hloubení rýh nezapažených, šířky 80 cm a hloubky dle projektu v hornině 3 a 4 (včetně příplatku za lepivost -  50 %) ve volném terénu, dodávka a montáž potrubí, s podsypem štěrkopískem, s obsypem pískem nebo štěrkopískem v tl. 40 cm nad potrubím, se zásypem hutněným ŠD a s odvozem přebytečné zeminy na skládku zhotovitele včetně poplatku za skládku. Součástí ceny je i hlavní tlaková zkouška vzduchem, signalizační vodič a výstražná fólie.",null,null,3]
[null,null,"STL plynovod P1, P2 a P3 - PE D 63x5,8 mm:",null,0,null,null,null,null,null,null,null,"STL plynovod P1, P2 a P3 - PE D 63x5,8 mm:"]
[null,null,"P1:167,50",null,167.5,null,null,null,null,null,null,null,"P1:167,50"]
[null,null,"P2:54,00",null,54,null,null,null,null,null,null,null,"P2:54,00"]
[null,null,"P3:63,00",null,63,null,null,null,null,null,null,null,"P3:63,00"]
[5,"841230129RAB","Ukončení plynovodu ventilem DN25 dle PD ","soubor",2,null,{"$f":"E60*F60","v":0},0.59019999999999995,{"$f":"E60*H60","v":1.1803999999999999},0,{"$f":"E60*J60","v":0},null,null,null,2,null,null,null,null,null,null,null,null,null,null,null,1,1,1,null,null,null,null,null,null,null,null,null,null,null,null,null,null,null,null,null,null,null,null,null,null,1,{"$f":"IF(AZ60=1,G60,0)","v":0},{"$f":"IF(AZ60=2,G60,0)","v":0},{"$f":"IF(AZ60=3,G60,0)","v":0},{"$f":"IF(AZ60=4,G60,0)","v":0},{"$f":"IF(AZ60=5,G60,0)","v":0},null,null,null,null,null,null,null,null,null,null,null,null,null,null,null,null,null,null,null,null,null,1,1]
[6,"841230285RRX","Propoj plynovodu dle PD ","soubor",1,null,{"$f":"E61*F61","v":0},0.59019999999999995,{"$f":"E61*H61","v":0.59019999999999995},0,{"$f":"E61*J61","v":0},null,null,null,2,null,null,null,null,null,null,null,null,null,null,null,1,1,1,null,null,null,null,null,null,null,null,null,null,null,null,null,null,null,null,null,null,null,null,null,null,1,{"$f":"IF(AZ61=1,G61,0)","v":0},{"$f":"IF(AZ61=2,G61,0)","v":0},{"$f":"IF(AZ61=3,G61,0)","v":0},{"$f":"IF(AZ61=4,G61,0)","v":0},{"$f":"IF(AZ61=5,G61,0)","v":0},null,null,null,null,null,null,null,null,null,null,null,null,null,null,null,null,null,null,null,null,null,1,1]
[null,null,"Provedení propoje dle v.č. D.1.501.8 včetně zajištění dokladové části a kolaudace stavby.",null,null,null,null,null,null,null,null,"Provedení propoje dle v.č. D.1.501.8 včetně zajištění dokladové části a kolaudace stavby.",null,null,3]
[7,"841291018RRX","Uložení chráničky ve výkopu PE 110x10,0 mm ","m",56,null,{"$f":"E63*F63","v":0},0,{"$f":"E63*H63","v":0},0,{"$f":"E63*J63","v":0},null,null,null,2,null,null,null,null,null,null,null,null,null,null,null,1,9,9,null,null,null,null,null,null,null,null,null,null,null,null,null,null,null,null,null,null,null,null,null,null,1,{"$f":"IF(AZ63=1,G63,0)","v":0},{"$f":"IF(AZ63=2,G63,0)","v":0},{"$f":"IF(AZ63=3,G63,0)","v":0},{"$f":"IF(AZ63=4,G63,0)","v":0},{"$f":"IF(AZ63=5,G63,0)","v":0},null,null,null,null,null,null,null,null,null,null,null,null,null,null,null,null,null,null,null,null,null,1,9]
[null,null,"Součástí položky je i příplatek za nasunutí potrubí do chráničky a uzavření chráničky příslušnou manžetou.",null,null,null,null,null,null,null,null,"Součástí položky je i příplatek za nasunutí potrubí do chráničky a uzavření chráničky příslušnou manžetou.",null,null,3]
[null,null,"STL plynovod P1, P2 a P3 - PE D 63x5,8 mm:",null,0,null,null,null,null,null,null,null,"STL plynovod P1, P2 a P3 - PE D 63x5,8 mm:"]
[null,null,"Chráničky D 110x10,0 mm:4,00*14",null,56,null,null,null,null,null,null,null,"Chráničky D 110x10,0 mm:4,00*14"]
[null,"Celkem za","8 Trubní vedení",null,null,null,{"$f":"SUM(G29:G66)","v":0},null,{"$f":"SUM(I29:I66)","v":212.17586499999999},null,{"$f":"SUM(K29:K66)","v":0},null,null,null,4,null,null,null,null,null,null,null,null,null,null,null,null,null,null,null,null,null,null,null,null,null,null,null,null,null,null,null,null,null,null,null,null,null,null,null,null,null,{"$f":"SUM(BA29:BA66)","v":0},{"$f":"SUM(BB29:BB66)","v":0},{"$f":"SUM(BC29:BC66)","v":0},{"$f":"SUM(BD29:BD66)","v":0},{"$f":"SUM(BE29:BE66)","v":0}]
["Díl:","99","Staveništní přesun hmot",null,null,null,null,null,null,null,null,null,null,null,1]
[8,"998276101R00","Přesun hmot, trubní vedení plastová, otevř. výkop ","t",216.93410499999999,null,{"$f":"E69*F69","v":0},0,{"$f":"E69*H69","v":0},null,{"$f":"E69*J69","v":0},null,null,null,2,null,null,null,null,null,null,null,null,null,null,null,7,1,2,null,null,null,null,null,null,null,null,null,null,null,null,null,null,null,null,null,null,null,null,null,null,1,{"$f":"IF(AZ69=1,G69,0)","v":0},{"$f":"IF(AZ69=2,G69,0)","v":0},{"$f":"IF(AZ69=3,G69,0)","v":0},{"$f":"IF(AZ69=4,G69,0)","v":0},{"$f":"IF(AZ69=5,G69,0)","v":0},null,null,null,null,null,null,null,null,null,null,null,null,null,null,null,null,null,null,null,null,null,7,1]
[null,"Celkem za","99 Staveništní přesun hmot",null,null,null,{"$f":"SUM(G68:G69)","v":0},null,{"$f":"SUM(I68:I69)","v":0},null,{"$f":"SUM(K68:K69)","v":0},null,null,null,4,null,null,null,null,null,null,null,null,null,null,null,null,null,null,null,null,null,null,null,null,null,null,null,null,null,null,null,null,null,null,null,null,null,null,null,null,null,{"$f":"SUM(BA68:BA69)","v":0},{"$f":"SUM(BB68:BB69)","v":0},{"$f":"SUM(BC68:BC69)","v":0},{"$f":"SUM(BD68:BD69)","v":0},{"$f":"SUM(BE68:BE69)","v":0}]

{"sheet":"ONS","index":41,"n_rows":25,"n_cols":70,"rows_kept":25,"cut":false,"hidden":false,"merged":[[0,0,0,6],[2,0,2,1],[3,0,3,1],[3,4,3,6],[6,2,6,6]]}
["Položkový rozpočet "]
[]
["Stavba :",null,"3236 Bytová zóna Hruštice - Károvsko - Etapa VII.",null,"Rozpočet:","ONS"]
["Objekt :",null,"ONS - Ostatní náklady stavby "]
[]
["P.č.","Číslo položky","Název položky","MJ","množství","cena / MJ","celkem (Kč)","Jednotková hmotnost","Celková hmotnost","Jednotková dem.hmot.","Celková dem.hmot."]
["Díl:","950","Ostatní náklady stavby"]
[1,"950 99-0001.ONS","Zajištění prostoru a vybudování zařízení staveniště včetně potřebných staveništních komunikací","soubor",1,null,{"$f":"SUM(E8*F8)","v":0},8.6899999999999998E-3,{"$f":"E8*H8","v":8.6899999999999998E-3},0,{"$f":"E8*J8","v":0},null,500000,null,null,null,null,null,null,null,null,null,null,null,null,null,null,null,null,null,null,null,null,null,null,null,null,null,null,null,null,1,{"$f":"IF(AP8=1,G8,0)","v":0},{"$f":"IF(AP8=2,G8,0)","v":0},{"$f":"IF(AP8=3,G8,0)","v":0},{"$f":"IF(AP8=4,G8,0)","v":0},{"$f":"IF(AP8=5,G8,0)","v":0},null,null,null,null,null,null,null,null,null,null,null,null,null,null,null,null,null,null,null,null,null,1,1]
[2,"950 99-0003.ONS","Zajištění bezpečnosti při provádění stavby ve smyslu bezpečnosti práce i ochrany životního prostředí a zeleně","soubor",1,null,{"$f":"SUM(E9*F9)","v":0},null,null,null,null,null,30000]
[3,"950 99-0005.ONS","Vytýčení stavby a hranic pozemků při provádění stavby ","soubor",1,null,0,null,null,null,null,null,100000]
[4,"950 99-0006.ONS","Zajištění včasného oznámení o zahájení prací majitelům pozemků a správců sítí dotčených stavbou","soubor",1,null,0,null,null,null,null,null,10000]
[5,"950 99-0007.ONS","Spolupráce s vlastníky pozemků při případném uvolnění pozemků pro stavbu (např. skládky osobního materiálu vlastníků)","soubor",1,null,0,2.478E-2,{"$f":"E12*H12","v":2.478E-2},0,{"$f":"E12*J12","v":0},null,10000,null,null,null,null,null,null,null,null,null,null,null,null,null,null,null,null,null,null,null,null,null,null,null,null,null,null,null,null,1,{"$f":"IF(AP12=1,G12,0)","v":0},{"$f":"IF(AP12=2,G12,0)","v":0},{"$f":"IF(AP12=3,G12,0)","v":0},{"$f":"IF(AP12=4,G12,0)","v":0},{"$f":"IF(AP12=5,G12,0)","v":0},null,null,null,null,null,null,null,null,null,null,null,null,null,null,null,null,null,null,null,null,null,1,1]
[6,"950 99-0008.ONS","Zajištění vytýčení podzemních zařízení, a v případě jejich křížení či souběhu v otevřeném výkopu, jejich písemné předání zpět jejich správcům před zásypem","soubor",1,null,0,null,null,null,null,null,90000]
[7,"950 99-0013.ONS","Zajištění činnosti odpovědného geodeta zhotovitele","soubor",1,null,0,null,null,null,null,null,120000]
[8,"950 99-0014.ONS","Zajištění činnosti odpovědného geologa zhotovitele","soubor",1,null,0,null,null,null,null,null,40000]
[9,"950 99-0015.ONS","Zajištění čistoty na staveništi a v jeho okolí, zajištění každodenního čištění komunikací dotčených provozem zhotovitele","soubor",1,null,0,null,null,null,null,null,20000]
[10,"950 99-0016.ONS","Fotodokumentace průběhu díla; zhotovitel zajistí a předá objednateli průběžnou fotodokumentaci realizace díla dle TS. Fotodokumentace bude dokladovat průběh díla a bude zejména dokumentovat části stavby a konstrukce před jejich zakrytím","soubor",1,null,0,null,null,null,null,null,10000]
[11,"950 99-0017.ONS","Péče o nepředané objekty nebo jejich části a konstrukce stavby, jejich ošetřování a nutný rozsah pojištění","soubor",1,null,0,0,{"$f":"E18*H18","v":0},0,{"$f":"E18*J18","v":0},null,30000,null,null,null,null,null,null,null,null,null,null,null,null,null,null,null,null,null,null,null,null,null,null,null,null,null,null,null,null,1,{"$f":"IF(AP18=1,G18,0)","v":0},{"$f":"IF(AP18=2,G18,0)","v":0},{"$f":"IF(AP18=3,G18,0)","v":0},{"$f":"IF(AP18=4,G18,0)","v":0},{"$f":"IF(AP18=5,G18,0)","v":0},null,null,null,null,null,null,null,null,null,null,null,null,null,null,null,null,null,null,null,null,null,1,1]
[12,"950 99-0021.ONS","Inženýrská a kompletační činnost zhotovitele dle TS","soubor",1,null,0,null,null,null,null,null,150000]
[13,"950 99-0022.ONS","Zhotovení dokumentace skutečného provedení díla ","soubor",1,null,0,null,null,null,null,null,50000]
[14,"950 99-0023.ONS","Geodetické zaměření stavby","soubor",1,null,0,null,null,null,null,null,80000]
[15,"950 99-0024.ONS","Provizorní zásobování vodou cisternou dle zvolené technologie stavby zhotovitelem","soubor",1,null,0,0,{"$f":"E22*H22","v":0},0,{"$f":"E22*J22","v":0},null,50000,null,null,null,null,null,null,null,null,null,null,null,null,null,null,null,null,null,null,null,null,null,null,null,null,null,null,null,null,1,{"$f":"IF(AP22=1,G22,0)","v":0},{"$f":"IF(AP22=2,G22,0)","v":0},{"$f":"IF(AP22=3,G22,0)","v":0},{"$f":"IF(AP22=4,G22,0)","v":0},{"$f":"IF(AP22=5,G22,0)","v":0},null,null,null,null,null,null,null,null,null,null,null,null,null,null,null,null,null,null,null,null,null,1,1]
[16,"950 99-0025.ONS","Ostatní činnosti nutné ke zdárnému provedení díla, které jsou vymezeny zejména v technické specifikaci stavby","soubor",1,null,0,null,null,null,null,null,20000]
[]
[null,"ONS Celkem",null,null,null,null,{"$f":"SUM(G8:G23)","v":0}]